Workbook

Sheet Арт-Этюд
A1: Согласовано | F1: ООО "Комфорт" | H1: Согласовано
A2: Директор ООО "Комфорт" | F2: Гимназия Арт-Этюд | H2: Директор
A3: Поматилов С. С. | F3: Меню на 2 октября 2026 года* | H3: Семёнова А.А.
A4: Пищевые вещества | D4: Ккал | E4: № ТТК | F4: Наименование блюд | G4: Выход по реестру, г | H4: Выход, г | I4: Цена, руб | J4: Раздел
A5: Белки | B5: Жиры | C5: Углеводы
A6: Комплекс №1 Завтрак 1-4 классы
A7: 5.13 | B7: 6.15 | C7: 19.7 | D7: 213 | E7: 1/57 | F7: Бутерброд с сыром и маслом сливочным на батоне витаминизированном 20/10/10 г | G7: =IFERROR(VLOOKUP(F7,[1]Реестр!A:K,2,0),"") | H7: 40 | I7: 49.55
A8: 9.78 | B8: 10.9 | C8: 31.2 | D8: 169.5 | E8: 2/57 | F8: Каша ячневая молочная с маслом сливочным | G8: =IFERROR(VLOOKUP(F8,[1]Реестр!A:K,2,0),"") | H8: 210 | I8: 51.38
A9: 0 | B9: 0 | C9: 1.2 | D9: 36.144008 | E9: 12/8 | F9: Соус из голубики | G9: =IFERROR(VLOOKUP(F9,[1]Реестр!A:K,2,0),"") | H9: 30 | I9: 24.59
A10: 3.64 | B10: 2.73 | C10: 24.19 | D10: 129.56905 | E10: 11/59 | F10: Кофейный напиток | G10: =IFERROR(VLOOKUP(F10,[1]Реестр!A:K,2,0),"") -> 200 | H10: 200 | I10: 22.2
A11: 1.3 | B11: 0.2 | C11: 6.7 | D11: 39 | E11: - | F11: Хлеб ржаной | G11: =IFERROR(VLOOKUP(F11,[1]Реестр!A:K,2,0),"") | H11: 20 | I11: 1.8
A12: Итого за Комплекс | I12: =SUBTOTAL(9,I7:I11) -> 149.52 | K12: 108.64 | L12: =K12-I12 -> -40.88
A13: Комплекс №2 Комплекс за родительскую плату 1-4 классы
A14: 1.33 | B14: 5.12 | C14: 4.1 | D14: 73.52 | E14: 7/13 | F14: Салат из белокочанной капусты с кукурузой и растительным маслом | G14: =IFERROR(VLOOKUP(F14,[2]Реестр!A:K,2,0),"") | H14: 80 | I14: 41.6
A15: 4.11 | B15: 4.77 | C15: 19.5 | D15: 143.13 | E15: 6/65 | F15: Суп-пюре из разных овощей с гренками | G15: =IFERROR(VLOOKUP(F15,[2]Реестр!A:K,2,0),"") | H15: 250 | I15: 50
A16: 15.55 | B16: 15.4 | C16: 57.1 | D16: 364.2 | E16: 9/17 | F16: Плов из птицы (филе бедра куриного) с куркумой | G16: =IFERROR(VLOOKUP(F16,[2]Реестр!A:K,2,0),"") | H16: 200 | I16: 112.67
A17: 0.18 | B17: 0.05 | C17: 0.32 | D17: 37.582528 | E17: 11/7 | F17: Напиток из вишни | G17: =IFERROR(VLOOKUP(F17,[2]Реестр!A:K,2,0),"") -> 200 | H17: 200 | I17: 12.8
A18: 3.3 | B18: 0.3 | C18: 23.4 | D18: 112 | E18: - | F18: Хлеб пшеничный витаминизированный | G18: =IFERROR(VLOOKUP(F18,[2]Реестр!A:K,2,0),"") | H18: 40 | I18: 3.6
A19: 2 | B19: 0.4 | C19: 10 | D19: 58 | E19: - | F19: Хлеб ржаной | G19: =IFERROR(VLOOKUP(F19,[2]Реестр!A:K,2,0),"") | H19: 40 | I19: 3.6
G20: 40
A21: Итого за Комплекс | I21: =SUBTOTAL(9,I14:I20) -> 224.27 | K21: 162.95 | L21: =K21-I21 -> -61.32
A22: Комплекс №3 Завтрак 5-11 классы
A23: 4.98 | B23: 6.4 | C23: 10.28 | D23: 166.36 | E23: 1/57 | F23: Бутерброд с сыром и маслом на батоне витаминизированном 20/15/15 г | G23: =IFERROR(VLOOKUP(F23,[1]Реестр!A:K,2,0),"") | H23: 50 | I23: 57.18
A24: 14.36 | B24: 10.5 | C24: 50.3 | D24: 326.4 | E24: 2/57 | F24: Каша ячневая молочная с маслом сливочным | G24: =IFERROR(VLOOKUP(F24,[1]Реестр!A:K,2,0),"") | H24: 250 | I24: 61.17
A25: 3.58 | B25: 5.8 | C25: 1.3 | D25: 36.2 | E25: 12/8 | F25: Соус из голубики | G25: =IFERROR(VLOOKUP(F25,[1]Реестр!A:K,2,0),"") | H25: 40 | I25: 32.79
A26: 2.64 | B26: 0.48 | C26: 16.68 | D26: 77.352 | E26: 11/59 | F26: Кофейный напиток | G26: =IFERROR(VLOOKUP(F26,[1]Реестр!A:K,2,0),"") -> 200 | H26: 200 | I26: 22.2
A27: 2.64 | B27: 0.48 | C27: 16.68 | D27: 77.352 | E27: - | F27: Хлеб ржаной | G27: =IFERROR(VLOOKUP(F27,[1]Реестр!A:K,2,0),"") | H27: 40 | I27: 3.6
A30: Итого за Комплекс | I30: =SUBTOTAL(9,I23:I29) -> 176.94 | K30: 176.94 | L30: =K30-I30 -> 0
A31: Комплекс №4 Комплекс за родительскую плату 5-11 классы
A32: 2.3 | B32: 6.01 | C32: 4.01 | D32: 72.147796 | E32: 7/13 | F32: Салат из белокочанной капусты с кукурузой и растительным маслом | G32: =IFERROR(VLOOKUP(F32,[2]Реестр!A:K,2,0),"") | H32: 100 | I32: 52.76 | N32: =M32-I39 -> -265.4
A33: 4.11 | B33: 4.77 | C33: 26.5 | D33: 213.5 | E33: 6/65 | F33: Суп-пюре из разных овощей с гренками | G33: =IFERROR(VLOOKUP(F33,[2]Реестр!A:K,2,0),"") | H33: 250 | I33: 50
A34: 17.5 | B34: 15.6 | C34: 42.3 | D34: 265.7 | E34: 9/17 | F34: Плов из птицы (филе бедра куриного) с куркумой | G34: =IFERROR(VLOOKUP(F34,[2]Реестр!A:K,2,0),"") | H34: 250 | I34: 140.84
A35: 3.94 | B35: 5.11 | C35: 27.5 | D35: 170.19545 | E35: 11/7 | F35: Напиток из вишни | G35: =IFERROR(VLOOKUP(F35,[2]Реестр!A:K,2,0),"") -> 200 | H35: 200 | I35: 12.8
A36: 0.14 | B36: 0.1 | C36: 1.5 | D36: 83.96262 | E36: - | F36: Хлеб пшеничный витаминизированный | G36: =IFERROR(VLOOKUP(F36,[2]Реестр!A:K,2,0),"") | H36: 50 | I36: 4.5
A37: 3.3 | B37: 0.3 | C37: 23.4 | D37: 112 | E37: - | F37: Хлеб ржаной | G37: =IFERROR(VLOOKUP(F37,[2]Реестр!A:K,2,0),"") | H37: 50 | I37: 4.5
G38: =IFERROR(VLOOKUP(F38,Реестр!A:K,2,0),"")
A39: Итого за Комплекс | I39: =SUBTOTAL(9,I32:I38) -> 265.4 | L39: =K38-I39 -> -265.4
A40: Комплекс №5 Двухразовое питание 5-11 классы
A41: Завтрак
A42: 4.98 | B42: 6.4 | C42: 10.28 | D42: 166.36 | E42: 1/57 | F42: Бутерброд с сыром и маслом на батоне витаминизированном 20/15/15 г | G42: =IFERROR(VLOOKUP(F42,[1]Реестр!A:K,2,0),"") | H42: 50 | I42: 57.18 | J42: бутер
...

Sheet 16
A1: Согласовано | F1: ООО "Комфорт" | H1: Согласовано
A2: Директор ООО "Комфорт" | F2: МАОУ СОШ № 16 | H2: Директор МАОУ СОШ № 16
A3: Поматилов С. С. | F3: Меню на 16 января 2026 года* | H3: Тимошкина А.С.
A4: Пищевые вещества | D4: Ккал | E4: № ТТК | F4: Наименование блюд | G4: Выход по реестру, г | H4: Выход, г | I4: Цена, руб | J4: Раздел
A5: Белки | B5: Жиры | C5: Углеводы
A6: Комплекс №1 1-4 классы 1 смена
A7: =IFERROR(VLOOKUP(F7,[1]Реестр!A:K,3,0)*H7/G7,"") -> 3.84 | B7: =IFERROR(VLOOKUP(F7,[1]Реестр!A:K,4,0)*H7/G7,"") -> 10.1 | C7: =IFERROR(VLOOKUP(F7,[1]Реестр!A:K,5,0)*H7/G7,"") -> 9.77 | D7: =IFERROR(VLOOKUP(F7,[1]Реестр!A:K,6,0)*H7/G7,"") -> 145.383 | E7: =IFERROR(VLOOKUP(F7,[1]Реестр!A:K,11,0),"") -> 1*57 | F7: Бутерброд с сыром и маслом 20/10/10 | G7: =IFERROR(VLOOKUP(F7,[1]Реестр!A:K,2,0),"") -> 40 | H7: 40 | I7: 49.55 | J7: =IFERROR(VLOOKUP(O7,Реестр!#REF!,3,0)*Q7/P7,"")
A8: 9.75 | B8: 12.14 | C8: 36.06 | D8: 291.64 | E8: ="2/57" -> 2/57 | F8: Каша ячневая молочная с маслом сливочным | G8: =IFERROR(VLOOKUP(F8,[1]Реестр!A:K,2,0),"") | H8: 210 | I8: 51.38 | J8: =IFERROR(VLOOKUP(O8,Реестр!#REF!,3,0)*Q8/P8,"")
A9: =IFERROR(VLOOKUP(F9,[1]Реестр!A:K,3,0)*H9/G9,"") -> 0.15 | B9: =IFERROR(VLOOKUP(F9,[1]Реестр!A:K,4,0)*H9/G9,"") -> 0.09 | C9: =IFERROR(VLOOKUP(F9,[1]Реестр!A:K,5,0)*H9/G9,"") -> 8.58 | D9: =IFERROR(VLOOKUP(F9,[1]Реестр!A:K,6,0)*H9/G9,"") -> 34.8 | E9: =IFERROR(VLOOKUP(F9,[1]Реестр!A:K,11,0),"") -> 12*2 | F9: Соус из малины | G9: =IFERROR(VLOOKUP(F9,[1]Реестр!A:K,2,0),"") -> 100 | H9: 30 | I9: 24.59 | J9: =IFERROR(VLOOKUP(O9,Реестр!#REF!,3,0)*Q9/P9,"")
A10: =IFERROR(VLOOKUP(F10,[1]Реестр!A:K,3,0)*H10/G10,"") -> 1.4 | B10: =IFERROR(VLOOKUP(F10,[1]Реестр!A:K,4,0)*H10/G10,"") -> 1.1 | C10: =IFERROR(VLOOKUP(F10,[1]Реестр!A:K,5,0)*H10/G10,"") -> 16.6 | D10: =IFERROR(VLOOKUP(F10,[1]Реестр!A:K,6,0)*H10/G10,"") -> 79 | E10: ="11/59" -> 11/59 | F10: Кофейный напиток | G10: =IFERROR(VLOOKUP(F10,[1]Реестр!A:K,2,0),"") -> 200 | H10: 200 | I10: 22.2 | J10: =IFERROR(VLOOKUP(O10,Реестр!#REF!,3,0)*Q10/P10,"")
A11: =IFERROR(VLOOKUP(F11,[1]Реестр!A:K,3,0)*H11/G11,"") -> 1.32 | B11: =IFERROR(VLOOKUP(F11,[1]Реестр!A:K,4,0)*H11/G11,"") -> 0.24 | C11: =IFERROR(VLOOKUP(F11,[1]Реестр!A:K,5,0)*H11/G11,"") -> 6.68 | D11: =IFERROR(VLOOKUP(F11,[1]Реестр!A:K,6,0)*H11/G11,"") -> 38.6 | E11: =IFERROR(VLOOKUP(F11,[1]Реестр!A:K,11,0),"") -> - | F11: Хлеб вит. ржаной | G11: =IFERROR(VLOOKUP(F11,[1]Реестр!A:K,2,0),"") -> 100 | H11: 20 | I11: 1.8
A12: Итого за Комплекс | I12: =SUM(I7:I11) -> 149.52 | J12: 149.52 | K12: =I12-J12 -> 0
A13: Комплекс №1 1-4 классы 2 смена
A14: 1.03 | B14: 4.77 | C14: 6.38 | D14: 68.99 | E14: ="7/80" -> 7/80 | F14: Салат из отварной свеклы с соленым огурцом и куриным яйцом | G14: =IFERROR(VLOOKUP(F14,[2]Реестр!A:K,2,0),"") | H14: 80 | I14: 41.6 | J14: =IFERROR(VLOOKUP(O14,Реестр!#REF!,3,0)*Q14/P14,"")
A15: 5.55 | B15: 7.8 | C15: 15.95 | D15: 199.78905 | E15: ="6/70" -> 6/70 | F15: Рассольник Ленинградский со сметаной | G15: =IFERROR(VLOOKUP(F15,[2]Реестр!A:K,2,0),"") -> 300 | H15: 250 | I15: 50 | J15: =IFERROR(VLOOKUP(O15,Реестр!#REF!,3,0)*Q15/P15,"")
A16: 16.58 | B16: 19.5 | C16: 68.38 | D16: 327.07 | E16: ="8/35" -> 8/35 | F16: Жаркое по-домашнему со свининой | G16: =IFERROR(VLOOKUP(F16,[2]Реестр!A:K,2,0),"") | H16: 200 | I16: 112.67 | J16: =IFERROR(VLOOKUP(O16,Реестр!#REF!,3,0)*Q16/P16,"")
A17: 0.14 | B17: 0.1 | C17: 1.5 | D17: 83.96262 | E17: ="11/1" -> 11/1 | F17: Напиток ассорти из красных ягод | G17: =IFERROR(VLOOKUP(F17,[2]Реестр!A:K,2,0),"") -> 200 | H17: 200 | I17: 12.8
A18: 2.64 | B18: 0.24 | C18: 18.72 | D18: 89.6 | E18: - | F18: Хлеб вит. пшеничный | G18: =IFERROR(VLOOKUP(F18,[2]Реестр!A:K,2,0),"") -> 100 | H18: 40 | I18: 3.6 | J18: =IFERROR(VLOOKUP(O18,Реестр!#REF!,3,0)*Q18/P18,"")
A19: 2.64 | B19: 0.48 | C19: 13.36 | D19: 77.2 | E19: - | F19: Хлеб вит. ржаной | G19: =IFERROR(VLOOKUP(F19,[2]Реестр!A:K,2,0),"") -> 100 | H19: 40 | I19: 3.6 | J19: =IFERROR(VLOOKUP(O19,Реестр!#REF!,3,0)*Q19/P19,"")
A21: Итого за Комплекс | I21: =SUM(I14:I20) -> 224.27 | J21: 224.27 | K21: =J21-I21 -> 0
A22: Комплекс №2 5-11 классы 1 смена
A23: 0.24 | B23: 0.03 | C23: 0.74 | D23: 4.2 | E23: ="7/10" -> 7/10 | F23: Кукуруза консервированная | G23: =IFERROR(VLOOKUP(F23,[1]Реестр!A:K,2,0),"") | H23: 30 | I23: 16.1
A24: 19.44 | B24: 21.37 | C24: 55.36 | D24: 508.5 | E24: ="8/35" -> 8/35 | F24: Жаркое по-домашнему со свининой | G24: =IFERROR(VLOOKUP(F24,[2]Реестр!A:K,2,0),"") | H24: 250 | I24: 140.84 | J24: =IFERROR(VLOOKUP(O24,Реестр!#REF!,3,0)*Q24/P24,"")
A25: 0.14 | B25: 0.1 | C25: 1.5 | D25: 83.96262 | E25: ="11/1" -> 11/1 | F25: Напиток ассорти из красных ягод | G25: =IFERROR(VLOOKUP(F25,[2]Реестр!A:K,2,0),"") -> 200 | H25: 200 | I25: 12.8
A26: 2.64 | B26: 0.24 | C26: 18.72 | D26: 89.6 | E26: - | F26: Хлеб вит. пшеничный | G26: =IFERROR(VLOOKUP(F26,[2]Реестр!A:K,2,0),"") -> 100 | H26: 40 | I26: 3.6 | J26: =IFERROR(VLOOKUP(O26,Реестр!#REF!,3,0)*Q26/P26,"")
A27: 2.64 | B27: 0.48 | C27: 13.36 | D27: 77.2 | E27: - | F27: Хлеб вит. ржаной | G27: =IFERROR(VLOOKUP(F27,[2]Реестр!A:K,2,0),"") -> 100 | H27: 40 | I27: 3.6
A29: Итого за Комплекс | I29: =SUM(I23:I28) -> 176.94 | J29: 176.94 | K29: =I29-J29 -> 0
A30: Комплекс №2 5-11 классы 2 смена
A31: 1.29 | B31: 5.97 | C31: 7.97 | D31: 86.23 | E31: ="7/80" -> 7/80 | F31: Салат из отварной свеклы с сол. огурцом и куриным яйцом | G31: =IFERROR(VLOOKUP(F31,[2]Реестр!A:K,2,0),"") | H31: 100 | I31: 52.76
A32: 12.44 | B32: 7.77 | C32: 25.16 | D32: 208 | E32: ="6/70" -> 6/70 | F32: Рассольник Ленинградский со сметаной | G32: =IFERROR(VLOOKUP(F32,[2]Реестр!A:K,2,0),"") -> 300 | H32: 250 | I32: 50 | K32: =I38-J32 -> 265.4
A33: 19.44 | B33: 21.37 | C33: 55.36 | D33: 508.5 | E33: ="8/35" -> 8/35 | F33: Жаркое по-домашнему со свининой | G33: =IFERROR(VLOOKUP(F33,[2]Реестр!A:K,2,0),"") | H33: 250 | I33: 140.84
A34: 0.14 | B34: 0.1 | C34: 1.5 | D34: 83.96262 | E34: ="11/1" -> 11/1 | F34: Напиток ассорти из красных ягод | G34: =IFERROR(VLOOKUP(F34,[2]Реестр!A:K,2,0),"") -> 200 | H34: 200 | I34: 12.8
A35: 3.3 | B35: 0.3 | C35: 23.4 | D35: 112 | E35: - | F35: Хлеб вит. пшеничный | G35: =IFERROR(VLOOKUP(F35,[2]Реестр!A:K,2,0),"") -> 100 | H35: 50 | I35: 4.5
A36: 3.3 | B36: 0.6 | C36: 16.7 | D36: 96.5 | E36: - | F36: Хлеб вит. ржаной | G36: =IFERROR(VLOOKUP(F36,[2]Реестр!A:K,2,0),"") -> 100 | H36: 50 | I36: 4.5
A38: Итого за Комплекс | I38: =SUM(I31:I37) -> 265.4 | J38: 265.4 | K38: =I38-J38 -> 0
A39: Комплекс №3 Двухразовое питание 1-4 классы
A40: Завтрак
A41: =IFERROR(VLOOKUP(F41,[1]Реестр!A:K,3,0)*H41/G41,"") -> 3.84 | B41: =IFERROR(VLOOKUP(F41,[1]Реестр!A:K,4,0)*H41/G41,"") -> 10.1 | C41: =IFERROR(VLOOKUP(F41,[1]Реестр!A:K,5,0)*H41/G41,"") -> 9.77 | D41: =IFERROR(VLOOKUP(F41,[1]Реестр!A:K,6,0)*H41/G41,"") -> 145.383 | E41: =IFERROR(VLOOKUP(F41,[1]Реестр!A:K,11,0),"") -> 1*57 | F41: Бутерброд с сыром и маслом 20/10/10 | G41: =IFERROR(VLOOKUP(F41,[1]Реестр!A:K,2,0),"") -> 40 | H41: 40 | I41: 49.55 | J41: бутер
A42: 9.75 | B42: 12.14 | C42: 36.06 | D42: 291.64 | E42: ="2/57" -> 2/57 | F42: Каша ячневая молочная с маслом сливочным | G42: =IFERROR(VLOOKUP(F42,[1]Реестр!A:K,2,0),"") | H42: 210 | I42: 51.38 | J42: горячее
A43: =IFERROR(VLOOKUP(F43,[1]Реестр!A:K,3,0)*H43/G43,"") -> 0.15 | B43: =IFERROR(VLOOKUP(F43,[1]Реестр!A:K,4,0)*H43/G43,"") -> 0.09 | C43: =IFERROR(VLOOKUP(F43,[1]Реестр!A:K,5,0)*H43/G43,"") -> 8.58 | D43: =IFERROR(VLOOKUP(F43,[1]Реестр!A:K,6,0)*H43/G43,"") -> 34.8 | E43: =IFERROR(VLOOKUP(F43,[1]Реестр!A:K,11,0),"") -> 12*2 | F43: Соус из малины | G43: =IFERROR(VLOOKUP(F43,[1]Реестр!A:K,2,0),"") -> 100 | H43: 30 | I43: 24.59 | J43: соус/повидло
...

Sheet 1 Мл
A1: Школа | B1: 1 | E1: Отд./корп | I1: День | J1: ='16 Мл'!J1 -> 45327
A3: Прием пищи | B3: Раздел | C3: № рец. | D3: Блюдо | E3: Выход, г | F3: Цена | G3: Калорийность | H3: Белки | I3: Жиры | J3: Углеводы
A4: Завтрак | B4: гор.блюдо | C4: =#REF! -> #REF! | D4: =#REF! -> #REF! | E4: =#REF! -> #REF! | F4: =#REF! -> #REF! | G4: =#REF! -> #REF! | H4: =#REF! -> #REF! | I4: =#REF! -> #REF! | J4: =#REF! -> #REF!
B5: гор.напиток | C5: =#REF! -> #REF! | D5: =#REF! -> #REF! | E5: =#REF! -> #REF! | F5: =#REF! -> #REF! | G5: =#REF! -> #REF! | H5: =#REF! -> #REF! | I5: =#REF! -> #REF! | J5: =#REF! -> #REF!
B6: хлеб | C6: =#REF! -> #REF! | D6: =#REF! -> #REF! | E6: =#REF! -> #REF! | F6: =#REF! -> #REF! | G6: =#REF! -> #REF! | H6: =#REF! -> #REF! | I6: =#REF! -> #REF! | J6: =#REF! -> #REF!
C7: =#REF! -> #REF! | D7: =#REF! -> #REF! | E7: =#REF! -> #REF! | F7: =#REF! -> #REF! | G7: =#REF! -> #REF! | H7: =#REF! -> #REF! | I7: =#REF! -> #REF! | J7: =#REF! -> #REF!
C8: =#REF! -> #REF! | D8: =#REF! -> #REF! | E8: =#REF! -> #REF! | F8: =#REF! -> #REF! | G8: =#REF! -> #REF! | H8: =#REF! -> #REF! | I8: =#REF! -> #REF! | J8: =#REF! -> #REF!
A9: Завтрак 2 | B9: фрукты
A12: Обед | B12: закуска | C12: =#REF! -> #REF! | D12: =#REF! -> #REF! | E12: =#REF! -> #REF! | F12: =#REF! -> #REF! | G12: =#REF! -> #REF! | H12: =#REF! -> #REF! | I12: =#REF! -> #REF! | J12: =#REF! -> #REF!
B13: 1 блюдо | C13: =#REF! -> #REF! | D13: =#REF! -> #REF! | E13: =#REF! -> #REF! | F13: =#REF! -> #REF! | G13: =#REF! -> #REF! | H13: =#REF! -> #REF! | I13: =#REF! -> #REF! | J13: =#REF! -> #REF!
B14: 2 блюдо | C14: =#REF! -> #REF! | D14: =#REF! -> #REF! | E14: =#REF! -> #REF! | F14: =#REF! -> #REF! | G14: =#REF! -> #REF! | H14: =#REF! -> #REF! | I14: =#REF! -> #REF! | J14: =#REF! -> #REF!
B15: гарнир | C15: =#REF! -> #REF! | D15: =#REF! -> #REF! | E15: =#REF! -> #REF! | F15: =#REF! -> #REF! | G15: =#REF! -> #REF! | H15: =#REF! -> #REF! | I15: =#REF! -> #REF! | J15: =#REF! -> #REF!
B16: сладкое | C16: =#REF! -> #REF! | D16: =#REF! -> #REF! | E16: =#REF! -> #REF! | F16: =#REF! -> #REF! | G16: =#REF! -> #REF! | H16: =#REF! -> #REF! | I16: =#REF! -> #REF! | J16: =#REF! -> #REF!
B17: хлеб бел. | C17: =#REF! -> #REF! | D17: =#REF! -> #REF! | E17: =#REF! -> #REF! | F17: =#REF! -> #REF! | G17: =#REF! -> #REF! | H17: =#REF! -> #REF! | I17: =#REF! -> #REF! | J17: =#REF! -> #REF!
B18: хлеб черн. | C18: =#REF! -> #REF! | D18: =#REF! -> #REF! | E18: =#REF! -> #REF! | F18: =#REF! -> #REF! | G18: =#REF! -> #REF! | H18: =#REF! -> #REF! | I18: =#REF! -> #REF! | J18: =#REF! -> #REF!
C19: =#REF! -> #REF! | D19: =#REF! -> #REF! | E19: =#REF! -> #REF! | F19: =#REF! -> #REF! | G19: =#REF! -> #REF! | H19: =#REF! -> #REF! | I19: =#REF! -> #REF! | J19: =#REF! -> #REF!
C20: =#REF! -> #REF! | D20: =#REF! -> #REF! | E20: =#REF! -> #REF! | F20: =#REF! -> #REF! | G20: =#REF! -> #REF! | H20: =#REF! -> #REF! | I20: =#REF! -> #REF! | J20: =#REF! -> #REF!

Sheet 1 Ст
A1: Школа | B1: 1 | E1: Отд./корп | I1: День | J1: ='16 Мл'!J1 -> 45327
A3: Прием пищи | B3: Раздел | C3: № рец. | D3: Блюдо | E3: Выход, г | F3: Цена | G3: Калорийность | H3: Белки | I3: Жиры | J3: Углеводы
A4: Завтрак | B4: гор.блюдо | C4: =#REF! -> #REF! | D4: =#REF! -> #REF! | E4: =#REF! -> #REF! | F4: =#REF! -> #REF! | G4: =#REF! -> #REF! | H4: =#REF! -> #REF! | I4: =#REF! -> #REF! | J4: =#REF! -> #REF!
B5: гор.напиток | C5: =#REF! -> #REF! | D5: =#REF! -> #REF! | E5: =#REF! -> #REF! | F5: =#REF! -> #REF! | G5: =#REF! -> #REF! | H5: =#REF! -> #REF! | I5: =#REF! -> #REF! | J5: =#REF! -> #REF!
B6: хлеб | C6: =#REF! -> #REF! | D6: =#REF! -> #REF! | E6: =#REF! -> #REF! | F6: =#REF! -> #REF! | G6: =#REF! -> #REF! | H6: =#REF! -> #REF! | I6: =#REF! -> #REF! | J6: =#REF! -> #REF!
C7: =#REF! -> #REF! | D7: =#REF! -> #REF! | E7: =#REF! -> #REF! | F7: =#REF! -> #REF! | G7: =#REF! -> #REF! | H7: =#REF! -> #REF! | I7: =#REF! -> #REF! | J7: =#REF! -> #REF!
C8: =#REF! -> #REF! | D8: =#REF! -> #REF! | E8: =#REF! -> #REF! | F8: =#REF! -> #REF! | G8: =#REF! -> #REF! | H8: =#REF! -> #REF! | I8: =#REF! -> #REF! | J8: =#REF! -> #REF!
A9: Завтрак 2 | B9: фрукты
A12: Обед | B12: закуска | C12: =#REF! -> #REF! | D12: =#REF! -> #REF! | E12: =#REF! -> #REF! | F12: =#REF! -> #REF! | G12: =#REF! -> #REF! | H12: =#REF! -> #REF! | I12: =#REF! -> #REF! | J12: =#REF! -> #REF!
B13: 1 блюдо | C13: =#REF! -> #REF! | D13: =#REF! -> #REF! | E13: =#REF! -> #REF! | F13: =#REF! -> #REF! | G13: =#REF! -> #REF! | H13: =#REF! -> #REF! | I13: =#REF! -> #REF! | J13: =#REF! -> #REF!
B14: 2 блюдо | C14: =#REF! -> #REF! | D14: =#REF! -> #REF! | E14: =#REF! -> #REF! | F14: =#REF! -> #REF! | G14: =#REF! -> #REF! | H14: =#REF! -> #REF! | I14: =#REF! -> #REF! | J14: =#REF! -> #REF!
B15: гарнир | C15: =#REF! -> #REF! | D15: =#REF! -> #REF! | E15: =#REF! -> #REF! | F15: =#REF! -> #REF! | G15: =#REF! -> #REF! | H15: =#REF! -> #REF! | I15: =#REF! -> #REF! | J15: =#REF! -> #REF!
B16: сладкое | C16: =#REF! -> #REF! | D16: =#REF! -> #REF! | E16: =#REF! -> #REF! | F16: =#REF! -> #REF! | G16: =#REF! -> #REF! | H16: =#REF! -> #REF! | I16: =#REF! -> #REF! | J16: =#REF! -> #REF!
B17: хлеб бел. | C17: =#REF! -> #REF! | D17: =#REF! -> #REF! | E17: =#REF! -> #REF! | F17: =#REF! -> #REF! | G17: =#REF! -> #REF! | H17: =#REF! -> #REF! | I17: =#REF! -> #REF! | J17: =#REF! -> #REF!
B18: хлеб черн. | C18: =#REF! -> #REF! | D18: =#REF! -> #REF! | E18: =#REF! -> #REF! | F18: =#REF! -> #REF! | G18: =#REF! -> #REF! | H18: =#REF! -> #REF! | I18: =#REF! -> #REF! | J18: =#REF! -> #REF!
C19: =#REF! -> #REF! | D19: =#REF! -> #REF! | E19: =#REF! -> #REF! | F19: =#REF! -> #REF! | G19: =#REF! -> #REF! | H19: =#REF! -> #REF! | I19: =#REF! -> #REF! | J19: =#REF! -> #REF!
C20: =#REF! -> #REF! | D20: =#REF! -> #REF! | E20: =#REF! -> #REF! | F20: =#REF! -> #REF! | G20: =#REF! -> #REF! | H20: =#REF! -> #REF! | I20: =#REF! -> #REF! | J20: =#REF! -> #REF!

Sheet 17
A1: Согласовано | F1: ООО "Комфорт" | H1: Согласовано
A2: Директор ООО "Комфорт" | F2: МАОУ СОШ № 17 | H2: Директор МАОУ СОШ № 17
A3: Поматилов С. С. | F3: Меню на 2 октября 2026 года* | H3: Нестерова Л.А.
A4: Пищевые вещества | D4: Ккал | E4: № ТТК | F4: Наименование блюд | G4: Выход по реестру, г | H4: Выход, г | I4: Цена, руб | J4: Раздел
A5: Белки | B5: Жиры | C5: Углеводы
A6: Комплекс №1 1-4 классы 1 смена
A7: 4.23 | B7: 4.96 | C7: 38.7 | D7: 228.9 | E7: ="1/50" -> 1/50 | F7: Бутерброд с маслом 20/10 г (батон витаминизированный) | G7: =IFERROR(VLOOKUP(F7,[1]Реестр!A:K,2,0),"") | H7: 30 | I7: 38.37 | J7: =IFERROR(VLOOKUP(O7,Реестр!#REF!,3,0)*Q7/P7,"")
A8: 13.79 | B8: 14.6 | C8: 23.4 | D8: 266.7 | E8: ="4/56" -> 4/56 | F8: Омлет натуральный с маслом сливочным | H8: 150 | I8: 75.42 | J8: =IFERROR(VLOOKUP(O8,Реестр!#REF!,3,0)*Q8/P8,"")
A9: 0.18 | B9: 0.04 | C9: 13.75 | D9: 53.136643 | E9: ="11/56" -> 11/56 | F9: Чай "Каркаде" с сахаром | H9: 200 | I9: 8.15 | J9: =IFERROR(VLOOKUP(O9,Реестр!#REF!,3,0)*Q9/P9,"")
A10: 1.3 | B10: 0.2 | C10: 6.7 | D10: 39 | E10: ="-" -> - | F10: Хлеб ржаной | H10: 20 | I10: 1.8 | J10: =IFERROR(VLOOKUP(O10,Реестр!#REF!,3,0)*Q10/P10,"")
A11: 0.52 | B11: 0.52 | C11: 15.08 | D11: 63.284 | E11: ="-" -> - | F11: Фрукт свежий | H11: 130 | I11: 25.78
A12: Итого за Комплекс | I12: =SUM(I7:I11) -> 149.52 | J12: 149.52 | K12: =I12-J12 -> 0
A13: Комплекс №1 1-4 классы 2 смена | N13: Напиток из вишни
A14: 1.33 | B14: 5.12 | C14: 4.1 | D14: 73.52 | E14: 7/13 | F14: Салат из белокочанной капусты с кукурузой и растительным маслом | G14: =IFERROR(VLOOKUP(F14,[2]Реестр!A:K,2,0),"") | H14: 80 | I14: 44.94 | J14: =IFERROR(VLOOKUP(O14,Реестр!#REF!,3,0)*Q14/P14,"")
A15: 4.11 | B15: 4.77 | C15: 19.5 | D15: 143.13 | E15: 6/65 | F15: Суп-пюре из разных овощей с гренками | G15: =IFERROR(VLOOKUP(F15,[2]Реестр!A:K,2,0),"") | H15: 250 | I15: 50 | J15: =IFERROR(VLOOKUP(O15,Реестр!#REF!,3,0)*Q15/P15,"")
A16: 15.55 | B16: 15.4 | C16: 57.1 | D16: 364.2 | E16: 9/17 | F16: Плов из птицы (филе бедра куриного) с куркумой | G16: =IFERROR(VLOOKUP(F16,[2]Реестр!A:K,2,0),"") | H16: 200 | I16: 102.59 | J16: =IFERROR(VLOOKUP(O16,Реестр!#REF!,3,0)*Q16/P16,"")
A17: 0.18 | B17: 0.05 | C17: 0.32 | D17: 37.582528 | E17: 11/7 | F17: Напиток из вишни | G17: =IFERROR(VLOOKUP(F17,[2]Реестр!A:K,2,0),"") -> 200 | H17: 200 | I17: 19.54
A18: 3.3 | B18: 0.3 | C18: 23.4 | D18: 112 | E18: - | F18: Хлеб пшеничный витаминизированный | G18: =IFERROR(VLOOKUP(F18,[2]Реестр!A:K,2,0),"") | H18: 50 | I18: 4.5 | J18: =IFERROR(VLOOKUP(O18,Реестр!#REF!,3,0)*Q18/P18,"")
A19: 2 | B19: 0.4 | C19: 10 | D19: 58 | E19: - | F19: Хлеб ржаной | G19: =IFERROR(VLOOKUP(F19,[2]Реестр!A:K,2,0),"") | H19: 30 | I19: 2.7 | J19: =IFERROR(VLOOKUP(O19,Реестр!#REF!,3,0)*Q19/P19,"")
A21: Итого за Комплекс | I21: =SUM(I14:I20) -> 224.27 | J21: 224.27 | K21: =J21-I21 -> 0
A22: Комплекс №2 5-11 классы 1 смена
A23: 0.48 | B23: 2.37 | C23: 3.09 | D23: 36.64 | E23: ="7/26" -> 7/26 | F23: Закуска витаминка (с огурцом) | G23: =IFERROR(VLOOKUP(F23,[1]Реестр!A:K,2,0),"") | H23: 30 | I23: 19.26
A24: 19.44 | B24: 19.42 | C24: 57.63 | D24: 436.2 | E24: 9/17 | F24: Плов из птицы (филе бедра куриного) с куркумой | G24: =IFERROR(VLOOKUP(F24,[2]Реестр!A:K,2,0),"") | H24: 250 | I24: 130.94 | J24: =IFERROR(VLOOKUP(O24,Реестр!#REF!,3,0)*Q24/P24,"")
A25: 0.18 | B25: 0.05 | C25: 0.32 | D25: 37.582528 | E25: 11/7 | F25: Напиток из вишни | G25: =IFERROR(VLOOKUP(F25,[2]Реестр!A:K,2,0),"") -> 200 | H25: 200 | I25: 19.54
A26: 3.3 | B26: 0.3 | C26: 23.4 | D26: 112 | E26: ="-" -> - | F26: Хлеб пшеничный витаминизированный | G26: =IFERROR(VLOOKUP(F26,[2]Реестр!A:K,2,0),"") | H26: 50 | I26: 4.5 | J26: =IFERROR(VLOOKUP(O26,Реестр!#REF!,3,0)*Q26/P26,"")
A27: 2 | B27: 0.4 | C27: 10 | D27: 58 | E27: ="-" -> - | F27: Хлеб ржаной | G27: =IFERROR(VLOOKUP(F27,[2]Реестр!A:K,2,0),"") | H27: 30 | I27: 2.7
J28: =IFERROR(VLOOKUP(O28,Реестр!#REF!,3,0)*Q28/P28,"")
A29: Итого за Комплекс | I29: =SUM(I23:I28) -> 176.94 | J29: 176.94 | K29: =I29-J29 -> 0
A30: Комплекс №2 5-11 классы 2 смена
A31: 2.3 | B31: 6.01 | C31: 4.01 | D31: 72.147796 | E31: 7/13 | F31: Салат из белокочанной капусты с кукурузой и растительным маслом | G31: =IFERROR(VLOOKUP(F31,[2]Реестр!A:K,2,0),"") | H31: 100 | I31: 56.17
A32: 4.11 | B32: 4.77 | C32: 26.5 | D32: 213.5 | E32: 6/65 | F32: Суп-пюре из разных овощей с гренками | G32: =IFERROR(VLOOKUP(F32,[2]Реестр!A:K,2,0),"") | H32: 250 | I32: 50 | K32: =I38-J32 -> 265.4
A33: 17.5 | B33: 15.6 | C33: 42.3 | D33: 265.7 | E33: 9/17 | F33: Плов из птицы (филе бедра куриного) с куркумой | G33: =IFERROR(VLOOKUP(F33,[2]Реестр!A:K,2,0),"") | H33: 250 | I33: 130.94
A34: 3.94 | B34: 5.11 | C34: 27.5 | D34: 170.19545 | E34: 11/7 | F34: Напиток из вишни | G34: =IFERROR(VLOOKUP(F34,[2]Реестр!A:K,2,0),"") -> 200 | H34: 200 | I34: 19.54
A35: 0.14 | B35: 0.1 | C35: 1.5 | D35: 83.96262 | E35: - | F35: Хлеб пшеничный витаминизированный | G35: =IFERROR(VLOOKUP(F35,[2]Реестр!A:K,2,0),"") | H35: 50 | I35: 4.5
A36: 3.3 | B36: 0.3 | C36: 23.4 | D36: 112 | E36: - | F36: Хлеб ржаной | G36: =IFERROR(VLOOKUP(F36,[2]Реестр!A:K,2,0),"") | H36: 50 | I36: 4.25
A38: Итого за Комплекс | I38: =SUM(I31:I37) -> 265.4 | J38: 265.4 | K38: =I38-J38 -> 0
A39: Комплекс №3 Двухразовое питание 1-4 классы
A40: Завтрак
A41: 4.23 | B41: 4.96 | C41: 38.7 | D41: 228.9 | E41: ="1/50" -> 1/50 | F41: Бутерброд с маслом 20/10 г (батон витаминизированный) | G41: =IFERROR(VLOOKUP(F41,[1]Реестр!A:K,2,0),"") | H41: 30 | I41: 38.37 | J41: бутер
A42: 13.79 | B42: 14.6 | C42: 23.4 | D42: 266.7 | E42: ="4/56" -> 4/56 | F42: Омлет натуральный с маслом сливочным | H42: 150 | I42: 75.42 | J42: горячее
...

Sheet 19
A1: Согласовано | F1: ООО "Комфорт" | H1: Согласовано
A2: Директор ООО "Комфорт" | F2: МАОУ СОШ № 19 | H2: Директор МАОУ СОШ № 19
A3: Поматилов С. С. | F3: Меню на 2 октября 2026 года* | H3: Белова С.А.
A4: Пищевые вещества | D4: Ккал | E4: № ТТК | F4: Наименование блюд | G4: Выход по реестру, г | H4: Выход, г | I4: Цена, руб | J4: Раздел
A5: Белки | B5: Жиры | C5: Углеводы
A6: Комплекс №1 1-4 классы 1 смена
A7: 4.23 | B7: 4.96 | C7: 38.7 | D7: 228.9 | E7: ="1/50" -> 1/50 | F7: Бутерброд с маслом 20/10 г (батон витаминизированный) | G7: =IFERROR(VLOOKUP(F7,[1]Реестр!A:K,2,0),"") | H7: 30 | I7: 38.37 | J7: =IFERROR(VLOOKUP(O7,Реестр!#REF!,3,0)*Q7/P7,"")
A8: 13.79 | B8: 14.6 | C8: 23.4 | D8: 266.7 | E8: ="4/56" -> 4/56 | F8: Омлет натуральный с маслом сливочным | H8: 150 | I8: 75.42 | J8: =IFERROR(VLOOKUP(O8,Реестр!#REF!,3,0)*Q8/P8,"")
A9: 0.18 | B9: 0.04 | C9: 13.75 | D9: 53.136643 | E9: ="11/56" -> 11/56 | F9: Чай "Каркаде" с сахаром | H9: 200 | I9: 8.15 | J9: =IFERROR(VLOOKUP(O9,Реестр!#REF!,3,0)*Q9/P9,"")
A10: 1.3 | B10: 0.2 | C10: 6.7 | D10: 39 | E10: ="-" -> - | F10: Хлеб ржаной | H10: 20 | I10: 1.8 | J10: =IFERROR(VLOOKUP(O10,Реестр!#REF!,3,0)*Q10/P10,"")
A11: 0.52 | B11: 0.52 | C11: 15.08 | D11: 63.284 | E11: ="-" -> - | F11: Фрукт свежий | H11: 130 | I11: 25.78
A12: Итого за Комплекс | I12: =SUM(I7:I11) -> 149.52 | J12: 85.2 | K12: =I12-J12 -> 64.32
A13: Комплекс №1 1-4 классы 2 смена
A14: 1.33 | B14: 5.12 | C14: 4.1 | D14: 73.52 | E14: 7/13 | F14: Салат из белокочанной капусты с кукурузой и растительным маслом | G14: =IFERROR(VLOOKUP(F14,[2]Реестр!A:K,2,0),"") | H14: 80 | I14: 44.94 | J14: =IFERROR(VLOOKUP(O14,Реестр!#REF!,3,0)*Q14/P14,"")
A15: 4.11 | B15: 4.77 | C15: 19.5 | D15: 143.13 | E15: 6/65 | F15: Суп-пюре из разных овощей с гренками | G15: =IFERROR(VLOOKUP(F15,[2]Реестр!A:K,2,0),"") | H15: 250 | I15: 50 | J15: =IFERROR(VLOOKUP(O15,Реестр!#REF!,3,0)*Q15/P15,"")
A16: 15.55 | B16: 15.4 | C16: 57.1 | D16: 364.2 | E16: 9/17 | F16: Плов из птицы (филе бедра куриного) с куркумой | G16: =IFERROR(VLOOKUP(F16,[2]Реестр!A:K,2,0),"") | H16: 200 | I16: 102.59 | J16: =IFERROR(VLOOKUP(O16,Реестр!#REF!,3,0)*Q16/P16,"")
A17: 0.18 | B17: 0.05 | C17: 0.32 | D17: 37.582528 | E17: 11/7 | F17: Напиток из вишни | G17: =IFERROR(VLOOKUP(F17,[2]Реестр!A:K,2,0),"") -> 200 | H17: 200 | I17: 19.54
A18: 3.3 | B18: 0.3 | C18: 23.4 | D18: 112 | E18: - | F18: Хлеб пшеничный витаминизированный | G18: =IFERROR(VLOOKUP(F18,[2]Реестр!A:K,2,0),"") | H18: 50 | I18: 4.5 | J18: =IFERROR(VLOOKUP(O18,Реестр!#REF!,3,0)*Q18/P18,"")
A19: 2 | B19: 0.4 | C19: 10 | D19: 58 | E19: - | F19: Хлеб ржаной | G19: =IFERROR(VLOOKUP(F19,[2]Реестр!A:K,2,0),"") | H19: 30 | I19: 2.7 | J19: =IFERROR(VLOOKUP(O19,Реестр!#REF!,3,0)*Q19/P19,"")
A21: Итого за Комплекс | I21: =SUM(I14:I20) -> 224.27 | J21: 127.79 | K21: =J21-I21 -> -96.48
A22: Комплекс №2 5-11 классы 1 смена
A23: 0.48 | B23: 2.37 | C23: 3.09 | D23: 36.64 | E23: ="7/26" -> 7/26 | F23: Закуска витаминка (с огурцом) | G23: =IFERROR(VLOOKUP(F23,[1]Реестр!A:K,2,0),"") | H23: 30 | I23: 19.26
A24: 19.44 | B24: 19.42 | C24: 57.63 | D24: 436.2 | E24: 9/17 | F24: Плов из птицы (филе бедра куриного) с куркумой | G24: =IFERROR(VLOOKUP(F24,[2]Реестр!A:K,2,0),"") | H24: 250 | I24: 130.94 | J24: =IFERROR(VLOOKUP(O24,Реестр!#REF!,3,0)*Q24/P24,"")
A25: 0.18 | B25: 0.05 | C25: 0.32 | D25: 37.582528 | E25: 11/7 | F25: Напиток из вишни | G25: =IFERROR(VLOOKUP(F25,[2]Реестр!A:K,2,0),"") -> 200 | H25: 200 | I25: 19.54
A26: 3.3 | B26: 0.3 | C26: 23.4 | D26: 112 | E26: ="-" -> - | F26: Хлеб пшеничный витаминизированный | G26: =IFERROR(VLOOKUP(F26,[2]Реестр!A:K,2,0),"") | H26: 50 | I26: 4.5 | J26: =IFERROR(VLOOKUP(O26,Реестр!#REF!,3,0)*Q26/P26,"")
A27: 2 | B27: 0.4 | C27: 10 | D27: 58 | E27: ="-" -> - | F27: Хлеб ржаной | G27: =IFERROR(VLOOKUP(F27,[2]Реестр!A:K,2,0),"") | H27: 30 | I27: 2.7
J28: =IFERROR(VLOOKUP(O28,Реестр!#REF!,3,0)*Q28/P28,"")
A29: Итого за Комплекс | I29: =SUM(I23:I28) -> 176.94 | J29: 98.52 | K29: =I29-J29 -> 78.42
A30: Комплекс №2 5-11 классы 2 смена
A31: 2.3 | B31: 6.01 | C31: 4.01 | D31: 72.147796 | E31: 7/13 | F31: Салат из белокочанной капусты с кукурузой и растительным маслом | G31: =IFERROR(VLOOKUP(F31,[2]Реестр!A:K,2,0),"") | H31: 100 | I31: 56.17
A32: 4.11 | B32: 4.77 | C32: 26.5 | D32: 213.5 | E32: 6/65 | F32: Суп-пюре из разных овощей с гренками | G32: =IFERROR(VLOOKUP(F32,[2]Реестр!A:K,2,0),"") | H32: 250 | I32: 50 | K32: =I38-J32 -> 265.4
A33: 17.5 | B33: 15.6 | C33: 42.3 | D33: 265.7 | E33: 9/17 | F33: Плов из птицы (филе бедра куриного) с куркумой | G33: =IFERROR(VLOOKUP(F33,[2]Реестр!A:K,2,0),"") | H33: 250 | I33: 130.94
A34: 3.94 | B34: 5.11 | C34: 27.5 | D34: 170.19545 | E34: 11/7 | F34: Напиток из вишни | G34: =IFERROR(VLOOKUP(F34,[2]Реестр!A:K,2,0),"") -> 200 | H34: 200 | I34: 19.54
A35: 0.14 | B35: 0.1 | C35: 1.5 | D35: 83.96262 | E35: - | F35: Хлеб пшеничный витаминизированный | G35: =IFERROR(VLOOKUP(F35,[2]Реестр!A:K,2,0),"") | H35: 50 | I35: 4.5
A36: 3.3 | B36: 0.3 | C36: 23.4 | D36: 112 | E36: - | F36: Хлеб ржаной | G36: =IFERROR(VLOOKUP(F36,[2]Реестр!A:K,2,0),"") | H36: 50 | I36: 4.25
A38: Итого за Комплекс | I38: =SUM(I31:I37) -> 265.4 | J38: 147.79 | K38: =I38-J38 -> 117.61
A39: Комплекс №3 Двухразовое питание 1-4 классы
A40: Завтрак
A41: 4.23 | B41: 4.96 | C41: 38.7 | D41: 228.9 | E41: ="1/50" -> 1/50 | F41: Бутерброд с маслом 20/10 г (батон витаминизированный) | G41: =IFERROR(VLOOKUP(F41,[1]Реестр!A:K,2,0),"") | H41: 30 | I41: 38.37 | J41: бутер
A42: 13.79 | B42: 14.6 | C42: 23.4 | D42: 266.7 | E42: ="4/56" -> 4/56 | F42: Омлет натуральный с маслом сливочным | H42: 150 | I42: 75.42 | J42: горячее
...

Sheet 64
A1: Согласовано | F1: ООО "Комфорт" | H1: Согласовано
A2: Директор ООО "Комфорт" | F2: МАОУ СОШ № 64 | H2: Директор МАОУ СОШ № 64
A3: Поматилов С. С. | F3: Меню на 2 октября 2026 года* | H3: Бурляева Н.Н.
A4: Пищевые вещества | D4: Ккал | E4: № ТТК | F4: Наименование блюд | G4: Выход по реестру, г | H4: Выход, г | I4: Цена, руб | J4: Раздел
A5: Белки | B5: Жиры | C5: Углеводы
A6: Комплекс №1 1-4 классы 1 смена
A7: 4.23 | B7: 4.96 | C7: 38.7 | D7: 228.9 | E7: ="1/50" -> 1/50 | F7: Бутерброд с маслом 20/10 г (батон витаминизированный) | G7: =IFERROR(VLOOKUP(F7,[1]Реестр!A:K,2,0),"") | H7: 30 | I7: 38.37 | J7: =IFERROR(VLOOKUP(O7,Реестр!#REF!,3,0)*Q7/P7,"")
A8: 13.79 | B8: 14.6 | C8: 23.4 | D8: 266.7 | E8: ="4/56" -> 4/56 | F8: Омлет натуральный с маслом сливочным | H8: 150 | I8: 75.42 | J8: =IFERROR(VLOOKUP(O8,Реестр!#REF!,3,0)*Q8/P8,"")
A9: 0.18 | B9: 0.04 | C9: 13.75 | D9: 53.136643 | E9: ="11/56" -> 11/56 | F9: Чай "Каркаде" с сахаром | H9: 200 | I9: 8.15 | J9: =IFERROR(VLOOKUP(O9,Реестр!#REF!,3,0)*Q9/P9,"")
A10: 1.3 | B10: 0.2 | C10: 6.7 | D10: 39 | E10: ="-" -> - | F10: Хлеб ржаной | H10: 20 | I10: 1.8 | J10: =IFERROR(VLOOKUP(O10,Реестр!#REF!,3,0)*Q10/P10,"")
A11: 0.52 | B11: 0.52 | C11: 15.08 | D11: 63.284 | E11: ="-" -> - | F11: Фрукт свежий | H11: 130 | I11: 25.78
A12: Итого за Комплекс | I12: =SUM(I7:I11) -> 149.52 | J12: 85.2 | K12: =I12-J12 -> 64.32
A13: Комплекс №1 1-4 классы 2 смена
A14: 1.33 | B14: 5.12 | C14: 4.1 | D14: 73.52 | E14: 7/13 | F14: Салат из белокочанной капусты с кукурузой и растительным маслом | G14: =IFERROR(VLOOKUP(F14,[2]Реестр!A:K,2,0),"") | H14: 80 | I14: 44.94 | J14: =IFERROR(VLOOKUP(O14,Реестр!#REF!,3,0)*Q14/P14,"")
A15: 4.11 | B15: 4.77 | C15: 19.5 | D15: 143.13 | E15: 6/65 | F15: Суп-пюре из разных овощей с гренками | G15: =IFERROR(VLOOKUP(F15,[2]Реестр!A:K,2,0),"") | H15: 250 | I15: 50 | J15: =IFERROR(VLOOKUP(O15,Реестр!#REF!,3,0)*Q15/P15,"")
A16: 15.55 | B16: 15.4 | C16: 57.1 | D16: 364.2 | E16: 9/17 | F16: Плов из птицы (филе бедра куриного) с куркумой | G16: =IFERROR(VLOOKUP(F16,[2]Реестр!A:K,2,0),"") | H16: 200 | I16: 102.59 | J16: =IFERROR(VLOOKUP(O16,Реестр!#REF!,3,0)*Q16/P16,"")
A17: 0.18 | B17: 0.05 | C17: 0.32 | D17: 37.582528 | E17: 11/7 | F17: Напиток из вишни | G17: =IFERROR(VLOOKUP(F17,[2]Реестр!A:K,2,0),"") -> 200 | H17: 200 | I17: 19.54
A18: 3.3 | B18: 0.3 | C18: 23.4 | D18: 112 | E18: - | F18: Хлеб пшеничный витаминизированный | G18: =IFERROR(VLOOKUP(F18,[2]Реестр!A:K,2,0),"") | H18: 50 | I18: 4.5 | J18: =IFERROR(VLOOKUP(O18,Реестр!#REF!,3,0)*Q18/P18,"")
A19: 2 | B19: 0.4 | C19: 10 | D19: 58 | E19: - | F19: Хлеб ржаной | G19: =IFERROR(VLOOKUP(F19,[2]Реестр!A:K,2,0),"") | H19: 30 | I19: 2.7 | J19: =IFERROR(VLOOKUP(O19,Реестр!#REF!,3,0)*Q19/P19,"")
A21: Итого за Комплекс | I21: =SUM(I14:I20) -> 224.27 | J21: 127.79 | K21: =J21-I21 -> -96.48
A22: Комплекс №2 5-11 классы 1 смена
A23: 0.48 | B23: 2.37 | C23: 3.09 | D23: 36.64 | E23: ="7/26" -> 7/26 | F23: Закуска витаминка (с огурцом) | G23: =IFERROR(VLOOKUP(F23,[1]Реестр!A:K,2,0),"") | H23: 30 | I23: 19.26
A24: 19.44 | B24: 19.42 | C24: 57.63 | D24: 436.2 | E24: 9/17 | F24: Плов из птицы (филе бедра куриного) с куркумой | G24: =IFERROR(VLOOKUP(F24,[2]Реестр!A:K,2,0),"") | H24: 250 | I24: 130.94 | J24: =IFERROR(VLOOKUP(O24,Реестр!#REF!,3,0)*Q24/P24,"")
A25: 0.18 | B25: 0.05 | C25: 0.32 | D25: 37.582528 | E25: 11/7 | F25: Напиток из вишни | G25: =IFERROR(VLOOKUP(F25,[2]Реестр!A:K,2,0),"") -> 200 | H25: 200 | I25: 19.54
A26: 3.3 | B26: 0.3 | C26: 23.4 | D26: 112 | E26: ="-" -> - | F26: Хлеб пшеничный витаминизированный | G26: =IFERROR(VLOOKUP(F26,[2]Реестр!A:K,2,0),"") | H26: 50 | I26: 4.5 | J26: =IFERROR(VLOOKUP(O26,Реестр!#REF!,3,0)*Q26/P26,"")
A27: 2 | B27: 0.4 | C27: 10 | D27: 58 | E27: ="-" -> - | F27: Хлеб ржаной | G27: =IFERROR(VLOOKUP(F27,[2]Реестр!A:K,2,0),"") | H27: 30 | I27: 2.7
J28: =IFERROR(VLOOKUP(O28,Реестр!#REF!,3,0)*Q28/P28,"")
A29: Итого за Комплекс | I29: =SUM(I23:I28) -> 176.94 | J29: 98.52 | K29: =I29-J29 -> 78.42
A30: Комплекс №2 5-11 классы 2 смена
A31: 2.3 | B31: 6.01 | C31: 4.01 | D31: 72.147796 | E31: 7/13 | F31: Салат из белокочанной капусты с кукурузой и растительным маслом | G31: =IFERROR(VLOOKUP(F31,[2]Реестр!A:K,2,0),"") | H31: 100 | I31: 56.17
A32: 4.11 | B32: 4.77 | C32: 26.5 | D32: 213.5 | E32: 6/65 | F32: Суп-пюре из разных овощей с гренками | G32: =IFERROR(VLOOKUP(F32,[2]Реестр!A:K,2,0),"") | H32: 250 | I32: 50 | K32: =I38-J32 -> 265.4
A33: 17.5 | B33: 15.6 | C33: 42.3 | D33: 265.7 | E33: 9/17 | F33: Плов из птицы (филе бедра куриного) с куркумой | G33: =IFERROR(VLOOKUP(F33,[2]Реестр!A:K,2,0),"") | H33: 250 | I33: 130.94
A34: 3.94 | B34: 5.11 | C34: 27.5 | D34: 170.19545 | E34: 11/7 | F34: Напиток из вишни | G34: =IFERROR(VLOOKUP(F34,[2]Реестр!A:K,2,0),"") -> 200 | H34: 200 | I34: 19.54
A35: 0.14 | B35: 0.1 | C35: 1.5 | D35: 83.96262 | E35: - | F35: Хлеб пшеничный витаминизированный | G35: =IFERROR(VLOOKUP(F35,[2]Реестр!A:K,2,0),"") | H35: 50 | I35: 4.5
A36: 3.3 | B36: 0.3 | C36: 23.4 | D36: 112 | E36: - | F36: Хлеб ржаной | G36: =IFERROR(VLOOKUP(F36,[2]Реестр!A:K,2,0),"") | H36: 50 | I36: 4.25
A38: Итого за Комплекс | I38: =SUM(I31:I37) -> 265.4 | J38: 147.79 | K38: =I38-J38 -> 117.61
A39: Комплекс №3 Двухразовое питание 1-4 классы
A40: Завтрак
A41: 4.23 | B41: 4.96 | C41: 38.7 | D41: 228.9 | E41: ="1/50" -> 1/50 | F41: Бутерброд с маслом 20/10 г (батон витаминизированный) | G41: =IFERROR(VLOOKUP(F41,[1]Реестр!A:K,2,0),"") | H41: 30 | I41: 38.37 | J41: бутер
A42: 13.79 | B42: 14.6 | C42: 23.4 | D42: 266.7 | E42: ="4/56" -> 4/56 | F42: Омлет натуральный с маслом сливочным | H42: 150 | I42: 75.42 | J42: горячее
...

Sheet 85
A1: Согласовано | F1: ООО "Комфорт" | H1: Согласовано
A2: Директор ООО "Комфорт" | F2: МАОУ СОШ № 85 | H2: Директор МАОУ СОШ № 85
A3: Поматилов С. С. | F3: Меню на 2 октября 2026 года* | H3: Ващук Н.А.
A4: Пищевые вещества | D4: Ккал | E4: № ТТК | F4: Наименование блюд | G4: Выход по реестру, г | H4: Выход, г | I4: Цена, руб | J4: Раздел
A5: Белки | B5: Жиры | C5: Углеводы
A6: Комплекс №1 1-4 классы 1 смена
A7: 4.23 | B7: 4.96 | C7: 38.7 | D7: 228.9 | E7: ="1/50" -> 1/50 | F7: Бутерброд с маслом 20/10 г (батон витаминизированный) | G7: =IFERROR(VLOOKUP(F7,[1]Реестр!A:K,2,0),"") | H7: 30 | I7: 38.37 | J7: =IFERROR(VLOOKUP(O7,Реестр!#REF!,3,0)*Q7/P7,"")
A8: 13.79 | B8: 14.6 | C8: 23.4 | D8: 266.7 | E8: ="4/56" -> 4/56 | F8: Омлет натуральный с маслом сливочным | H8: 150 | I8: 75.42 | J8: =IFERROR(VLOOKUP(O8,Реестр!#REF!,3,0)*Q8/P8,"")
A9: 0.18 | B9: 0.04 | C9: 13.75 | D9: 53.136643 | E9: ="11/56" -> 11/56 | F9: Чай "Каркаде" с сахаром | H9: 200 | I9: 8.15 | J9: =IFERROR(VLOOKUP(O9,Реестр!#REF!,3,0)*Q9/P9,"")
A10: 1.3 | B10: 0.2 | C10: 6.7 | D10: 39 | E10: ="-" -> - | F10: Хлеб ржаной | H10: 20 | I10: 1.8 | J10: =IFERROR(VLOOKUP(O10,Реестр!#REF!,3,0)*Q10/P10,"")
A11: 0.52 | B11: 0.52 | C11: 15.08 | D11: 63.284 | E11: ="-" -> - | F11: Фрукт свежий | H11: 130 | I11: 25.78
A12: Итого за Комплекс | I12: =SUM(I7:I11) -> 149.52 | J12: 85.2 | K12: =I12-J12 -> 64.32
A13: Комплекс №1 1-4 классы 2 смена
A14: 1.33 | B14: 5.12 | C14: 4.1 | D14: 73.52 | E14: 7/13 | F14: Салат из белокочанной капусты с кукурузой и растительным маслом | G14: =IFERROR(VLOOKUP(F14,[2]Реестр!A:K,2,0),"") | H14: 80 | I14: 44.94 | J14: =IFERROR(VLOOKUP(O14,Реестр!#REF!,3,0)*Q14/P14,"")
A15: 4.11 | B15: 4.77 | C15: 19.5 | D15: 143.13 | E15: 6/65 | F15: Суп-пюре из разных овощей с гренками | G15: =IFERROR(VLOOKUP(F15,[2]Реестр!A:K,2,0),"") | H15: 250 | I15: 50 | J15: =IFERROR(VLOOKUP(O15,Реестр!#REF!,3,0)*Q15/P15,"")
A16: 15.55 | B16: 15.4 | C16: 57.1 | D16: 364.2 | E16: 9/17 | F16: Плов из птицы (филе бедра куриного) с куркумой | G16: =IFERROR(VLOOKUP(F16,[2]Реестр!A:K,2,0),"") | H16: 200 | I16: 102.59 | J16: =IFERROR(VLOOKUP(O16,Реестр!#REF!,3,0)*Q16/P16,"")
A17: 0.18 | B17: 0.05 | C17: 0.32 | D17: 37.582528 | E17: 11/7 | F17: Напиток из вишни | G17: =IFERROR(VLOOKUP(F17,[2]Реестр!A:K,2,0),"") -> 200 | H17: 200 | I17: 19.54
A18: 3.3 | B18: 0.3 | C18: 23.4 | D18: 112 | E18: - | F18: Хлеб пшеничный витаминизированный | G18: =IFERROR(VLOOKUP(F18,[2]Реестр!A:K,2,0),"") | H18: 50 | I18: 4.5 | J18: =IFERROR(VLOOKUP(O18,Реестр!#REF!,3,0)*Q18/P18,"")
A19: 2 | B19: 0.4 | C19: 10 | D19: 58 | E19: - | F19: Хлеб ржаной | G19: =IFERROR(VLOOKUP(F19,[2]Реестр!A:K,2,0),"") | H19: 30 | I19: 2.7 | J19: =IFERROR(VLOOKUP(O19,Реестр!#REF!,3,0)*Q19/P19,"")
A21: Итого за Комплекс | I21: =SUM(I14:I20) -> 224.27 | J21: 127.79 | K21: =J21-I21 -> -96.48
A22: Комплекс №2 5-11 классы 1 смена
A23: 0.48 | B23: 2.37 | C23: 3.09 | D23: 36.64 | E23: ="7/26" -> 7/26 | F23: Закуска витаминка (с огурцом) | G23: =IFERROR(VLOOKUP(F23,[1]Реестр!A:K,2,0),"") | H23: 30 | I23: 19.26
A24: 19.44 | B24: 19.42 | C24: 57.63 | D24: 436.2 | E24: 9/17 | F24: Плов из птицы (филе бедра куриного) с куркумой | G24: =IFERROR(VLOOKUP(F24,[2]Реестр!A:K,2,0),"") | H24: 250 | I24: 130.94 | J24: =IFERROR(VLOOKUP(O24,Реестр!#REF!,3,0)*Q24/P24,"")
A25: 0.18 | B25: 0.05 | C25: 0.32 | D25: 37.582528 | E25: 11/7 | F25: Напиток из вишни | G25: =IFERROR(VLOOKUP(F25,[2]Реестр!A:K,2,0),"") -> 200 | H25: 200 | I25: 19.54
A26: 3.3 | B26: 0.3 | C26: 23.4 | D26: 112 | E26: ="-" -> - | F26: Хлеб пшеничный витаминизированный | G26: =IFERROR(VLOOKUP(F26,[2]Реестр!A:K,2,0),"") | H26: 50 | I26: 4.5 | J26: =IFERROR(VLOOKUP(O26,Реестр!#REF!,3,0)*Q26/P26,"")
A27: 2 | B27: 0.4 | C27: 10 | D27: 58 | E27: ="-" -> - | F27: Хлеб ржаной | G27: =IFERROR(VLOOKUP(F27,[2]Реестр!A:K,2,0),"") | H27: 30 | I27: 2.7
J28: =IFERROR(VLOOKUP(O28,Реестр!#REF!,3,0)*Q28/P28,"")
A29: Итого за Комплекс | I29: =SUM(I23:I28) -> 176.94 | J29: 98.52 | K29: =I29-J29 -> 78.42
A30: Комплекс №2 5-11 классы 2 смена
A31: 2.3 | B31: 6.01 | C31: 4.01 | D31: 72.147796 | E31: 7/13 | F31: Салат из белокочанной капусты с кукурузой и растительным маслом | G31: =IFERROR(VLOOKUP(F31,[2]Реестр!A:K,2,0),"") | H31: 100 | I31: 56.17
A32: 4.11 | B32: 4.77 | C32: 26.5 | D32: 213.5 | E32: 6/65 | F32: Суп-пюре из разных овощей с гренками | G32: =IFERROR(VLOOKUP(F32,[2]Реестр!A:K,2,0),"") | H32: 250 | I32: 50 | K32: =I38-J32 -> 265.4
A33: 17.5 | B33: 15.6 | C33: 42.3 | D33: 265.7 | E33: 9/17 | F33: Плов из птицы (филе бедра куриного) с куркумой | G33: =IFERROR(VLOOKUP(F33,[2]Реестр!A:K,2,0),"") | H33: 250 | I33: 130.94
A34: 3.94 | B34: 5.11 | C34: 27.5 | D34: 170.19545 | E34: 11/7 | F34: Напиток из вишни | G34: =IFERROR(VLOOKUP(F34,[2]Реестр!A:K,2,0),"") -> 200 | H34: 200 | I34: 19.54
A35: 0.14 | B35: 0.1 | C35: 1.5 | D35: 83.96262 | E35: - | F35: Хлеб пшеничный витаминизированный | G35: =IFERROR(VLOOKUP(F35,[2]Реестр!A:K,2,0),"") | H35: 50 | I35: 4.5
A36: 3.3 | B36: 0.3 | C36: 23.4 | D36: 112 | E36: - | F36: Хлеб ржаной | G36: =IFERROR(VLOOKUP(F36,[2]Реестр!A:K,2,0),"") | H36: 50 | I36: 4.25
A38: Итого за Комплекс | I38: =SUM(I31:I37) -> 265.4 | J38: 147.79 | K38: =I38-J38 -> 117.61
A39: Комплекс №3 Двухразовое питание 1-4 классы
A40: Завтрак
A41: 4.23 | B41: 4.96 | C41: 38.7 | D41: 228.9 | E41: ="1/50" -> 1/50 | F41: Бутерброд с маслом 20/10 г (батон витаминизированный) | G41: =IFERROR(VLOOKUP(F41,[1]Реестр!A:K,2,0),"") | H41: 30 | I41: 38.37 | J41: бутер
A42: 13.79 | B42: 14.6 | C42: 23.4 | D42: 266.7 | E42: ="4/56" -> 4/56 | F42: Омлет натуральный с маслом сливочным | H42: 150 | I42: 75.42 | J42: горячее
...

Sheet 109-1
A1: Согласовано | F1: ООО "Комфорт" | H1: Согласовано
A2: Директор ООО "Комфорт" | F2: МАОУ СОШ № 109 | H2: Директор МАОУ лицей № 109
A3: Поматилов С. С. | F3: Меню на 2 октября 2026 года* | H3: Чудинова С.С.
A4: Пищевые вещества | D4: Ккал | E4: № ТТК | F4: Наименование блюд | G4: Выход по реестру, г | H4: Выход, г | I4: Цена, руб | J4: Раздел
A5: Белки | B5: Жиры | C5: Углеводы
A6: Комплекс №1 1-4 классы 1 смена
A7: =IFERROR(VLOOKUP(F7,[1]Реестр!A:K,3,0)*H7/G7,"") -> 3.84 | B7: =IFERROR(VLOOKUP(F7,[1]Реестр!A:K,4,0)*H7/G7,"") -> 10.1 | C7: =IFERROR(VLOOKUP(F7,[1]Реестр!A:K,5,0)*H7/G7,"") -> 9.77 | D7: =IFERROR(VLOOKUP(F7,[1]Реестр!A:K,6,0)*H7/G7,"") -> 145.383 | E7: =IFERROR(VLOOKUP(F7,[1]Реестр!A:K,11,0),"") -> 1*57 | F7: Бутерброд с сыром и маслом 20/10/10 | G7: =IFERROR(VLOOKUP(F7,[1]Реестр!A:K,2,0),"") -> 40 | H7: 40 | I7: 49.55 | J7: =IFERROR(VLOOKUP(O7,Реестр!#REF!,3,0)*Q7/P7,"")
A8: 9.75 | B8: 12.14 | C8: 36.06 | D8: 291.64 | E8: ="2/57" -> 2/57 | F8: Каша ячневая молочная с маслом сливочным | G8: =IFERROR(VLOOKUP(F8,[1]Реестр!A:K,2,0),"") | H8: 210 | I8: 51.38 | J8: =IFERROR(VLOOKUP(O8,Реестр!#REF!,3,0)*Q8/P8,"")
A9: =IFERROR(VLOOKUP(F9,[1]Реестр!A:K,3,0)*H9/G9,"") -> 0.15 | B9: =IFERROR(VLOOKUP(F9,[1]Реестр!A:K,4,0)*H9/G9,"") -> 0.09 | C9: =IFERROR(VLOOKUP(F9,[1]Реестр!A:K,5,0)*H9/G9,"") -> 8.58 | D9: =IFERROR(VLOOKUP(F9,[1]Реестр!A:K,6,0)*H9/G9,"") -> 34.8 | E9: =IFERROR(VLOOKUP(F9,[1]Реестр!A:K,11,0),"") -> 12*2 | F9: Соус из малины | G9: =IFERROR(VLOOKUP(F9,[1]Реестр!A:K,2,0),"") -> 100 | H9: 30 | I9: 24.59 | J9: =IFERROR(VLOOKUP(O9,Реестр!#REF!,3,0)*Q9/P9,"")
A10: =IFERROR(VLOOKUP(F10,[1]Реестр!A:K,3,0)*H10/G10,"") -> 1.4 | B10: =IFERROR(VLOOKUP(F10,[1]Реестр!A:K,4,0)*H10/G10,"") -> 1.1 | C10: =IFERROR(VLOOKUP(F10,[1]Реестр!A:K,5,0)*H10/G10,"") -> 16.6 | D10: =IFERROR(VLOOKUP(F10,[1]Реестр!A:K,6,0)*H10/G10,"") -> 79 | E10: ="11/59" -> 11/59 | F10: Кофейный напиток | G10: =IFERROR(VLOOKUP(F10,[1]Реестр!A:K,2,0),"") -> 200 | H10: 200 | I10: 22.2 | J10: =IFERROR(VLOOKUP(O10,Реестр!#REF!,3,0)*Q10/P10,"")
A11: =IFERROR(VLOOKUP(F11,[1]Реестр!A:K,3,0)*H11/G11,"") -> 1.32 | B11: =IFERROR(VLOOKUP(F11,[1]Реестр!A:K,4,0)*H11/G11,"") -> 0.24 | C11: =IFERROR(VLOOKUP(F11,[1]Реестр!A:K,5,0)*H11/G11,"") -> 6.68 | D11: =IFERROR(VLOOKUP(F11,[1]Реестр!A:K,6,0)*H11/G11,"") -> 38.6 | E11: =IFERROR(VLOOKUP(F11,[1]Реестр!A:K,11,0),"") -> - | F11: Хлеб вит. ржаной | G11: =IFERROR(VLOOKUP(F11,[1]Реестр!A:K,2,0),"") -> 100 | H11: 20 | I11: 1.8
A12: Итого за Комплекс | I12: =SUM(I7:I11) -> 149.52 | J12: 85.2 | K12: =I12-J12 -> 64.32
A13: Комплекс №1 1-4 классы 2 смена
A14: 1.03 | B14: 4.77 | C14: 6.38 | D14: 68.99 | E14: ="7/80" -> 7/80 | F14: Салат из отварной свеклы с соленым огурцом и куриным яйцом | G14: =IFERROR(VLOOKUP(F14,[2]Реестр!A:K,2,0),"") | H14: 80 | I14: 41.6 | J14: =IFERROR(VLOOKUP(O14,Реестр!#REF!,3,0)*Q14/P14,"")
A15: 5.55 | B15: 7.8 | C15: 15.95 | D15: 199.78905 | E15: ="6/70" -> 6/70 | F15: Рассольник Ленинградский со сметаной | G15: =IFERROR(VLOOKUP(F15,[2]Реестр!A:K,2,0),"") -> 300 | H15: 250 | I15: 50 | J15: =IFERROR(VLOOKUP(O15,Реестр!#REF!,3,0)*Q15/P15,"")
A16: 16.58 | B16: 19.5 | C16: 68.38 | D16: 327.07 | E16: ="8/35" -> 8/35 | F16: Жаркое по-домашнему со свининой | G16: =IFERROR(VLOOKUP(F16,[2]Реестр!A:K,2,0),"") | H16: 200 | I16: 112.67 | J16: =IFERROR(VLOOKUP(O16,Реестр!#REF!,3,0)*Q16/P16,"")
A17: 0.14 | B17: 0.1 | C17: 1.5 | D17: 83.96262 | E17: ="11/1" -> 11/1 | F17: Напиток ассорти из красных ягод | G17: =IFERROR(VLOOKUP(F17,[2]Реестр!A:K,2,0),"") -> 200 | H17: 200 | I17: 12.8
A18: 2.64 | B18: 0.24 | C18: 18.72 | D18: 89.6 | E18: - | F18: Хлеб вит. пшеничный | G18: =IFERROR(VLOOKUP(F18,[2]Реестр!A:K,2,0),"") -> 100 | H18: 40 | I18: 3.6 | J18: =IFERROR(VLOOKUP(O18,Реестр!#REF!,3,0)*Q18/P18,"")
A19: 2.64 | B19: 0.48 | C19: 13.36 | D19: 77.2 | E19: - | F19: Хлеб вит. ржаной | G19: =IFERROR(VLOOKUP(F19,[2]Реестр!A:K,2,0),"") -> 100 | H19: 40 | I19: 3.6 | J19: =IFERROR(VLOOKUP(O19,Реестр!#REF!,3,0)*Q19/P19,"")
A21: Итого за Комплекс | I21: =SUM(I14:I20) -> 224.27 | J21: 127.79 | K21: =J21-I21 -> -96.48
A22: Комплекс №2 5-11 классы 1 смена
A23: 0.48 | B23: 2.37 | C23: 3.09 | D23: 36.64 | E23: ="7/26" -> 7/26 | F23: Закуска витаминка (с огурцом) | G23: =IFERROR(VLOOKUP(F23,[1]Реестр!A:K,2,0),"") | H23: 30 | I23: 19.26
A24: 19.44 | B24: 19.42 | C24: 57.63 | D24: 436.2 | E24: 9/17 | F24: Плов из птицы (филе бедра куриного) с куркумой | G24: =IFERROR(VLOOKUP(F24,[2]Реестр!A:K,2,0),"") | H24: 250 | I24: 130.94 | J24: =IFERROR(VLOOKUP(O24,Реестр!#REF!,3,0)*Q24/P24,"")
A25: 0.18 | B25: 0.05 | C25: 0.32 | D25: 37.582528 | E25: 11/7 | F25: Напиток из вишни | G25: =IFERROR(VLOOKUP(F25,[2]Реестр!A:K,2,0),"") -> 200 | H25: 200 | I25: 19.54
A26: 3.3 | B26: 0.3 | C26: 23.4 | D26: 112 | E26: ="-" -> - | F26: Хлеб пшеничный витаминизированный | G26: =IFERROR(VLOOKUP(F26,[2]Реестр!A:K,2,0),"") | H26: 50 | I26: 4.5 | J26: =IFERROR(VLOOKUP(O26,Реестр!#REF!,3,0)*Q26/P26,"")
A27: 2 | B27: 0.4 | C27: 10 | D27: 58 | E27: ="-" -> - | F27: Хлеб ржаной | G27: =IFERROR(VLOOKUP(F27,[2]Реестр!A:K,2,0),"") | H27: 30 | I27: 2.7
J28: =IFERROR(VLOOKUP(O28,Реестр!#REF!,3,0)*Q28/P28,"")
A29: Итого за Комплекс | I29: =SUM(I23:I28) -> 176.94 | J29: 98.52 | K29: =I29-J29 -> 78.42
A30: Комплекс №2 5-11 классы 2 смена
A31: 2.3 | B31: 6.01 | C31: 4.01 | D31: 72.147796 | E31: 7/13 | F31: Салат из белокочанной капусты с кукурузой и растительным маслом | G31: =IFERROR(VLOOKUP(F31,[2]Реестр!A:K,2,0),"") | H31: 100 | I31: 56.17
A32: 4.11 | B32: 4.77 | C32: 26.5 | D32: 213.5 | E32: 6/65 | F32: Суп-пюре из разных овощей с гренками | G32: =IFERROR(VLOOKUP(F32,[2]Реестр!A:K,2,0),"") | H32: 250 | I32: 50 | K32: =I38-J32 -> 265.4
A33: 17.5 | B33: 15.6 | C33: 42.3 | D33: 265.7 | E33: 9/17 | F33: Плов из птицы (филе бедра куриного) с куркумой | G33: =IFERROR(VLOOKUP(F33,[2]Реестр!A:K,2,0),"") | H33: 250 | I33: 130.94
A34: 3.94 | B34: 5.11 | C34: 27.5 | D34: 170.19545 | E34: 11/7 | F34: Напиток из вишни | G34: =IFERROR(VLOOKUP(F34,[2]Реестр!A:K,2,0),"") -> 200 | H34: 200 | I34: 19.54
A35: 0.14 | B35: 0.1 | C35: 1.5 | D35: 83.96262 | E35: - | F35: Хлеб пшеничный витаминизированный | G35: =IFERROR(VLOOKUP(F35,[2]Реестр!A:K,2,0),"") | H35: 50 | I35: 4.5
A36: 3.3 | B36: 0.3 | C36: 23.4 | D36: 112 | E36: - | F36: Хлеб ржаной | G36: =IFERROR(VLOOKUP(F36,[2]Реестр!A:K,2,0),"") | H36: 50 | I36: 4.25
A38: Итого за Комплекс | I38: =SUM(I31:I37) -> 265.4 | J38: 147.79 | K38: =I38-J38 -> 117.61
A39: Комплекс №3 Двухразовое питание 1-4 классы
A40: Завтрак
A41: =IFERROR(VLOOKUP(F41,[1]Реестр!A:K,3,0)*H41/G41,"") -> 3.84 | B41: =IFERROR(VLOOKUP(F41,[1]Реестр!A:K,4,0)*H41/G41,"") -> 10.1 | C41: =IFERROR(VLOOKUP(F41,[1]Реестр!A:K,5,0)*H41/G41,"") -> 9.77 | D41: =IFERROR(VLOOKUP(F41,[1]Реестр!A:K,6,0)*H41/G41,"") -> 145.383 | E41: =IFERROR(VLOOKUP(F41,[1]Реестр!A:K,11,0),"") -> 1*57 | F41: Бутерброд с сыром и маслом 20/10/10 | G41: =IFERROR(VLOOKUP(F41,[1]Реестр!A:K,2,0),"") -> 40 | H41: 40 | I41: 49.55 | J41: бутер
A42: 9.75 | B42: 12.14 | C42: 36.06 | D42: 291.64 | E42: ="2/57" -> 2/57 | F42: Каша ячневая молочная с маслом сливочным | G42: =IFERROR(VLOOKUP(F42,[1]Реестр!A:K,2,0),"") | H42: 210 | I42: 51.38 | J42: горячее
...

Sheet 109-2
A1: Согласовано | F1: ООО "Комфорт" | H1: Согласовано
A2: Директор ООО "Комфорт" | F2: МАОУ СОШ № 109 | H2: Директор МАОУ лицей № 109
A3: Поматилов С. С. | F3: Меню на 2 октября 2026 года* | H3: Чудинова С.С.
A4: Пищевые вещества | D4: Ккал | E4: № ТТК | F4: Наименование блюд | G4: Выход по реестру, г | H4: Выход, г | I4: Цена, руб | J4: Раздел
A5: Белки | B5: Жиры | C5: Углеводы
A6: Комплекс №1 1-4 классы 1 смена
A7: 4.23 | B7: 4.96 | C7: 38.7 | D7: 228.9 | E7: ="1/50" -> 1/50 | F7: Бутерброд с маслом 20/10 г (батон витаминизированный) | G7: =IFERROR(VLOOKUP(F7,[1]Реестр!A:K,2,0),"") | H7: 30 | I7: 38.37 | J7: =IFERROR(VLOOKUP(O7,Реестр!#REF!,3,0)*Q7/P7,"")
A8: 13.79 | B8: 14.6 | C8: 23.4 | D8: 266.7 | E8: ="4/56" -> 4/56 | F8: Омлет натуральный с маслом сливочным | H8: 150 | I8: 75.42 | J8: =IFERROR(VLOOKUP(O8,Реестр!#REF!,3,0)*Q8/P8,"")
A9: 0.18 | B9: 0.04 | C9: 13.75 | D9: 53.136643 | E9: ="11/56" -> 11/56 | F9: Чай "Каркаде" с сахаром | H9: 200 | I9: 8.15 | J9: =IFERROR(VLOOKUP(O9,Реестр!#REF!,3,0)*Q9/P9,"")
A10: 1.3 | B10: 0.2 | C10: 6.7 | D10: 39 | E10: ="-" -> - | F10: Хлеб ржаной | H10: 20 | I10: 1.8 | J10: =IFERROR(VLOOKUP(O10,Реестр!#REF!,3,0)*Q10/P10,"")
A11: 0.52 | B11: 0.52 | C11: 15.08 | D11: 63.284 | E11: ="-" -> - | F11: Фрукт свежий | H11: 130 | I11: 25.78
A12: Итого за Комплекс | I12: =SUM(I7:I11) -> 149.52 | J12: 85.2 | K12: =I12-J12 -> 64.32
A13: Комплекс №1 1-4 классы 2 смена
A14: 1.33 | B14: 5.12 | C14: 4.1 | D14: 73.52 | E14: 7/13 | F14: Салат из белокочанной капусты с кукурузой и растительным маслом | G14: =IFERROR(VLOOKUP(F14,[2]Реестр!A:K,2,0),"") | H14: 80 | I14: 44.94 | J14: =IFERROR(VLOOKUP(O14,Реестр!#REF!,3,0)*Q14/P14,"")
A15: 4.11 | B15: 4.77 | C15: 19.5 | D15: 143.13 | E15: 6/65 | F15: Суп-пюре из разных овощей с гренками | G15: =IFERROR(VLOOKUP(F15,[2]Реестр!A:K,2,0),"") | H15: 250 | I15: 50 | J15: =IFERROR(VLOOKUP(O15,Реестр!#REF!,3,0)*Q15/P15,"")
A16: 15.55 | B16: 15.4 | C16: 57.1 | D16: 364.2 | E16: 9/17 | F16: Плов из птицы (филе бедра куриного) с куркумой | G16: =IFERROR(VLOOKUP(F16,[2]Реестр!A:K,2,0),"") | H16: 200 | I16: 102.59 | J16: =IFERROR(VLOOKUP(O16,Реестр!#REF!,3,0)*Q16/P16,"")
A17: 0.18 | B17: 0.05 | C17: 0.32 | D17: 37.582528 | E17: 11/7 | F17: Напиток из вишни | G17: =IFERROR(VLOOKUP(F17,[2]Реестр!A:K,2,0),"") -> 200 | H17: 200 | I17: 19.54
A18: 3.3 | B18: 0.3 | C18: 23.4 | D18: 112 | E18: - | F18: Хлеб пшеничный витаминизированный | G18: =IFERROR(VLOOKUP(F18,[2]Реестр!A:K,2,0),"") | H18: 50 | I18: 4.5 | J18: =IFERROR(VLOOKUP(O18,Реестр!#REF!,3,0)*Q18/P18,"")
A19: 2 | B19: 0.4 | C19: 10 | D19: 58 | E19: - | F19: Хлеб ржаной | G19: =IFERROR(VLOOKUP(F19,[2]Реестр!A:K,2,0),"") | H19: 30 | I19: 2.7 | J19: =IFERROR(VLOOKUP(O19,Реестр!#REF!,3,0)*Q19/P19,"")
A21: Итого за Комплекс | I21: =SUM(I14:I20) -> 224.27 | J21: 127.79 | K21: =J21-I21 -> -96.48
A22: Комплекс №2 5-11 классы 1 смена
A23: 0.24 | B23: 0.03 | C23: 0.74 | D23: 4.2 | E23: ="7/10" -> 7/10 | F23: Кукуруза консервированная | G23: =IFERROR(VLOOKUP(F23,[1]Реестр!A:K,2,0),"") | H23: 30 | I23: 16.1
A24: 19.44 | B24: 21.37 | C24: 55.36 | D24: 508.5 | E24: ="8/35" -> 8/35 | F24: Жаркое по-домашнему со свининой | G24: =IFERROR(VLOOKUP(F24,[2]Реестр!A:K,2,0),"") | H24: 250 | I24: 140.84 | J24: =IFERROR(VLOOKUP(O24,Реестр!#REF!,3,0)*Q24/P24,"")
A25: 0.14 | B25: 0.1 | C25: 1.5 | D25: 83.96262 | E25: ="11/1" -> 11/1 | F25: Напиток ассорти из красных ягод | G25: =IFERROR(VLOOKUP(F25,[2]Реестр!A:K,2,0),"") -> 200 | H25: 200 | I25: 12.8
A26: 2.64 | B26: 0.24 | C26: 18.72 | D26: 89.6 | E26: - | F26: Хлеб вит. пшеничный | G26: =IFERROR(VLOOKUP(F26,[2]Реестр!A:K,2,0),"") -> 100 | H26: 40 | I26: 3.6 | J26: =IFERROR(VLOOKUP(O26,Реестр!#REF!,3,0)*Q26/P26,"")
A27: 2.64 | B27: 0.48 | C27: 13.36 | D27: 77.2 | E27: - | F27: Хлеб вит. ржаной | G27: =IFERROR(VLOOKUP(F27,[2]Реестр!A:K,2,0),"") -> 100 | H27: 40 | I27: 3.6
J28: =IFERROR(VLOOKUP(O28,Реестр!#REF!,3,0)*Q28/P28,"")
A29: Итого за Комплекс | I29: =SUM(I23:I28) -> 176.94 | J29: 98.52 | K29: =I29-J29 -> 78.42
A30: Комплекс №2 5-11 классы 2 смена
A31: 1.29 | B31: 5.97 | C31: 7.97 | D31: 86.23 | E31: ="7/80" -> 7/80 | F31: Салат из отварной свеклы с сол. огурцом и куриным яйцом | G31: =IFERROR(VLOOKUP(F31,[2]Реестр!A:K,2,0),"") | H31: 100 | I31: 52.76
A32: 8.9166667 | B32: 7.75 | C32: 19.5 | D32: 185 | E32: 6*57 | F32: Суп картофельный с бобовыми | G32: =IFERROR(VLOOKUP(F32,[2]Реестр!A:K,2,0),"") -> 300 | H32: 250 | I32: 50 | K32: =I38-J32 -> 265.4
A33: 19.44 | B33: 21.37 | C33: 55.36 | D33: 508.5 | E33: ="8/35" -> 8/35 | F33: Жаркое по-домашнему со свининой | G33: =IFERROR(VLOOKUP(F33,[2]Реестр!A:K,2,0),"") | H33: 250 | I33: 140.84
A34: 0.14 | B34: 0.1 | C34: 1.5 | D34: 83.96262 | E34: ="11/1" -> 11/1 | F34: Напиток ассорти из красных ягод | G34: =IFERROR(VLOOKUP(F34,[2]Реестр!A:K,2,0),"") -> 200 | H34: 200 | I34: 12.8
A35: 3.3 | B35: 0.3 | C35: 23.4 | D35: 112 | E35: - | F35: Хлеб вит. пшеничный | G35: =IFERROR(VLOOKUP(F35,[2]Реестр!A:K,2,0),"") -> 100 | H35: 50 | I35: 4.5
A36: 3.3 | B36: 0.6 | C36: 16.7 | D36: 96.5 | E36: - | F36: Хлеб вит. ржаной | G36: =IFERROR(VLOOKUP(F36,[2]Реестр!A:K,2,0),"") -> 100 | H36: 50 | I36: 4.5
A38: Итого за Комплекс | I38: =SUM(I31:I37) -> 265.4 | J38: 147.79 | K38: =I38-J38 -> 117.61
A39: Комплекс №3 Двухразовое питание 1-4 классы
A40: Завтрак
A41: 4.23 | B41: 4.96 | C41: 38.7 | D41: 228.9 | E41: ="1/50" -> 1/50 | F41: Бутерброд с маслом 20/10 г (батон витаминизированный) | G41: =IFERROR(VLOOKUP(F41,[1]Реестр!A:K,2,0),"") | H41: 30 | I41: 38.37 | J41: бутер
A42: 13.79 | B42: 14.6 | C42: 23.4 | D42: 266.7 | E42: ="4/56" -> 4/56 | F42: Омлет натуральный с маслом сливочным | H42: 150 | I42: 75.42 | J42: горячее
...

Sheet 181-1
A1: Согласовано | F1: ООО "Комфорт" | H1: Согласовано
A2: Директор ООО "Комфорт" | F2: МАОУ СОШ № 181 | H2: и.о.директора МАОУ СОШ №181
A3: Поматилов С. С. | F3: Меню на 2 октября 2026 года* | H3: Прокопеня С.В.
A4: Пищевые вещества | D4: Ккал | E4: № ТТК | F4: Наименование блюд | G4: Выход по реестру, г | H4: Выход, г | I4: Цена, руб | J4: Раздел
A5: Белки | B5: Жиры | C5: Углеводы
A6: Комплекс №1 1-4 классы 1 смена
A7: =IFERROR(VLOOKUP(F7,[1]Реестр!A:K,3,0)*H7/G7,"") -> 3.84 | B7: =IFERROR(VLOOKUP(F7,[1]Реестр!A:K,4,0)*H7/G7,"") -> 10.1 | C7: =IFERROR(VLOOKUP(F7,[1]Реестр!A:K,5,0)*H7/G7,"") -> 9.77 | D7: =IFERROR(VLOOKUP(F7,[1]Реестр!A:K,6,0)*H7/G7,"") -> 145.383 | E7: =IFERROR(VLOOKUP(F7,[1]Реестр!A:K,11,0),"") -> 1*57 | F7: Бутерброд с сыром и маслом 20/10/10 | G7: =IFERROR(VLOOKUP(F7,[1]Реестр!A:K,2,0),"") -> 40 | H7: 40 | I7: 49.55 | J7: =IFERROR(VLOOKUP(O7,Реестр!#REF!,3,0)*Q7/P7,"")
A8: 9.75 | B8: 12.14 | C8: 36.06 | D8: 291.64 | E8: ="2/57" -> 2/57 | F8: Каша ячневая молочная с маслом сливочным | G8: =IFERROR(VLOOKUP(F8,[1]Реестр!A:K,2,0),"") | H8: 210 | I8: 51.38 | J8: =IFERROR(VLOOKUP(O8,Реестр!#REF!,3,0)*Q8/P8,"")
A9: =IFERROR(VLOOKUP(F9,[1]Реестр!A:K,3,0)*H9/G9,"") -> 0.15 | B9: =IFERROR(VLOOKUP(F9,[1]Реестр!A:K,4,0)*H9/G9,"") -> 0.09 | C9: =IFERROR(VLOOKUP(F9,[1]Реестр!A:K,5,0)*H9/G9,"") -> 8.58 | D9: =IFERROR(VLOOKUP(F9,[1]Реестр!A:K,6,0)*H9/G9,"") -> 34.8 | E9: =IFERROR(VLOOKUP(F9,[1]Реестр!A:K,11,0),"") -> 12*2 | F9: Соус из малины | G9: =IFERROR(VLOOKUP(F9,[1]Реестр!A:K,2,0),"") -> 100 | H9: 30 | I9: 24.59 | J9: =IFERROR(VLOOKUP(O9,Реестр!#REF!,3,0)*Q9/P9,"")
A10: =IFERROR(VLOOKUP(F10,[1]Реестр!A:K,3,0)*H10/G10,"") -> 1.4 | B10: =IFERROR(VLOOKUP(F10,[1]Реестр!A:K,4,0)*H10/G10,"") -> 1.1 | C10: =IFERROR(VLOOKUP(F10,[1]Реестр!A:K,5,0)*H10/G10,"") -> 16.6 | D10: =IFERROR(VLOOKUP(F10,[1]Реестр!A:K,6,0)*H10/G10,"") -> 79 | E10: ="11/59" -> 11/59 | F10: Кофейный напиток | G10: =IFERROR(VLOOKUP(F10,[1]Реестр!A:K,2,0),"") -> 200 | H10: 200 | I10: 22.2 | J10: =IFERROR(VLOOKUP(O10,Реестр!#REF!,3,0)*Q10/P10,"")
A11: =IFERROR(VLOOKUP(F11,[1]Реестр!A:K,3,0)*H11/G11,"") -> 1.32 | B11: =IFERROR(VLOOKUP(F11,[1]Реестр!A:K,4,0)*H11/G11,"") -> 0.24 | C11: =IFERROR(VLOOKUP(F11,[1]Реестр!A:K,5,0)*H11/G11,"") -> 6.68 | D11: =IFERROR(VLOOKUP(F11,[1]Реестр!A:K,6,0)*H11/G11,"") -> 38.6 | E11: =IFERROR(VLOOKUP(F11,[1]Реестр!A:K,11,0),"") -> - | F11: Хлеб вит. ржаной | G11: =IFERROR(VLOOKUP(F11,[1]Реестр!A:K,2,0),"") -> 100 | H11: 20 | I11: 1.8
A12: Итого за Комплекс | I12: =SUM(I7:I11) -> 149.52 | J12: 85.2 | K12: =I12-J12 -> 64.32
A13: Комплекс №1 1-4 классы 2 смена
A14: 1.03 | B14: 4.77 | C14: 6.38 | D14: 68.99 | E14: ="7/80" -> 7/80 | F14: Салат из отварной свеклы с соленым огурцом и куриным яйцом | G14: =IFERROR(VLOOKUP(F14,[2]Реестр!A:K,2,0),"") | H14: 80 | I14: 41.6 | J14: =IFERROR(VLOOKUP(O14,Реестр!#REF!,3,0)*Q14/P14,"")
A15: 5.55 | B15: 7.8 | C15: 15.95 | D15: 199.78905 | E15: ="6/70" -> 6/70 | F15: Рассольник Ленинградский со сметаной | G15: =IFERROR(VLOOKUP(F15,[2]Реестр!A:K,2,0),"") -> 300 | H15: 250 | I15: 50 | J15: =IFERROR(VLOOKUP(O15,Реестр!#REF!,3,0)*Q15/P15,"")
A16: 16.58 | B16: 19.5 | C16: 68.38 | D16: 327.07 | E16: ="8/35" -> 8/35 | F16: Жаркое по-домашнему со свининой | G16: =IFERROR(VLOOKUP(F16,[2]Реестр!A:K,2,0),"") | H16: 200 | I16: 112.67 | J16: =IFERROR(VLOOKUP(O16,Реестр!#REF!,3,0)*Q16/P16,"")
A17: 0.14 | B17: 0.1 | C17: 1.5 | D17: 83.96262 | E17: ="11/1" -> 11/1 | F17: Напиток ассорти из красных ягод | G17: =IFERROR(VLOOKUP(F17,[2]Реестр!A:K,2,0),"") -> 200 | H17: 200 | I17: 12.8
A18: 2.64 | B18: 0.24 | C18: 18.72 | D18: 89.6 | E18: - | F18: Хлеб вит. пшеничный | G18: =IFERROR(VLOOKUP(F18,[2]Реестр!A:K,2,0),"") -> 100 | H18: 40 | I18: 3.6 | J18: =IFERROR(VLOOKUP(O18,Реестр!#REF!,3,0)*Q18/P18,"")
A19: 2.64 | B19: 0.48 | C19: 13.36 | D19: 77.2 | E19: - | F19: Хлеб вит. ржаной | G19: =IFERROR(VLOOKUP(F19,[2]Реестр!A:K,2,0),"") -> 100 | H19: 40 | I19: 3.6 | J19: =IFERROR(VLOOKUP(O19,Реестр!#REF!,3,0)*Q19/P19,"")
A21: Итого за Комплекс | I21: =SUM(I14:I20) -> 224.27 | J21: 127.79 | K21: =J21-I21 -> -96.48
A22: Комплекс №2 5-11 классы 1 смена
A23: 0.48 | B23: 2.37 | C23: 3.09 | D23: 36.64 | E23: ="7/26" -> 7/26 | F23: Закуска витаминка (с огурцом) | G23: =IFERROR(VLOOKUP(F23,[1]Реестр!A:K,2,0),"") | H23: 30 | I23: 19.26
A24: 19.44 | B24: 19.42 | C24: 57.63 | D24: 436.2 | E24: 9/17 | F24: Плов из птицы (филе бедра куриного) с куркумой | G24: =IFERROR(VLOOKUP(F24,[2]Реестр!A:K,2,0),"") | H24: 250 | I24: 130.94 | J24: =IFERROR(VLOOKUP(O24,Реестр!#REF!,3,0)*Q24/P24,"")
A25: 0.18 | B25: 0.05 | C25: 0.32 | D25: 37.582528 | E25: 11/7 | F25: Напиток из вишни | G25: =IFERROR(VLOOKUP(F25,[2]Реестр!A:K,2,0),"") -> 200 | H25: 200 | I25: 19.54
A26: 3.3 | B26: 0.3 | C26: 23.4 | D26: 112 | E26: ="-" -> - | F26: Хлеб пшеничный витаминизированный | G26: =IFERROR(VLOOKUP(F26,[2]Реестр!A:K,2,0),"") | H26: 50 | I26: 4.5 | J26: =IFERROR(VLOOKUP(O26,Реестр!#REF!,3,0)*Q26/P26,"")
A27: 2 | B27: 0.4 | C27: 10 | D27: 58 | E27: ="-" -> - | F27: Хлеб ржаной | G27: =IFERROR(VLOOKUP(F27,[2]Реестр!A:K,2,0),"") | H27: 30 | I27: 2.7
J28: =IFERROR(VLOOKUP(O28,Реестр!#REF!,3,0)*Q28/P28,"")
A29: Итого за Комплекс | I29: =SUM(I23:I28) -> 176.94 | J29: 98.52 | K29: =I29-J29 -> 78.42
A30: Комплекс №2 5-11 классы 2 смена
A31: 2.3 | B31: 6.01 | C31: 4.01 | D31: 72.147796 | E31: 7/13 | F31: Салат из белокочанной капусты с кукурузой и растительным маслом | G31: =IFERROR(VLOOKUP(F31,[2]Реестр!A:K,2,0),"") | H31: 100 | I31: 56.17
A32: 4.11 | B32: 4.77 | C32: 26.5 | D32: 213.5 | E32: 6/65 | F32: Суп-пюре из разных овощей с гренками | G32: =IFERROR(VLOOKUP(F32,[2]Реестр!A:K,2,0),"") | H32: 250 | I32: 50 | K32: =I38-J32 -> 265.4
