Workbook

Sheet Арт-Этюд
A1: Согласовано | F1: ООО "Комфорт" | H1: Согласовано
A2: Директор ООО "Комфорт" | F2: Гимназия Арт-Этюд | H2: Директор
A3: Поматилов С. С. | F3: Меню на 2 октября 2026 года* | H3: Семёнова А.А.
A4: Пищевые вещества | D4: Ккал | E4: № ТТК | F4: Наименование блюд | G4: Выход по реестру, г | H4: Выход, г | I4: Цена, руб | J4: Раздел
A5: Белки | B5: Жиры | C5: Углеводы
A6: Комплекс №1 Завтрак 1-4 классы
A7: 5.13 | B7: 6.15 | C7: 19.7 | D7: 213 | E7: 1/57 | F7: Бутерброд с сыром и маслом сливочным на батоне витаминизированном 20/10/10 г | G7: =IFERROR(VLOOKUP(F7,[1]Реестр!A:K,2,0),"") | H7: 40 | I7: 49.55
A8: 9.78 | B8: 10.9 | C8: 31.2 | D8: 169.5 | E8: 2/57 | F8: Каша ячневая молочная с маслом сливочным | G8: =IFERROR(VLOOKUP(F8,[1]Реестр!A:K,2,0),"") | H8: 210 | I8: 51.38
A9: 0 | B9: 0 | C9: 1.2 | D9: 36.144008 | E9: 12/8 | F9: Соус из голубики | G9: =IFERROR(VLOOKUP(F9,[1]Реестр!A:K,2,0),"") | H9: 30 | I9: 24.59
A10: 3.64 | B10: 2.73 | C10: 24.19 | D10: 129.56905 | E10: 11/59 | F10: Кофейный напиток | G10: =IFERROR(VLOOKUP(F10,[1]Реестр!A:K,2,0),"") -> 200 | H10: 200 | I10: 22.2
A11: 1.3 | B11: 0.2 | C11: 6.7 | D11: 39 | E11: - | F11: Хлеб ржаной | G11: =IFERROR(VLOOKUP(F11,[1]Реестр!A:K,2,0),"") | H11: 20 | I11: 1.8
A12: Итого за Комплекс | I12: =SUBTOTAL(9,I7:I11) -> 149.52 | K12: 108.64 | L12: =K12-I12 -> -40.88
A13: Комплекс №2 Комплекс за родительскую плату 1-4 классы
A14: 1.33 | B14: 5.12 | C14: 4.1 | D14: 73.52 | E14: 7/13 | F14: Салат из белокочанной капусты с кукурузой и растительным маслом | G14: =IFERROR(VLOOKUP(F14,[2]Реестр!A:K,2,0),"") | H14: 80 | I14: 41.6
A15: 4.11 | B15: 4.77 | C15: 19.5 | D15: 143.13 | E15: 6/65 | F15: Суп-пюре из разных овощей с гренками | G15: =IFERROR(VLOOKUP(F15,[2]Реестр!A:K,2,0),"") | H15: 250 | I15: 50
A16: 15.55 | B16: 15.4 | C16: 57.1 | D16: 364.2 | E16: 9/17 | F16: Плов из птицы (филе бедра куриного) с куркумой | G16: =IFERROR(VLOOKUP(F16,[2]Реестр!A:K,2,0),"") | H16: 200 | I16: 112.67
A17: 0.18 | B17: 0.05 | C17: 0.32 | D17: 37.582528 | E17: 11/7 | F17: Напиток из вишни | G17: =IFERROR(VLOOKUP(F17,[2]Реестр!A:K,2,0),"") -> 200 | H17: 200 | I17: 12.8
A18: 3.3 | B18: 0.3 | C18: 23.4 | D18: 112 | E18: - | F18: Хлеб пшеничный витаминизированный | G18: =IFERROR(VLOOKUP(F18,[2]Реестр!A:K,2,0),"") | H18: 40 | I18: 3.6
A19: 2 | B19: 0.4 | C19: 10 | D19: 58 | E19: - | F19: Хлеб ржаной | G19: =IFERROR(VLOOKUP(F19,[2]Реестр!A:K,2,0),"") | H19: 40 | I19: 3.6
G20: 40
A21: Итого за Комплекс | I21: =SUBTOTAL(9,I14:I20) -> 224.27 | K21: 162.95 | L21: =K21-I21 -> -61.32
A22: Комплекс №3 Завтрак 5-11 классы
A23: 4.98 | B23: 6.4 | C23: 10.28 | D23: 166.36 | E23: 1/57 | F23: Бутерброд с сыром и маслом на батоне витаминизированном 20/15/15 г | G23: =IFERROR(VLOOKUP(F23,[1]Реестр!A:K,2,0),"") | H23: 50 | I23: 57.18
A24: 14.36 | B24: 10.5 | C24: 50.3 | D24: 326.4 | E24: 2/57 | F24: Каша ячневая молочная с маслом сливочным | G24: =IFERROR(VLOOKUP(F24,[1]Реестр!A:K,2,0),"") | H24: 250 | I24: 61.17
A25: 3.58 | B25: 5.8 | C25: 1.3 | D25: 36.2 | E25: 12/8 | F25: Соус из голубики | G25: =IFERROR(VLOOKUP(F25,[1]Реестр!A:K,2,0),"") | H25: 40 | I25: 32.79
A26: 2.64 | B26: 0.48 | C26: 16.68 | D26: 77.352 | E26: 11/59 | F26: Кофейный напиток | G26: =IFERROR(VLOOKUP(F26,[1]Реестр!A:K,2,0),"") -> 200 | H26: 200 | I26: 22.2
A27: 2.64 | B27: 0.48 | C27: 16.68 | D27: 77.352 | E27: - | F27: Хлеб ржаной | G27: =IFERROR(VLOOKUP(F27,[1]Реестр!A:K,2,0),"") | H27: 40 | I27: 3.6
A30: Итого за Комплекс | I30: =SUBTOTAL(9,I23:I29) -> 176.94 | K30: 176.94 | L30: =K30-I30 -> 0
A31: Комплекс №4 Комплекс за родительскую плату 5-11 классы
A32: 2.3 | B32: 6.01 | C32: 4.01 | D32: 72.147796 | E32: 7/13 | F32: Салат из белокочанной капусты с кукурузой и растительным маслом | G32: =IFERROR(VLOOKUP(F32,[2]Реестр!A:K,2,0),"") | H32: 100 | I32: 52.76 | N32: =M32-I39 -> -265.4
A33: 4.11 | B33: 4.77 | C33: 26.5 | D33: 213.5 | E33: 6/65 | F33: Суп-пюре из разных овощей с гренками | G33: =IFERROR(VLOOKUP(F33,[2]Реестр!A:K,2,0),"") | H33: 250 | I33: 50
A34: 17.5 | B34: 15.6 | C34: 42.3 | D34: 265.7 | E34: 9/17 | F34: Плов из птицы (филе бедра куриного) с куркумой | G34: =IFERROR(VLOOKUP(F34,[2]Реестр!A:K,2,0),"") | H34: 250 | I34: 140.84
A35: 3.94 | B35: 5.11 | C35: 27.5 | D35: 170.19545 | E35: 11/7 | F35: Напиток из вишни | G35: =IFERROR(VLOOKUP(F35,[2]Реестр!A:K,2,0),"") -> 200 | H35: 200 | I35: 12.8
A36: 0.14 | B36: 0.1 | C36: 1.5 | D36: 83.96262 | E36: - | F36: Хлеб пшеничный витаминизированный | G36: =IFERROR(VLOOKUP(F36,[2]Реестр!A:K,2,0),"") | H36: 50 | I36: 4.5
A37: 3.3 | B37: 0.3 | C37: 23.4 | D37: 112 | E37: - | F37: Хлеб ржаной | G37: =IFERROR(VLOOKUP(F37,[2]Реестр!A:K,2,0),"") | H37: 50 | I37: 4.5
G38: =IFERROR(VLOOKUP(F38,Реестр!A:K,2,0),"")
A39: Итого за Комплекс | I39: =SUBTOTAL(9,I32:I38) -> 265.4 | L39: =K38-I39 -> -265.4
A40: Комплекс №5 Двухразовое питание 5-11 классы
A41: Завтрак
A42: 4.98 | B42: 6.4 | C42: 10.28 | D42: 166.36 | E42: 1/57 | F42: Бутерброд с сыром и маслом на батоне витаминизированном 20/15/15 г | G42: =IFERROR(VLOOKUP(F42,[1]Реестр!A:K,2,0),"") | H42: 50 | I42: 57.18 | J42: бутер
A43: 14.36 | B43: 10.5 | C43: 50.3 | D43: 326.4 | E43: 2/57 | F43: Каша ячневая молочная с маслом сливочным | G43: =IFERROR(VLOOKUP(F43,[1]Реестр!A:K,2,0),"") | H43: 250 | I43: 61.17 | J43: горячее
A44: 3.58 | B44: 5.8 | C44: 1.3 | D44: 36.2 | E44: 12/8 | F44: Соус из голубики | G44: =IFERROR(VLOOKUP(F44,[1]Реестр!A:K,2,0),"") | H44: 40 | I44: 32.79 | J44: соус/повидло
A45: 2.64 | B45: 0.48 | C45: 16.68 | D45: 77.352 | E45: 11/59 | F45: Кофейный напиток | G45: =IFERROR(VLOOKUP(F45,[1]Реестр!A:K,2,0),"") -> 200 | H45: 200 | I45: 22.2 | J45: напиток
A46: 2.64 | B46: 0.48 | C46: 16.68 | D46: 77.352 | E46: - | F46: Хлеб ржаной | G46: =IFERROR(VLOOKUP(F46,[1]Реестр!A:K,2,0),"") | H46: 40 | I46: 3.6 | J46: хлеб белый
A47: =IFERROR(VLOOKUP(F47,Реестр!A:K,3,0)*H47/G47,"") | B47: =IFERROR(VLOOKUP(F47,Реестр!A:K,4,0)*H47/G47,"") | C47: =IFERROR(VLOOKUP(F47,Реестр!A:K,5,0)*H47/G47,"") | D47: =IFERROR(VLOOKUP(F47,Реестр!A:K,6,0)*H47/G47,"") | E47: =IFERROR(VLOOKUP(F47,Реестр!A:K,11,0),"") | G47: =IFERROR(VLOOKUP(F47,Реестр!A:K,2,0),"") | J47: хлеб черный
J48: фрукт/йогурт
A49: =IFERROR(VLOOKUP(F49,Реестр!A:K,3,0)*H49/G49,"") | B49: =IFERROR(VLOOKUP(F49,Реестр!A:K,4,0)*H49/G49,"") | C49: =IFERROR(VLOOKUP(F49,Реестр!A:K,5,0)*H49/G49,"") | D49: =IFERROR(VLOOKUP(F49,Реестр!A:K,6,0)*H49/G49,"") | E49: =IFERROR(VLOOKUP(F49,Реестр!A:K,11,0),"") | G49: =IFERROR(VLOOKUP(F49,Реестр!A:K,2,0),"") | J49: любая позиция
A50: Обед
A51: 2.3 | B51: 6.01 | C51: 4.01 | D51: 72.147796 | E51: 7/13 | F51: Салат из белокочанной капусты с кукурузой и растительным маслом | G51: =IFERROR(VLOOKUP(F51,[2]Реестр!A:K,2,0),"") | H51: 100 | I51: 52.76 | J51: закуска/салат
A52: 4.11 | B52: 4.77 | C52: 26.5 | D52: 213.5 | E52: 6/65 | F52: Суп-пюре из разных овощей с гренками | G52: =IFERROR(VLOOKUP(F52,[2]Реестр!A:K,2,0),"") | H52: 250 | I52: 50 | J52: суп
A53: 17.5 | B53: 15.6 | C53: 42.3 | D53: 265.7 | E53: 9/17 | F53: Плов из птицы (филе бедра куриного) с куркумой | G53: =IFERROR(VLOOKUP(F53,[2]Реестр!A:K,2,0),"") | H53: 250 | I53: 140.84 | J53: горячее
A54: 3.94 | B54: 5.11 | C54: 27.5 | D54: 170.19545 | E54: 11/7 | F54: Напиток из вишни | G54: =IFERROR(VLOOKUP(F54,[2]Реестр!A:K,2,0),"") -> 200 | H54: 200 | I54: 12.8 | J54: гарнир
A55: 0.14 | B55: 0.1 | C55: 1.5 | D55: 83.96262 | E55: - | F55: Хлеб пшеничный витаминизированный | G55: =IFERROR(VLOOKUP(F55,[2]Реестр!A:K,2,0),"") | H55: 50 | I55: 4.5 | J55: напиток
A56: 3.3 | B56: 0.3 | C56: 23.4 | D56: 112 | E56: - | F56: Хлеб ржаной | G56: =IFERROR(VLOOKUP(F56,[2]Реестр!A:K,2,0),"") | H56: 50 | I56: 4.5 | J56: хлеб белый
J57: хлеб черный
A58: =IFERROR(VLOOKUP(F58,Реестр!A:K,3,0)*H58/G58,"") | B58: =IFERROR(VLOOKUP(F58,Реестр!A:K,4,0)*H58/G58,"") | C58: =IFERROR(VLOOKUP(F58,Реестр!A:K,5,0)*H58/G58,"") | D58: =IFERROR(VLOOKUP(F58,Реестр!A:K,6,0)*H58/G58,"") | E58: =IFERROR(VLOOKUP(F58,Реестр!A:K,11,0),"") | G58: =IFERROR(VLOOKUP(F58,Реестр!A:K,2,0),"") | J58: любая позиция
J59: любая позиция
A60: Итого за Комплекс | I60: =SUM(I51:I59)+SUM(I42:I49) -> 442.34 | K60: 321.4 | L60: =K60-I60 -> -120.94
A61: Комплекс №6 Двухразовое питание 1-4 классы
A62: Завтрак
A63: 5.13 | B63: 6.15 | C63: 19.7 | D63: 213 | E63: 1/57 | F63: Бутерброд с сыром и маслом сливочным на батоне витаминизированном 20/10/10 г | G63: =IFERROR(VLOOKUP(F63,[1]Реестр!A:K,2,0),"") | H63: 40 | I63: 49.55 | J63: бутер
A64: 9.78 | B64: 10.9 | C64: 31.2 | D64: 169.5 | E64: 2/57 | F64: Каша ячневая молочная с маслом сливочным | G64: =IFERROR(VLOOKUP(F64,[1]Реестр!A:K,2,0),"") | H64: 210 | I64: 51.38 | J64: горячее
A65: 0 | B65: 0 | C65: 1.2 | D65: 36.144008 | E65: 12/8 | F65: Соус из голубики | G65: =IFERROR(VLOOKUP(F65,[1]Реестр!A:K,2,0),"") | H65: 30 | I65: 24.59 | J65: соус/повидло
A66: 3.64 | B66: 2.73 | C66: 24.19 | D66: 129.56905 | E66: 11/59 | F66: Кофейный напиток | G66: =IFERROR(VLOOKUP(F66,[1]Реестр!A:K,2,0),"") -> 200 | H66: 200 | I66: 22.2 | J66: напиток
A67: 1.3 | B67: 0.2 | C67: 6.7 | D67: 39 | E67: - | F67: Хлеб ржаной | G67: =IFERROR(VLOOKUP(F67,[1]Реестр!A:K,2,0),"") | H67: 20 | I67: 1.8 | J67: хлеб белый
A68: =IFERROR(VLOOKUP(F68,Реестр!A:K,3,0)*H68/G68,"") | B68: =IFERROR(VLOOKUP(F68,Реестр!A:K,4,0)*H68/G68,"") | C68: =IFERROR(VLOOKUP(F68,Реестр!A:K,5,0)*H68/G68,"") | D68: =IFERROR(VLOOKUP(F68,Реестр!A:K,6,0)*H68/G68,"") | E68: =IFERROR(VLOOKUP(F68,Реестр!A:K,11,0),"") | G68: =IFERROR(VLOOKUP(F68,Реестр!A:K,2,0),"") | J68: хлеб черный
J69: фрукт/йогурт
A70: =IFERROR(VLOOKUP(F70,Реестр!A:K,3,0)*H70/G70,"") | B70: =IFERROR(VLOOKUP(F70,Реестр!A:K,4,0)*H70/G70,"") | C70: =IFERROR(VLOOKUP(F70,Реестр!A:K,5,0)*H70/G70,"") | D70: =IFERROR(VLOOKUP(F70,Реестр!A:K,6,0)*H70/G70,"") | E70: =IFERROR(VLOOKUP(F70,Реестр!A:K,11,0),"") | G70: =IFERROR(VLOOKUP(F70,Реестр!A:K,2,0),"") | J70: любая позиция
A71: Обед
A72: 1.33 | B72: 5.12 | C72: 4.1 | D72: 73.52 | E72: 7/13 | F72: Салат из белокочанной капусты с кукурузой и растительным маслом | G72: =IFERROR(VLOOKUP(F72,[2]Реестр!A:K,2,0),"") | H72: 80 | I72: 41.6 | J72: закуска/салат
A73: 4.11 | B73: 4.77 | C73: 19.5 | D73: 143.13 | E73: 6/65 | F73: Суп-пюре из разных овощей с гренками | G73: =IFERROR(VLOOKUP(F73,[2]Реестр!A:K,2,0),"") | H73: 250 | I73: 50 | J73: суп
A74: 15.55 | B74: 15.4 | C74: 57.1 | D74: 364.2 | E74: 9/17 | F74: Плов из птицы (филе бедра куриного) с куркумой | G74: =IFERROR(VLOOKUP(F74,[2]Реестр!A:K,2,0),"") | H74: 200 | I74: 112.67 | J74: горячее
A75: 0.18 | B75: 0.05 | C75: 0.32 | D75: 37.582528 | E75: 11/7 | F75: Напиток из вишни | G75: =IFERROR(VLOOKUP(F75,[2]Реестр!A:K,2,0),"") -> 200 | H75: 200 | I75: 12.8 | J75: гарнир
A76: 3.3 | B76: 0.3 | C76: 23.4 | D76: 112 | E76: - | F76: Хлеб пшеничный витаминизированный | G76: =IFERROR(VLOOKUP(F76,[2]Реестр!A:K,2,0),"") | H76: 40 | I76: 3.6 | J76: напиток
A77: 2 | B77: 0.4 | C77: 10 | D77: 58 | E77: - | F77: Хлеб ржаной | G77: =IFERROR(VLOOKUP(F77,[2]Реестр!A:K,2,0),"") | H77: 40 | I77: 3.6 | J77: хлеб белый
J78: хлеб черный
A79: =IFERROR(VLOOKUP(F79,Реестр!A:K,3,0)*H79/G79,"") | B79: =IFERROR(VLOOKUP(F79,Реестр!A:K,4,0)*H79/G79,"") | C79: =IFERROR(VLOOKUP(F79,Реестр!A:K,5,0)*H79/G79,"") | D79: =IFERROR(VLOOKUP(F79,Реестр!A:K,6,0)*H79/G79,"") | E79: =IFERROR(VLOOKUP(F79,Реестр!A:K,11,0),"") | G79: =IFERROR(VLOOKUP(F79,Реестр!A:K,2,0),"") | J79: любая позиция
A80: =IFERROR(VLOOKUP(F80,Реестр!A:K,3,0)*H80/G80,"") | B80: =IFERROR(VLOOKUP(F80,Реестр!A:K,4,0)*H80/G80,"") | C80: =IFERROR(VLOOKUP(F80,Реестр!A:K,5,0)*H80/G80,"") | D80: =IFERROR(VLOOKUP(F80,Реестр!A:K,6,0)*H80/G80,"") | E80: =IFERROR(VLOOKUP(F80,Реестр!A:K,11,0),"") | G80: =IFERROR(VLOOKUP(F80,Реестр!A:K,2,0),"") | J80: любая позиция
A81: Итого за Комплекс | I81: =SUM(I72:I79)+SUM(I63:I70) -> 373.79 | K81: 271.59 | L81: =K81-I81 -> -102.2
G83: =IFERROR(VLOOKUP(F83,Реестр!A:K,2,0),"") | M83: 100
A84: Комплекс №1 1-4 классы (меню для детей с сахарным диабетом)
A85: 5.08 | B85: 15.0773 | C85: 9.97 | D85: 195.8957 | E85: 1*55 | F85: Бутерброд с сыром и маслом 20/15/10 | G85: 50 | H85: 45 | I85: 81.02
A86: =IFERROR(VLOOKUP(F86,[3]Реестр!A:K,3,0)*H86/G86,"") -> 6.375 | B86: =IFERROR(VLOOKUP(F86,[3]Реестр!A:K,4,0)*H86/G86,"") -> 5.75 | C86: =IFERROR(VLOOKUP(F86,[3]Реестр!A:K,5,0)*H86/G86,"") -> 0.375 | D86: =IFERROR(VLOOKUP(F86,[3]Реестр!A:K,6,0)*H86/G86,"") -> 78.75 | E86: =IFERROR(VLOOKUP(F86,[3]Реестр!A:K,11,0),"") -> 4*57 | F86: Яйцо отварное 1 шт. | G86: =IFERROR(VLOOKUP(F86,[3]Реестр!A:K,2,0),"") -> 40 | H86: 50
A87: 10.6 | B87: 13.2 | C87: 39.2 | D87: 317 | E87: =Реестр!K196 -> 13*53 | F87: Каша жидкая геркулесовая с маслом без сахара | G87: =IFERROR(VLOOKUP(F87,[3]Реестр!A:K,2,0),"") | H87: 200
A88: =IFERROR(VLOOKUP(F88,[3]Реестр!A:K,3,0)*H88/G88,"") -> 1.32 | B88: =IFERROR(VLOOKUP(F88,[3]Реестр!A:K,4,0)*H88/G88,"") -> 0.24 | C88: =IFERROR(VLOOKUP(F88,[3]Реестр!A:K,5,0)*H88/G88,"") -> 6.68 | D88: =IFERROR(VLOOKUP(F88,[3]Реестр!A:K,6,0)*H88/G88,"") -> 38.6 | E88: =IFERROR(VLOOKUP(F88,[3]Реестр!A:K,11,0),"") -> - | F88: Хлеб вит. ржаной | G88: =IFERROR(VLOOKUP(F88,[3]Реестр!A:K,2,0),"") -> 100 | H88: 20
A91: Итого за Комплекс | I91: =SUM(I85:I90) -> 81.02 | J91: 81.02 | L91: =J91-I91 -> 0
A92: Комплекс №1 1-4 классы (безмолочное меню)
A93: 6.35 | B93: 5.75 | C93: 0.35 | D93: 78.48 | E93: 4/57 | F93: Яйцо отварное | G93: =IFERROR(VLOOKUP(F93,[1]Реестр!A:K,2,0),"") | H93: 50 | I93: 149.52
A94: 6.03 | B94: 12.83 | C94: 34.92 | D94: 275.69061 | E94: 2/78 | F94: Каша ячневая безмолочная с маслом растительным и отрубями | G94: =IFERROR(VLOOKUP(F94,[1]Реестр!A:K,2,0),"") | H94: 200
A95: 0.19 | B95: 0.12 | C95: 12.27 | D95: 48.19 | E95: 12/8 | F95: Соус из голубики | G95: =IFERROR(VLOOKUP(F95,[1]Реестр!A:K,2,0),"") | H95: 35
A96: 1.39 | B96: 1.1 | C96: 16.65 | D96: 78.95167 | E96: ="11/59 (2004 № 692)" -> 11/59 (2004 № 692) | F96: Чай лимонный | G96: =IFERROR(VLOOKUP(F96,[1]Реестр!A:K,2,0),"") | H96: ="200" -> 200
A97: 2.64 | B97: 0.48 | C97: 16.68 | D97: 77.352 | E97: - | F97: Хлеб пшеничный витаминизированный | G97: =IFERROR(VLOOKUP(F97,[1]Реестр!A:K,2,0),"") | H97: ="20" -> 20
A98: 1.32 | B98: 0.24 | C98: 8.34 | D98: 38.676 | E98: - | F98: Хлеб ржаной | G98: =IFERROR(VLOOKUP(F98,[1]Реестр!A:K,2,0),"") | H98: 20
A99: Итого за Комплекс | I99: =SUM(I93:I98) -> 149.52 | L99: =J99-I99 -> -149.52
A100: Комплекс №2 1-4 классы (безмолочное меню)
A101: 1.33 | B101: 5.12 | C101: 7.75 | D101: 73.52 | E101: 7/13 | F101: Салат из белокочанной капусты с кукурузой и растительным маслом | G101: =IFERROR(VLOOKUP(F101,[2]Реестр!A:K,2,0),"") | H101: 80 | I101: 224.27
A102: 4.11 | B102: 4.77 | C102: 59.23 | D102: 143.13 | E102: 6/65-1 | F102: Суп-пюре из разных овощей без молока | G102: =IFERROR(VLOOKUP(F102,[2]Реестр!A:K,2,0),"") | H102: 250
A103: 15.55 | B103: 15.9 | C103: 90.5 | D103: 408.6 | E103: 9/17 | F103: Плов из птицы (филе бедра куриного) с куркумой | G103: =IFERROR(VLOOKUP(F103,[2]Реестр!A:K,2,0),"") | H103: 200
A104: 0.18 | B104: 0.05 | C104: 0.32 | D104: 37.582528 | E104: 11/7 | F104: Напиток из вишни | G104: =IFERROR(VLOOKUP(F104,[2]Реестр!A:K,2,0),"") -> 200 | H104: 200
A105: 2.64 | B105: 0.48 | C105: 16.68 | D105: 77.352 | E105: - | F105: Хлеб пшеничный витаминизированный | G105: =IFERROR(VLOOKUP(F105,[2]Реестр!A:K,2,0),"") | H105: 40
...

Sheet 16
A1: Согласовано | F1: ООО "Комфорт" | H1: Согласовано
A2: Директор ООО "Комфорт" | F2: МАОУ СОШ № 16 | H2: Директор МАОУ СОШ № 16
A3: Поматилов С. С. | F3: Меню на 16 января 2026 года* | H3: Тимошкина А.С.
A4: Пищевые вещества | D4: Ккал | E4: № ТТК | F4: Наименование блюд | G4: Выход по реестру, г | H4: Выход, г | I4: Цена, руб | J4: Раздел
A5: Белки | B5: Жиры | C5: Углеводы
A6: Комплекс №1 1-4 классы 1 смена
A7: =IFERROR(VLOOKUP(F7,[1]Реестр!A:K,3,0)*H7/G7,"") -> 3.84 | B7: =IFERROR(VLOOKUP(F7,[1]Реестр!A:K,4,0)*H7/G7,"") -> 10.1 | C7: =IFERROR(VLOOKUP(F7,[1]Реестр!A:K,5,0)*H7/G7,"") -> 9.77 | D7: =IFERROR(VLOOKUP(F7,[1]Реестр!A:K,6,0)*H7/G7,"") -> 145.383 | E7: =IFERROR(VLOOKUP(F7,[1]Реестр!A:K,11,0),"") -> 1*57 | F7: Бутерброд с сыром и маслом 20/10/10 | G7: =IFERROR(VLOOKUP(F7,[1]Реестр!A:K,2,0),"") -> 40 | H7: 40 | I7: 49.55 | J7: =IFERROR(VLOOKUP(O7,Реестр!#REF!,3,0)*Q7/P7,"")
A8: 9.75 | B8: 12.14 | C8: 36.06 | D8: 291.64 | E8: ="2/57" -> 2/57 | F8: Каша ячневая молочная с маслом сливочным | G8: =IFERROR(VLOOKUP(F8,[1]Реестр!A:K,2,0),"") | H8: 210 | I8: 51.38 | J8: =IFERROR(VLOOKUP(O8,Реестр!#REF!,3,0)*Q8/P8,"")
A9: =IFERROR(VLOOKUP(F9,[1]Реестр!A:K,3,0)*H9/G9,"") -> 0.15 | B9: =IFERROR(VLOOKUP(F9,[1]Реестр!A:K,4,0)*H9/G9,"") -> 0.09 | C9: =IFERROR(VLOOKUP(F9,[1]Реестр!A:K,5,0)*H9/G9,"") -> 8.58 | D9: =IFERROR(VLOOKUP(F9,[1]Реестр!A:K,6,0)*H9/G9,"") -> 34.8 | E9: =IFERROR(VLOOKUP(F9,[1]Реестр!A:K,11,0),"") -> 12*2 | F9: Соус из малины | G9: =IFERROR(VLOOKUP(F9,[1]Реестр!A:K,2,0),"") -> 100 | H9: 30 | I9: 24.59 | J9: =IFERROR(VLOOKUP(O9,Реестр!#REF!,3,0)*Q9/P9,"")
A10: =IFERROR(VLOOKUP(F10,[1]Реестр!A:K,3,0)*H10/G10,"") -> 1.4 | B10: =IFERROR(VLOOKUP(F10,[1]Реестр!A:K,4,0)*H10/G10,"") -> 1.1 | C10: =IFERROR(VLOOKUP(F10,[1]Реестр!A:K,5,0)*H10/G10,"") -> 16.6 | D10: =IFERROR(VLOOKUP(F10,[1]Реестр!A:K,6,0)*H10/G10,"") -> 79 | E10: ="11/59" -> 11/59 | F10: Кофейный напиток | G10: =IFERROR(VLOOKUP(F10,[1]Реестр!A:K,2,0),"") -> 200 | H10: 200 | I10: 22.2 | J10: =IFERROR(VLOOKUP(O10,Реестр!#REF!,3,0)*Q10/P10,"")
A11: =IFERROR(VLOOKUP(F11,[1]Реестр!A:K,3,0)*H11/G11,"") -> 1.32 | B11: =IFERROR(VLOOKUP(F11,[1]Реестр!A:K,4,0)*H11/G11,"") -> 0.24 | C11: =IFERROR(VLOOKUP(F11,[1]Реестр!A:K,5,0)*H11/G11,"") -> 6.68 | D11: =IFERROR(VLOOKUP(F11,[1]Реестр!A:K,6,0)*H11/G11,"") -> 38.6 | E11: =IFERROR(VLOOKUP(F11,[1]Реестр!A:K,11,0),"") -> - | F11: Хлеб вит. ржаной | G11: =IFERROR(VLOOKUP(F11,[1]Реестр!A:K,2,0),"") -> 100 | H11: 20 | I11: 1.8
A12: Итого за Комплекс | I12: =SUM(I7:I11) -> 149.52 | J12: 149.52 | K12: =I12-J12 -> 0
A13: Комплекс №1 1-4 классы 2 смена
A14: 1.03 | B14: 4.77 | C14: 6.38 | D14: 68.99 | E14: ="7/80" -> 7/80 | F14: Салат из отварной свеклы с соленым огурцом и куриным яйцом | G14: =IFERROR(VLOOKUP(F14,[2]Реестр!A:K,2,0),"") | H14: 80 | I14: 41.6 | J14: =IFERROR(VLOOKUP(O14,Реестр!#REF!,3,0)*Q14/P14,"")
A15: 5.55 | B15: 7.8 | C15: 15.95 | D15: 199.78905 | E15: ="6/70" -> 6/70 | F15: Рассольник Ленинградский со сметаной | G15: =IFERROR(VLOOKUP(F15,[2]Реестр!A:K,2,0),"") -> 300 | H15: 250 | I15: 50 | J15: =IFERROR(VLOOKUP(O15,Реестр!#REF!,3,0)*Q15/P15,"")
A16: 16.58 | B16: 19.5 | C16: 68.38 | D16: 327.07 | E16: ="8/35" -> 8/35 | F16: Жаркое по-домашнему со свининой | G16: =IFERROR(VLOOKUP(F16,[2]Реестр!A:K,2,0),"") | H16: 200 | I16: 112.67 | J16: =IFERROR(VLOOKUP(O16,Реестр!#REF!,3,0)*Q16/P16,"")
A17: 0.14 | B17: 0.1 | C17: 1.5 | D17: 83.96262 | E17: ="11/1" -> 11/1 | F17: Напиток ассорти из красных ягод | G17: =IFERROR(VLOOKUP(F17,[2]Реестр!A:K,2,0),"") -> 200 | H17: 200 | I17: 12.8
A18: 2.64 | B18: 0.24 | C18: 18.72 | D18: 89.6 | E18: - | F18: Хлеб вит. пшеничный | G18: =IFERROR(VLOOKUP(F18,[2]Реестр!A:K,2,0),"") -> 100 | H18: 40 | I18: 3.6 | J18: =IFERROR(VLOOKUP(O18,Реестр!#REF!,3,0)*Q18/P18,"")
A19: 2.64 | B19: 0.48 | C19: 13.36 | D19: 77.2 | E19: - | F19: Хлеб вит. ржаной | G19: =IFERROR(VLOOKUP(F19,[2]Реестр!A:K,2,0),"") -> 100 | H19: 40 | I19: 3.6 | J19: =IFERROR(VLOOKUP(O19,Реестр!#REF!,3,0)*Q19/P19,"")
A21: Итого за Комплекс | I21: =SUM(I14:I20) -> 224.27 | J21: 224.27 | K21: =J21-I21 -> 0
A22: Комплекс №2 5-11 классы 1 смена
A23: 0.24 | B23: 0.03 | C23: 0.74 | D23: 4.2 | E23: ="7/10" -> 7/10 | F23: Кукуруза консервированная | G23: =IFERROR(VLOOKUP(F23,[1]Реестр!A:K,2,0),"") | H23: 30 | I23: 16.1
A24: 19.44 | B24: 21.37 | C24: 55.36 | D24: 508.5 | E24: ="8/35" -> 8/35 | F24: Жаркое по-домашнему со свининой | G24: =IFERROR(VLOOKUP(F24,[2]Реестр!A:K,2,0),"") | H24: 250 | I24: 140.84 | J24: =IFERROR(VLOOKUP(O24,Реестр!#REF!,3,0)*Q24/P24,"")
A25: 0.14 | B25: 0.1 | C25: 1.5 | D25: 83.96262 | E25: ="11/1" -> 11/1 | F25: Напиток ассорти из красных ягод | G25: =IFERROR(VLOOKUP(F25,[2]Реестр!A:K,2,0),"") -> 200 | H25: 200 | I25: 12.8
A26: 2.64 | B26: 0.24 | C26: 18.72 | D26: 89.6 | E26: - | F26: Хлеб вит. пшеничный | G26: =IFERROR(VLOOKUP(F26,[2]Реестр!A:K,2,0),"") -> 100 | H26: 40 | I26: 3.6 | J26: =IFERROR(VLOOKUP(O26,Реестр!#REF!,3,0)*Q26/P26,"")
A27: 2.64 | B27: 0.48 | C27: 13.36 | D27: 77.2 | E27: - | F27: Хлеб вит. ржаной | G27: =IFERROR(VLOOKUP(F27,[2]Реестр!A:K,2,0),"") -> 100 | H27: 40 | I27: 3.6
A29: Итого за Комплекс | I29: =SUM(I23:I28) -> 176.94 | J29: 176.94 | K29: =I29-J29 -> 0
A30: Комплекс №2 5-11 классы 2 смена
A31: 1.29 | B31: 5.97 | C31: 7.97 | D31: 86.23 | E31: ="7/80" -> 7/80 | F31: Салат из отварной свеклы с сол. огурцом и куриным яйцом | G31: =IFERROR(VLOOKUP(F31,[2]Реестр!A:K,2,0),"") | H31: 100 | I31: 52.76
A32: 12.44 | B32: 7.77 | C32: 25.16 | D32: 208 | E32: ="6/70" -> 6/70 | F32: Рассольник Ленинградский со сметаной | G32: =IFERROR(VLOOKUP(F32,[2]Реестр!A:K,2,0),"") -> 300 | H32: 250 | I32: 50 | K32: =I38-J32 -> 265.4
A33: 19.44 | B33: 21.37 | C33: 55.36 | D33: 508.5 | E33: ="8/35" -> 8/35 | F33: Жаркое по-домашнему со свининой | G33: =IFERROR(VLOOKUP(F33,[2]Реестр!A:K,2,0),"") | H33: 250 | I33: 140.84
A34: 0.14 | B34: 0.1 | C34: 1.5 | D34: 83.96262 | E34: ="11/1" -> 11/1 | F34: Напиток ассорти из красных ягод | G34: =IFERROR(VLOOKUP(F34,[2]Реестр!A:K,2,0),"") -> 200 | H34: 200 | I34: 12.8
A35: 3.3 | B35: 0.3 | C35: 23.4 | D35: 112 | E35: - | F35: Хлеб вит. пшеничный | G35: =IFERROR(VLOOKUP(F35,[2]Реестр!A:K,2,0),"") -> 100 | H35: 50 | I35: 4.5
A36: 3.3 | B36: 0.6 | C36: 16.7 | D36: 96.5 | E36: - | F36: Хлеб вит. ржаной | G36: =IFERROR(VLOOKUP(F36,[2]Реестр!A:K,2,0),"") -> 100 | H36: 50 | I36: 4.5
A38: Итого за Комплекс | I38: =SUM(I31:I37) -> 265.4 | J38: 265.4 | K38: =I38-J38 -> 0
A39: Комплекс №3 Двухразовое питание 1-4 классы
A40: Завтрак
A41: =IFERROR(VLOOKUP(F41,[1]Реестр!A:K,3,0)*H41/G41,"") -> 3.84 | B41: =IFERROR(VLOOKUP(F41,[1]Реестр!A:K,4,0)*H41/G41,"") -> 10.1 | C41: =IFERROR(VLOOKUP(F41,[1]Реестр!A:K,5,0)*H41/G41,"") -> 9.77 | D41: =IFERROR(VLOOKUP(F41,[1]Реестр!A:K,6,0)*H41/G41,"") -> 145.383 | E41: =IFERROR(VLOOKUP(F41,[1]Реестр!A:K,11,0),"") -> 1*57 | F41: Бутерброд с сыром и маслом 20/10/10 | G41: =IFERROR(VLOOKUP(F41,[1]Реестр!A:K,2,0),"") -> 40 | H41: 40 | I41: 49.55 | J41: бутер
A42: 9.75 | B42: 12.14 | C42: 36.06 | D42: 291.64 | E42: ="2/57" -> 2/57 | F42: Каша ячневая молочная с маслом сливочным | G42: =IFERROR(VLOOKUP(F42,[1]Реестр!A:K,2,0),"") | H42: 210 | I42: 51.38 | J42: горячее
A43: =IFERROR(VLOOKUP(F43,[1]Реестр!A:K,3,0)*H43/G43,"") -> 0.15 | B43: =IFERROR(VLOOKUP(F43,[1]Реестр!A:K,4,0)*H43/G43,"") -> 0.09 | C43: =IFERROR(VLOOKUP(F43,[1]Реестр!A:K,5,0)*H43/G43,"") -> 8.58 | D43: =IFERROR(VLOOKUP(F43,[1]Реестр!A:K,6,0)*H43/G43,"") -> 34.8 | E43: =IFERROR(VLOOKUP(F43,[1]Реестр!A:K,11,0),"") -> 12*2 | F43: Соус из малины | G43: =IFERROR(VLOOKUP(F43,[1]Реестр!A:K,2,0),"") -> 100 | H43: 30 | I43: 24.59 | J43: соус/повидло
A44: =IFERROR(VLOOKUP(F44,[1]Реестр!A:K,3,0)*H44/G44,"") -> 1.4 | B44: =IFERROR(VLOOKUP(F44,[1]Реестр!A:K,4,0)*H44/G44,"") -> 1.1 | C44: =IFERROR(VLOOKUP(F44,[1]Реестр!A:K,5,0)*H44/G44,"") -> 16.6 | D44: =IFERROR(VLOOKUP(F44,[1]Реестр!A:K,6,0)*H44/G44,"") -> 79 | E44: ="11/59" -> 11/59 | F44: Кофейный напиток | G44: =IFERROR(VLOOKUP(F44,[1]Реестр!A:K,2,0),"") -> 200 | H44: 200 | I44: 22.2 | J44: напиток
A45: =IFERROR(VLOOKUP(F45,[1]Реестр!A:K,3,0)*H45/G45,"") -> 1.32 | B45: =IFERROR(VLOOKUP(F45,[1]Реестр!A:K,4,0)*H45/G45,"") -> 0.24 | C45: =IFERROR(VLOOKUP(F45,[1]Реестр!A:K,5,0)*H45/G45,"") -> 6.68 | D45: =IFERROR(VLOOKUP(F45,[1]Реестр!A:K,6,0)*H45/G45,"") -> 38.6 | E45: =IFERROR(VLOOKUP(F45,[1]Реестр!A:K,11,0),"") -> - | F45: Хлеб вит. ржаной | G45: =IFERROR(VLOOKUP(F45,[1]Реестр!A:K,2,0),"") -> 100 | H45: 20 | I45: 1.8 | J45: любая позиция
A46: Обед
A47: 1.03 | B47: 4.77 | C47: 6.38 | D47: 68.99 | E47: ="7/80" -> 7/80 | F47: Салат из отварной свеклы с соленым огурцом и куриным яйцом | G47: =IFERROR(VLOOKUP(F47,[2]Реестр!A:K,2,0),"") | H47: 80 | I47: 41.6 | J47: салат
A48: 5.55 | B48: 7.8 | C48: 15.95 | D48: 199.78905 | E48: ="6/70" -> 6/70 | F48: Рассольник Ленинградский со сметаной | G48: =IFERROR(VLOOKUP(F48,[2]Реестр!A:K,2,0),"") -> 300 | H48: 250 | I48: 50 | J48: суп
A49: 16.58 | B49: 19.5 | C49: 68.38 | D49: 327.07 | E49: ="8/35" -> 8/35 | F49: Жаркое по-домашнему со свининой | G49: =IFERROR(VLOOKUP(F49,[2]Реестр!A:K,2,0),"") | H49: 200 | I49: 112.67 | J49: горячее
A50: 0.14 | B50: 0.1 | C50: 1.5 | D50: 83.96262 | E50: ="11/1" -> 11/1 | F50: Напиток ассорти из красных ягод | G50: =IFERROR(VLOOKUP(F50,[2]Реестр!A:K,2,0),"") -> 200 | H50: 200 | I50: 12.8 | J50: гарнир
A51: 2.64 | B51: 0.24 | C51: 18.72 | D51: 89.6 | E51: - | F51: Хлеб вит. пшеничный | G51: =IFERROR(VLOOKUP(F51,[2]Реестр!A:K,2,0),"") -> 100 | H51: 40 | I51: 3.6 | J51: напиток
A52: 2.64 | B52: 0.48 | C52: 13.36 | D52: 77.2 | E52: - | F52: Хлеб вит. ржаной | G52: =IFERROR(VLOOKUP(F52,[2]Реестр!A:K,2,0),"") -> 100 | H52: 40 | I52: 3.6 | J52: хлеб пшеничный
J53: хлеб ржаной
A54: Итого за Комплекс | I54: =SUM(I41:I45,I47:I53) -> 373.79 | J54: 373.79 | K54: =I54-J54 -> 0
A55: Комплекс №4 Двухразовое питание 5-11 классы
A56: Завтрак
A57: =IFERROR(VLOOKUP(F57,[1]Реестр!A:K,3,0)*H57/G57,"") -> 5.08 | B57: =IFERROR(VLOOKUP(F57,[1]Реестр!A:K,4,0)*H57/G57,"") -> 11.55 | C57: =IFERROR(VLOOKUP(F57,[1]Реестр!A:K,5,0)*H57/G57,"") -> 9.97 | D57: =IFERROR(VLOOKUP(F57,[1]Реестр!A:K,6,0)*H57/G57,"") -> 164.15 | E57: =IFERROR(VLOOKUP(F57,[1]Реестр!A:K,11,0),"") -> 1*51 | F57: Бутерброд с сыром и маслом 20/15/10 | G57: =IFERROR(VLOOKUP(F57,[1]Реестр!A:K,2,0),"") -> 45 | H57: 45 | I57: 57.2 | J57: бутер
A58: 10.61 | B58: 10.17 | C58: 47.32 | D58: 321.17798 | E58: ="2/57" -> 2/57 | F58: Каша ячневая молочная с маслом сливочным | G58: =IFERROR(VLOOKUP(F58,[1]Реестр!A:K,2,0),"") | H58: 250 | I58: 61.16 | J58: горячее
A59: =IFERROR(VLOOKUP(F59,[1]Реестр!A:K,3,0)*H59/G59,"") -> 0.2 | B59: =IFERROR(VLOOKUP(F59,[1]Реестр!A:K,4,0)*H59/G59,"") -> 0.12 | C59: =IFERROR(VLOOKUP(F59,[1]Реестр!A:K,5,0)*H59/G59,"") -> 11.44 | D59: =IFERROR(VLOOKUP(F59,[1]Реестр!A:K,6,0)*H59/G59,"") -> 46.4 | E59: =IFERROR(VLOOKUP(F59,[1]Реестр!A:K,11,0),"") -> 12*2 | F59: Соус из малины | G59: =IFERROR(VLOOKUP(F59,[1]Реестр!A:K,2,0),"") -> 100 | H59: 40 | I59: 32.78 | J59: соус/повидло
A60: =IFERROR(VLOOKUP(F60,[1]Реестр!A:K,3,0)*H60/G60,"") -> 1.4 | B60: =IFERROR(VLOOKUP(F60,[1]Реестр!A:K,4,0)*H60/G60,"") -> 1.1 | C60: =IFERROR(VLOOKUP(F60,[1]Реестр!A:K,5,0)*H60/G60,"") -> 16.6 | D60: =IFERROR(VLOOKUP(F60,[1]Реестр!A:K,6,0)*H60/G60,"") -> 79 | E60: ="11/59" -> 11/59 | F60: Кофейный напиток | G60: =IFERROR(VLOOKUP(F60,[1]Реестр!A:K,2,0),"") -> 200 | H60: 200 | I60: 22.2 | J60: чай
A61: =IFERROR(VLOOKUP(F61,[1]Реестр!A:K,3,0)*H61/G61,"") -> 2.64 | B61: =IFERROR(VLOOKUP(F61,[1]Реестр!A:K,4,0)*H61/G61,"") -> 0.48 | C61: =IFERROR(VLOOKUP(F61,[1]Реестр!A:K,5,0)*H61/G61,"") -> 13.36 | D61: =IFERROR(VLOOKUP(F61,[1]Реестр!A:K,6,0)*H61/G61,"") -> 77.2 | E61: =IFERROR(VLOOKUP(F61,[1]Реестр!A:K,11,0),"") -> - | F61: Хлеб вит. ржаной | G61: =IFERROR(VLOOKUP(F61,[1]Реестр!A:K,2,0),"") -> 100 | H61: 40 | I61: 3.6 | J61: любая позиция
A62: Обед | J62: =IFERROR(VLOOKUP(O62,Реестр!#REF!,3,0)*Q62/P62,"")
A63: 1.29 | B63: 5.97 | C63: 7.97 | D63: 86.23 | E63: ="7/80" -> 7/80 | F63: Салат из отварной свеклы с сол. огурцом и куриным яйцом | G63: =IFERROR(VLOOKUP(F63,[2]Реестр!A:K,2,0),"") | H63: 100 | I63: 52.76 | J63: салат
A64: 12.44 | B64: 7.77 | C64: 25.16 | D64: 208 | E64: ="6/70" -> 6/70 | F64: Рассольник Ленинградский со сметаной | G64: =IFERROR(VLOOKUP(F64,[2]Реестр!A:K,2,0),"") -> 300 | H64: 250 | I64: 50 | J64: суп
A65: 19.44 | B65: 21.37 | C65: 55.36 | D65: 508.5 | E65: ="8/35" -> 8/35 | F65: Жаркое по-домашнему со свининой | G65: =IFERROR(VLOOKUP(F65,[2]Реестр!A:K,2,0),"") | H65: 250 | I65: 140.84 | J65: горячее
A66: 0.14 | B66: 0.1 | C66: 1.5 | D66: 83.96262 | E66: ="11/1" -> 11/1 | F66: Напиток ассорти из красных ягод | G66: =IFERROR(VLOOKUP(F66,[2]Реестр!A:K,2,0),"") -> 200 | H66: 200 | I66: 12.8 | J66: гарнир
A67: 3.3 | B67: 0.3 | C67: 23.4 | D67: 112 | E67: - | F67: Хлеб вит. пшеничный | G67: =IFERROR(VLOOKUP(F67,[2]Реестр!A:K,2,0),"") -> 100 | H67: 50 | I67: 4.5 | J67: напиток
A68: 3.3 | B68: 0.6 | C68: 16.7 | D68: 96.5 | E68: - | F68: Хлеб вит. ржаной | G68: =IFERROR(VLOOKUP(F68,[2]Реестр!A:K,2,0),"") -> 100 | H68: 50 | I68: 4.5 | J68: хлеб белый
J69: хлеб ржаной
A70: Итого за Комплекс | I70: =SUM(I57:I61)+SUM(I63:I69) -> 442.34 | J70: 442.34 | K70: =J70-I70 -> 0
A71: Комплекс №5 5-11 классы
A72: 0.24 | B72: 0.03 | C72: 0.74 | D72: 4.2 | E72: ="7/10" -> 7/10 | F72: Кукуруза консервированная | G72: =IFERROR(VLOOKUP(F72,[1]Реестр!A:K,2,0),"") | H72: 30 | I72: 16.1
A73: 19.44 | B73: 21.37 | C73: 55.36 | D73: 508.5 | E73: ="8/35" -> 8/35 | F73: Жаркое по-домашнему со свининой | G73: =IFERROR(VLOOKUP(F73,[2]Реестр!A:K,2,0),"") | H73: 250 | I73: 140.84
A74: 0.14 | B74: 0.1 | C74: 1.5 | D74: 83.96262 | E74: ="11/1" -> 11/1 | F74: Напиток ассорти из красных ягод | G74: =IFERROR(VLOOKUP(F74,[2]Реестр!A:K,2,0),"") -> 200 | H74: 200 | I74: 12.8
A75: 2.64 | B75: 0.24 | C75: 18.72 | D75: 89.6 | E75: - | F75: Хлеб вит. пшеничный | G75: =IFERROR(VLOOKUP(F75,[2]Реестр!A:K,2,0),"") -> 100 | H75: 40 | I75: 3.6
A76: 2.64 | B76: 0.48 | C76: 13.36 | D76: 77.2 | E76: - | F76: Хлеб вит. ржаной | G76: =IFERROR(VLOOKUP(F76,[2]Реестр!A:K,2,0),"") -> 100 | H76: 40 | I76: 3.6
A78: Итого за Комплекс | I78: =SUM(I72:I77) -> 176.94 | J78: 128.56 | L78: =J78-I78 -> -48.38
A79: Комплекс №6 Булочка 1-11 классы
A80: 7.7 | B80: 7.42 | C80: 32.09 | D80: 225.88 | E80: 13*10 | F80: Булочное изделие в асс. | G80: =IFERROR(VLOOKUP(F80,[2]Реестр!A:K,2,0),"") -> 100 | H80: 100 | I80: 50
A81: Итого за Комплекс | I81: =I80 -> 50 | J81: 42
A82: Комплекс №7 Суп 1-11 классы
A83: 5.55 | B83: 7.8 | C83: 15.95 | D83: 199.78905 | E83: ="6/70" -> 6/70 | F83: Рассольник Ленинградский со сметаной | G83: =IFERROR(VLOOKUP(F83,[2]Реестр!A:K,2,0),"") -> 300 | H83: 250 | I83: 50
A84: Итого за Комплекс | I84: =SUM(I83:I83) -> 50 | J84: 27
A85: Комплекс №9 5-11 Обед
A86: 1.29 | B86: 5.97 | C86: 7.97 | D86: 86.23 | E86: ="7/80" -> 7/80 | F86: Салат из отварной свеклы с сол. огурцом и куриным яйцом | G86: =IFERROR(VLOOKUP(F86,[2]Реестр!A:K,2,0),"") | H86: 100 | I86: 52.76
A87: 12.44 | B87: 7.77 | C87: 25.16 | D87: 208 | E87: ="6/70" -> 6/70 | F87: Рассольник Ленинградский со сметаной | G87: =IFERROR(VLOOKUP(F87,[2]Реестр!A:K,2,0),"") -> 300 | H87: 250 | I87: 50
A88: 19.44 | B88: 21.37 | C88: 55.36 | D88: 508.5 | E88: ="8/35" -> 8/35 | F88: Жаркое по-домашнему со свининой | G88: =IFERROR(VLOOKUP(F88,[2]Реестр!A:K,2,0),"") | H88: 250 | I88: 140.84
A89: 0.14 | B89: 0.1 | C89: 1.5 | D89: 83.96262 | E89: ="11/1" -> 11/1 | F89: Напиток ассорти из красных ягод | G89: =IFERROR(VLOOKUP(F89,[2]Реестр!A:K,2,0),"") -> 200 | H89: 200 | I89: 12.8
A90: 3.3 | B90: 0.3 | C90: 23.4 | D90: 112 | E90: - | F90: Хлеб вит. пшеничный | G90: =IFERROR(VLOOKUP(F90,[2]Реестр!A:K,2,0),"") -> 100 | H90: 50 | I90: 4.5
A91: 3.3 | B91: 0.6 | C91: 16.7 | D91: 96.5 | E91: - | F91: Хлеб вит. ржаной | G91: =IFERROR(VLOOKUP(F91,[2]Реестр!A:K,2,0),"") -> 100 | H91: 50 | I91: 4.5
A93: Итого за Комплекс | I93: =SUM(I86:I92) -> 265.4 | J93: 192.84 | L93: =J93-I93 -> -72.56
A94: Комплекс №1 1-4 классы (меню для детей с сахарным диабетом)
A95: =IFERROR(VLOOKUP(F95,[1]Реестр!A:K,3,0)*H95/G95,"") -> 5.08 | B95: =IFERROR(VLOOKUP(F95,[1]Реестр!A:K,4,0)*H95/G95,"") -> 11.55 | C95: =IFERROR(VLOOKUP(F95,[1]Реестр!A:K,5,0)*H95/G95,"") -> 9.97 | D95: =IFERROR(VLOOKUP(F95,[1]Реестр!A:K,6,0)*H95/G95,"") -> 164.15 | E95: =IFERROR(VLOOKUP(F95,[1]Реестр!A:K,11,0),"") -> 1*51 | F95: Бутерброд с сыром и маслом 20/15/10 | G95: =IFERROR(VLOOKUP(F95,[1]Реестр!A:K,2,0),"") -> 45 | H95: 45 | I95: 149.52
A96: =IFERROR(VLOOKUP(F96,[1]Реестр!A:K,3,0)*H96/G96,"") -> 6.375 | B96: =IFERROR(VLOOKUP(F96,[1]Реестр!A:K,4,0)*H96/G96,"") -> 5.75 | C96: =IFERROR(VLOOKUP(F96,[1]Реестр!A:K,5,0)*H96/G96,"") -> 0.375 | D96: =IFERROR(VLOOKUP(F96,[1]Реестр!A:K,6,0)*H96/G96,"") -> 78.75 | E96: =IFERROR(VLOOKUP(F96,[1]Реестр!A:K,11,0),"") -> 4*57 | F96: Яйцо отварное 1 шт. | G96: =IFERROR(VLOOKUP(F96,[1]Реестр!A:K,2,0),"") -> 40 | H96: 50
A97: 6.26 | B97: 5.9 | C97: 28.4 | D97: 194.194 | E97: ="2/68" -> 2/68 | F97: Каша ячневая молочная с маслом сливочным без сахара | G97: =IFERROR(VLOOKUP(F97,[1]Реестр!A:K,2,0),"") | H97: 200
A98: 2.74 | B98: 2.2 | C98: 4.89 | D98: 49.717531 | E98: ="11/59 (2004 № 692)" -> 11/59 (2004 № 692) | F98: Кофейный напиток без сахара | G98: =IFERROR(VLOOKUP(F98,[1]Реестр!A:K,2,0),"") -> 200 | H98: ="200" -> 200
A99: =IFERROR(VLOOKUP(F99,[1]Реестр!A:K,3,0)*H99/G99,"") -> 1.32 | B99: =IFERROR(VLOOKUP(F99,[1]Реестр!A:K,4,0)*H99/G99,"") -> 0.24 | C99: =IFERROR(VLOOKUP(F99,[1]Реестр!A:K,5,0)*H99/G99,"") -> 6.68 | D99: =IFERROR(VLOOKUP(F99,[1]Реестр!A:K,6,0)*H99/G99,"") -> 38.6 | E99: =IFERROR(VLOOKUP(F99,[1]Реестр!A:K,11,0),"") -> - | F99: Хлеб вит. ржаной | G99: =IFERROR(VLOOKUP(F99,[1]Реестр!A:K,2,0),"") -> 100 | H99: ="20" -> 20
A100: Итого за Комплекс | I100: =SUM(I95:I99) -> 149.52
A101: Комплекс №1 1-4 классы (безмолочное меню) | J101: 85.2 | L101: =J101-I101 -> 85.2
A102: =IFERROR(VLOOKUP(F102,[1]Реестр!A:K,3,0)*H102/G102,"") -> 6.375 | B102: =IFERROR(VLOOKUP(F102,[1]Реестр!A:K,4,0)*H102/G102,"") -> 5.75 | C102: =IFERROR(VLOOKUP(F102,[1]Реестр!A:K,5,0)*H102/G102,"") -> 0.375 | D102: =IFERROR(VLOOKUP(F102,[1]Реестр!A:K,6,0)*H102/G102,"") -> 78.75 | E102: =IFERROR(VLOOKUP(F102,[1]Реестр!A:K,11,0),"") -> 4*57 | F102: Яйцо отварное 1 шт. | G102: =IFERROR(VLOOKUP(F102,[1]Реестр!A:K,2,0),"") -> 40 | H102: 50 | I102: 149.52
A103: 6.03 | B103: 12.83 | C103: 34.92 | D103: 275.69061 | E103: ="2/78" -> 2/78 | F103: Каша ячневая безмолочная с маслом растительным и отрубями | G103: =IFERROR(VLOOKUP(F103,[1]Реестр!A:K,2,0),"") | H103: 200
A104: =IFERROR(VLOOKUP(F104,[1]Реестр!A:K,3,0)*H104/G104,"") -> 0.175 | B104: =IFERROR(VLOOKUP(F104,[1]Реестр!A:K,4,0)*H104/G104,"") -> 0.105 | C104: =IFERROR(VLOOKUP(F104,[1]Реестр!A:K,5,0)*H104/G104,"") -> 10.01 | D104: =IFERROR(VLOOKUP(F104,[1]Реестр!A:K,6,0)*H104/G104,"") -> 40.6 | E104: =IFERROR(VLOOKUP(F104,[1]Реестр!A:K,11,0),"") -> 12*2 | F104: Соус из малины | G104: =IFERROR(VLOOKUP(F104,[1]Реестр!A:K,2,0),"") -> 100 | H104: 35
A105: 0.18 | B105: 0.04 | C105: 13.75 | D105: 53.136643 | E105: 11*56 | F105: Чай с сахаром | G105: =IFERROR(VLOOKUP(F105,[1]Реестр!A:K,2,0),"") | H105: ="200" -> 200
...

Sheet 1 Мл
A1: Школа | B1: 1 | E1: Отд./корп | I1: День | J1: ='16 Мл'!J1 -> 45327
A3: Прием пищи | B3: Раздел | C3: № рец. | D3: Блюдо | E3: Выход, г | F3: Цена | G3: Калорийность | H3: Белки | I3: Жиры | J3: Углеводы
A4: Завтрак | B4: гор.блюдо | C4: =#REF! -> #REF! | D4: =#REF! -> #REF! | E4: =#REF! -> #REF! | F4: =#REF! -> #REF! | G4: =#REF! -> #REF! | H4: =#REF! -> #REF! | I4: =#REF! -> #REF! | J4: =#REF! -> #REF!
B5: гор.напиток | C5: =#REF! -> #REF! | D5: =#REF! -> #REF! | E5: =#REF! -> #REF! | F5: =#REF! -> #REF! | G5: =#REF! -> #REF! | H5: =#REF! -> #REF! | I5: =#REF! -> #REF! | J5: =#REF! -> #REF!
B6: хлеб | C6: =#REF! -> #REF! | D6: =#REF! -> #REF! | E6: =#REF! -> #REF! | F6: =#REF! -> #REF! | G6: =#REF! -> #REF! | H6: =#REF! -> #REF! | I6: =#REF! -> #REF! | J6: =#REF! -> #REF!
C7: =#REF! -> #REF! | D7: =#REF! -> #REF! | E7: =#REF! -> #REF! | F7: =#REF! -> #REF! | G7: =#REF! -> #REF! | H7: =#REF! -> #REF! | I7: =#REF! -> #REF! | J7: =#REF! -> #REF!
C8: =#REF! -> #REF! | D8: =#REF! -> #REF! | E8: =#REF! -> #REF! | F8: =#REF! -> #REF! | G8: =#REF! -> #REF! | H8: =#REF! -> #REF! | I8: =#REF! -> #REF! | J8: =#REF! -> #REF!
A9: Завтрак 2 | B9: фрукты
A12: Обед | B12: закуска | C12: =#REF! -> #REF! | D12: =#REF! -> #REF! | E12: =#REF! -> #REF! | F12: =#REF! -> #REF! | G12: =#REF! -> #REF! | H12: =#REF! -> #REF! | I12: =#REF! -> #REF! | J12: =#REF! -> #REF!
B13: 1 блюдо | C13: =#REF! -> #REF! | D13: =#REF! -> #REF! | E13: =#REF! -> #REF! | F13: =#REF! -> #REF! | G13: =#REF! -> #REF! | H13: =#REF! -> #REF! | I13: =#REF! -> #REF! | J13: =#REF! -> #REF!
B14: 2 блюдо | C14: =#REF! -> #REF! | D14: =#REF! -> #REF! | E14: =#REF! -> #REF! | F14: =#REF! -> #REF! | G14: =#REF! -> #REF! | H14: =#REF! -> #REF! | I14: =#REF! -> #REF! | J14: =#REF! -> #REF!
B15: гарнир | C15: =#REF! -> #REF! | D15: =#REF! -> #REF! | E15: =#REF! -> #REF! | F15: =#REF! -> #REF! | G15: =#REF! -> #REF! | H15: =#REF! -> #REF! | I15: =#REF! -> #REF! | J15: =#REF! -> #REF!
B16: сладкое | C16: =#REF! -> #REF! | D16: =#REF! -> #REF! | E16: =#REF! -> #REF! | F16: =#REF! -> #REF! | G16: =#REF! -> #REF! | H16: =#REF! -> #REF! | I16: =#REF! -> #REF! | J16: =#REF! -> #REF!
B17: хлеб бел. | C17: =#REF! -> #REF! | D17: =#REF! -> #REF! | E17: =#REF! -> #REF! | F17: =#REF! -> #REF! | G17: =#REF! -> #REF! | H17: =#REF! -> #REF! | I17: =#REF! -> #REF! | J17: =#REF! -> #REF!
B18: хлеб черн. | C18: =#REF! -> #REF! | D18: =#REF! -> #REF! | E18: =#REF! -> #REF! | F18: =#REF! -> #REF! | G18: =#REF! -> #REF! | H18: =#REF! -> #REF! | I18: =#REF! -> #REF! | J18: =#REF! -> #REF!
C19: =#REF! -> #REF! | D19: =#REF! -> #REF! | E19: =#REF! -> #REF! | F19: =#REF! -> #REF! | G19: =#REF! -> #REF! | H19: =#REF! -> #REF! | I19: =#REF! -> #REF! | J19: =#REF! -> #REF!
C20: =#REF! -> #REF! | D20: =#REF! -> #REF! | E20: =#REF! -> #REF! | F20: =#REF! -> #REF! | G20: =#REF! -> #REF! | H20: =#REF! -> #REF! | I20: =#REF! -> #REF! | J20: =#REF! -> #REF!

Sheet 1 Ст
A1: Школа | B1: 1 | E1: Отд./корп | I1: День | J1: ='16 Мл'!J1 -> 45327
A3: Прием пищи | B3: Раздел | C3: № рец. | D3: Блюдо | E3: Выход, г | F3: Цена | G3: Калорийность | H3: Белки | I3: Жиры | J3: Углеводы
A4: Завтрак | B4: гор.блюдо | C4: =#REF! -> #REF! | D4: =#REF! -> #REF! | E4: =#REF! -> #REF! | F4: =#REF! -> #REF! | G4: =#REF! -> #REF! | H4: =#REF! -> #REF! | I4: =#REF! -> #REF! | J4: =#REF! -> #REF!
B5: гор.напиток | C5: =#REF! -> #REF! | D5: =#REF! -> #REF! | E5: =#REF! -> #REF! | F5: =#REF! -> #REF! | G5: =#REF! -> #REF! | H5: =#REF! -> #REF! | I5: =#REF! -> #REF! | J5: =#REF! -> #REF!
B6: хлеб | C6: =#REF! -> #REF! | D6: =#REF! -> #REF! | E6: =#REF! -> #REF! | F6: =#REF! -> #REF! | G6: =#REF! -> #REF! | H6: =#REF! -> #REF! | I6: =#REF! -> #REF! | J6: =#REF! -> #REF!
C7: =#REF! -> #REF! | D7: =#REF! -> #REF! | E7: =#REF! -> #REF! | F7: =#REF! -> #REF! | G7: =#REF! -> #REF! | H7: =#REF! -> #REF! | I7: =#REF! -> #REF! | J7: =#REF! -> #REF!
C8: =#REF! -> #REF! | D8: =#REF! -> #REF! | E8: =#REF! -> #REF! | F8: =#REF! -> #REF! | G8: =#REF! -> #REF! | H8: =#REF! -> #REF! | I8: =#REF! -> #REF! | J8: =#REF! -> #REF!
A9: Завтрак 2 | B9: фрукты
A12: Обед | B12: закуска | C12: =#REF! -> #REF! | D12: =#REF! -> #REF! | E12: =#REF! -> #REF! | F12: =#REF! -> #REF! | G12: =#REF! -> #REF! | H12: =#REF! -> #REF! | I12: =#REF! -> #REF! | J12: =#REF! -> #REF!
B13: 1 блюдо | C13: =#REF! -> #REF! | D13: =#REF! -> #REF! | E13: =#REF! -> #REF! | F13: =#REF! -> #REF! | G13: =#REF! -> #REF! | H13: =#REF! -> #REF! | I13: =#REF! -> #REF! | J13: =#REF! -> #REF!
B14: 2 блюдо | C14: =#REF! -> #REF! | D14: =#REF! -> #REF! | E14: =#REF! -> #REF! | F14: =#REF! -> #REF! | G14: =#REF! -> #REF! | H14: =#REF! -> #REF! | I14: =#REF! -> #REF! | J14: =#REF! -> #REF!
B15: гарнир | C15: =#REF! -> #REF! | D15: =#REF! -> #REF! | E15: =#REF! -> #REF! | F15: =#REF! -> #REF! | G15: =#REF! -> #REF! | H15: =#REF! -> #REF! | I15: =#REF! -> #REF! | J15: =#REF! -> #REF!
B16: сладкое | C16: =#REF! -> #REF! | D16: =#REF! -> #REF! | E16: =#REF! -> #REF! | F16: =#REF! -> #REF! | G16: =#REF! -> #REF! | H16: =#REF! -> #REF! | I16: =#REF! -> #REF! | J16: =#REF! -> #REF!
B17: хлеб бел. | C17: =#REF! -> #REF! | D17: =#REF! -> #REF! | E17: =#REF! -> #REF! | F17: =#REF! -> #REF! | G17: =#REF! -> #REF! | H17: =#REF! -> #REF! | I17: =#REF! -> #REF! | J17: =#REF! -> #REF!
B18: хлеб черн. | C18: =#REF! -> #REF! | D18: =#REF! -> #REF! | E18: =#REF! -> #REF! | F18: =#REF! -> #REF! | G18: =#REF! -> #REF! | H18: =#REF! -> #REF! | I18: =#REF! -> #REF! | J18: =#REF! -> #REF!
C19: =#REF! -> #REF! | D19: =#REF! -> #REF! | E19: =#REF! -> #REF! | F19: =#REF! -> #REF! | G19: =#REF! -> #REF! | H19: =#REF! -> #REF! | I19: =#REF! -> #REF! | J19: =#REF! -> #REF!
C20: =#REF! -> #REF! | D20: =#REF! -> #REF! | E20: =#REF! -> #REF! | F20: =#REF! -> #REF! | G20: =#REF! -> #REF! | H20: =#REF! -> #REF! | I20: =#REF! -> #REF! | J20: =#REF! -> #REF!

Sheet 17
A1: Согласовано | F1: ООО "Комфорт" | H1: Согласовано
A2: Директор ООО "Комфорт" | F2: МАОУ СОШ № 17 | H2: Директор МАОУ СОШ № 17
A3: Поматилов С. С. | F3: Меню на 2 октября 2026 года* | H3: Нестерова Л.А.
A4: Пищевые вещества | D4: Ккал | E4: № ТТК | F4: Наименование блюд | G4: Выход по реестру, г | H4: Выход, г | I4: Цена, руб | J4: Раздел
A5: Белки | B5: Жиры | C5: Углеводы
A6: Комплекс №1 1-4 классы 1 смена
A7: 4.23 | B7: 4.96 | C7: 38.7 | D7: 228.9 | E7: ="1/50" -> 1/50 | F7: Бутерброд с маслом 20/10 г (батон витаминизированный) | G7: =IFERROR(VLOOKUP(F7,[1]Реестр!A:K,2,0),"") | H7: 30 | I7: 38.37 | J7: =IFERROR(VLOOKUP(O7,Реестр!#REF!,3,0)*Q7/P7,"")
A8: 13.79 | B8: 14.6 | C8: 23.4 | D8: 266.7 | E8: ="4/56" -> 4/56 | F8: Омлет натуральный с маслом сливочным | H8: 150 | I8: 75.42 | J8: =IFERROR(VLOOKUP(O8,Реестр!#REF!,3,0)*Q8/P8,"")
A9: 0.18 | B9: 0.04 | C9: 13.75 | D9: 53.136643 | E9: ="11/56" -> 11/56 | F9: Чай "Каркаде" с сахаром | H9: 200 | I9: 8.15 | J9: =IFERROR(VLOOKUP(O9,Реестр!#REF!,3,0)*Q9/P9,"")
A10: 1.3 | B10: 0.2 | C10: 6.7 | D10: 39 | E10: ="-" -> - | F10: Хлеб ржаной | H10: 20 | I10: 1.8 | J10: =IFERROR(VLOOKUP(O10,Реестр!#REF!,3,0)*Q10/P10,"")
A11: 0.52 | B11: 0.52 | C11: 15.08 | D11: 63.284 | E11: ="-" -> - | F11: Фрукт свежий | H11: 130 | I11: 25.78
A12: Итого за Комплекс | I12: =SUM(I7:I11) -> 149.52 | J12: 149.52 | K12: =I12-J12 -> 0
A13: Комплекс №1 1-4 классы 2 смена | N13: Напиток из вишни
A14: 1.33 | B14: 5.12 | C14: 4.1 | D14: 73.52 | E14: 7/13 | F14: Салат из белокочанной капусты с кукурузой и растительным маслом | G14: =IFERROR(VLOOKUP(F14,[2]Реестр!A:K,2,0),"") | H14: 80 | I14: 44.94 | J14: =IFERROR(VLOOKUP(O14,Реестр!#REF!,3,0)*Q14/P14,"")
A15: 4.11 | B15: 4.77 | C15: 19.5 | D15: 143.13 | E15: 6/65 | F15: Суп-пюре из разных овощей с гренками | G15: =IFERROR(VLOOKUP(F15,[2]Реестр!A:K,2,0),"") | H15: 250 | I15: 50 | J15: =IFERROR(VLOOKUP(O15,Реестр!#REF!,3,0)*Q15/P15,"")
A16: 15.55 | B16: 15.4 | C16: 57.1 | D16: 364.2 | E16: 9/17 | F16: Плов из птицы (филе бедра куриного) с куркумой | G16: =IFERROR(VLOOKUP(F16,[2]Реестр!A:K,2,0),"") | H16: 200 | I16: 102.59 | J16: =IFERROR(VLOOKUP(O16,Реестр!#REF!,3,0)*Q16/P16,"")
A17: 0.18 | B17: 0.05 | C17: 0.32 | D17: 37.582528 | E17: 11/7 | F17: Напиток из вишни | G17: =IFERROR(VLOOKUP(F17,[2]Реестр!A:K,2,0),"") -> 200 | H17: 200 | I17: 19.54
A18: 3.3 | B18: 0.3 | C18: 23.4 | D18: 112 | E18: - | F18: Хлеб пшеничный витаминизированный | G18: =IFERROR(VLOOKUP(F18,[2]Реестр!A:K,2,0),"") | H18: 50 | I18: 4.5 | J18: =IFERROR(VLOOKUP(O18,Реестр!#REF!,3,0)*Q18/P18,"")
A19: 2 | B19: 0.4 | C19: 10 | D19: 58 | E19: - | F19: Хлеб ржаной | G19: =IFERROR(VLOOKUP(F19,[2]Реестр!A:K,2,0),"") | H19: 30 | I19: 2.7 | J19: =IFERROR(VLOOKUP(O19,Реестр!#REF!,3,0)*Q19/P19,"")
A21: Итого за Комплекс | I21: =SUM(I14:I20) -> 224.27 | J21: 224.27 | K21: =J21-I21 -> 0
A22: Комплекс №2 5-11 классы 1 смена
A23: 0.48 | B23: 2.37 | C23: 3.09 | D23: 36.64 | E23: ="7/26" -> 7/26 | F23: Закуска витаминка (с огурцом) | G23: =IFERROR(VLOOKUP(F23,[1]Реестр!A:K,2,0),"") | H23: 30 | I23: 19.26
A24: 19.44 | B24: 19.42 | C24: 57.63 | D24: 436.2 | E24: 9/17 | F24: Плов из птицы (филе бедра куриного) с куркумой | G24: =IFERROR(VLOOKUP(F24,[2]Реестр!A:K,2,0),"") | H24: 250 | I24: 130.94 | J24: =IFERROR(VLOOKUP(O24,Реестр!#REF!,3,0)*Q24/P24,"")
A25: 0.18 | B25: 0.05 | C25: 0.32 | D25: 37.582528 | E25: 11/7 | F25: Напиток из вишни | G25: =IFERROR(VLOOKUP(F25,[2]Реестр!A:K,2,0),"") -> 200 | H25: 200 | I25: 19.54
A26: 3.3 | B26: 0.3 | C26: 23.4 | D26: 112 | E26: ="-" -> - | F26: Хлеб пшеничный витаминизированный | G26: =IFERROR(VLOOKUP(F26,[2]Реестр!A:K,2,0),"") | H26: 50 | I26: 4.5 | J26: =IFERROR(VLOOKUP(O26,Реестр!#REF!,3,0)*Q26/P26,"")
A27: 2 | B27: 0.4 | C27: 10 | D27: 58 | E27: ="-" -> - | F27: Хлеб ржаной | G27: =IFERROR(VLOOKUP(F27,[2]Реестр!A:K,2,0),"") | H27: 30 | I27: 2.7
J28: =IFERROR(VLOOKUP(O28,Реестр!#REF!,3,0)*Q28/P28,"")
A29: Итого за Комплекс | I29: =SUM(I23:I28) -> 176.94 | J29: 176.94 | K29: =I29-J29 -> 0
A30: Комплекс №2 5-11 классы 2 смена
A31: 2.3 | B31: 6.01 | C31: 4.01 | D31: 72.147796 | E31: 7/13 | F31: Салат из белокочанной капусты с кукурузой и растительным маслом | G31: =IFERROR(VLOOKUP(F31,[2]Реестр!A:K,2,0),"") | H31: 100 | I31: 56.17
A32: 4.11 | B32: 4.77 | C32: 26.5 | D32: 213.5 | E32: 6/65 | F32: Суп-пюре из разных овощей с гренками | G32: =IFERROR(VLOOKUP(F32,[2]Реестр!A:K,2,0),"") | H32: 250 | I32: 50 | K32: =I38-J32 -> 265.4
A33: 17.5 | B33: 15.6 | C33: 42.3 | D33: 265.7 | E33: 9/17 | F33: Плов из птицы (филе бедра куриного) с куркумой | G33: =IFERROR(VLOOKUP(F33,[2]Реестр!A:K,2,0),"") | H33: 250 | I33: 130.94
A34: 3.94 | B34: 5.11 | C34: 27.5 | D34: 170.19545 | E34: 11/7 | F34: Напиток из вишни | G34: =IFERROR(VLOOKUP(F34,[2]Реестр!A:K,2,0),"") -> 200 | H34: 200 | I34: 19.54
A35: 0.14 | B35: 0.1 | C35: 1.5 | D35: 83.96262 | E35: - | F35: Хлеб пшеничный витаминизированный | G35: =IFERROR(VLOOKUP(F35,[2]Реестр!A:K,2,0),"") | H35: 50 | I35: 4.5
A36: 3.3 | B36: 0.3 | C36: 23.4 | D36: 112 | E36: - | F36: Хлеб ржаной | G36: =IFERROR(VLOOKUP(F36,[2]Реестр!A:K,2,0),"") | H36: 50 | I36: 4.25
A38: Итого за Комплекс | I38: =SUM(I31:I37) -> 265.4 | J38: 265.4 | K38: =I38-J38 -> 0
A39: Комплекс №3 Двухразовое питание 1-4 классы
A40: Завтрак
A41: 4.23 | B41: 4.96 | C41: 38.7 | D41: 228.9 | E41: ="1/50" -> 1/50 | F41: Бутерброд с маслом 20/10 г (батон витаминизированный) | G41: =IFERROR(VLOOKUP(F41,[1]Реестр!A:K,2,0),"") | H41: 30 | I41: 38.37 | J41: бутер
A42: 13.79 | B42: 14.6 | C42: 23.4 | D42: 266.7 | E42: ="4/56" -> 4/56 | F42: Омлет натуральный с маслом сливочным | H42: 150 | I42: 75.42 | J42: горячее
A43: 0.18 | B43: 0.04 | C43: 13.75 | D43: 53.136643 | E43: ="11/56" -> 11/56 | F43: Чай "Каркаде" с сахаром | H43: 200 | I43: 8.15 | J43: соус/повидло
A44: 1.3 | B44: 0.2 | C44: 6.7 | D44: 39 | E44: ="-" -> - | F44: Хлеб ржаной | H44: 20 | I44: 1.8 | J44: напиток
A45: 0.52 | B45: 0.52 | C45: 15.08 | D45: 63.284 | E45: ="-" -> - | F45: Фрукт свежий | H45: 130 | I45: 25.78 | J45: любая позиция
A46: Обед
A47: 1.33 | B47: 5.12 | C47: 4.1 | D47: 73.52 | E47: 7/13 | F47: Салат из белокочанной капусты с кукурузой и растительным маслом | G47: =IFERROR(VLOOKUP(F47,[2]Реестр!A:K,2,0),"") | H47: 80 | I47: 44.94 | J47: салат
A48: 4.11 | B48: 4.77 | C48: 19.5 | D48: 143.13 | E48: 6/65 | F48: Суп-пюре из разных овощей с гренками | G48: =IFERROR(VLOOKUP(F48,[2]Реестр!A:K,2,0),"") | H48: 250 | I48: 50 | J48: суп
A49: 15.55 | B49: 15.4 | C49: 57.1 | D49: 364.2 | E49: 9/17 | F49: Плов из птицы (филе бедра куриного) с куркумой | G49: =IFERROR(VLOOKUP(F49,[2]Реестр!A:K,2,0),"") | H49: 200 | I49: 102.59 | J49: горячее
A50: 0.18 | B50: 0.05 | C50: 0.32 | D50: 37.582528 | E50: 11/7 | F50: Напиток из вишни | G50: =IFERROR(VLOOKUP(F50,[2]Реестр!A:K,2,0),"") -> 200 | H50: 200 | I50: 19.54 | J50: гарнир
A51: 3.3 | B51: 0.3 | C51: 23.4 | D51: 112 | E51: - | F51: Хлеб пшеничный витаминизированный | G51: =IFERROR(VLOOKUP(F51,[2]Реестр!A:K,2,0),"") | H51: 50 | I51: 4.5 | J51: напиток
A52: 2 | B52: 0.4 | C52: 10 | D52: 58 | E52: - | F52: Хлеб ржаной | G52: =IFERROR(VLOOKUP(F52,[2]Реестр!A:K,2,0),"") | H52: 30 | I52: 2.7 | J52: хлеб пшеничный
J53: хлеб ржаной
A54: Итого за Комплекс | I54: =SUM(I41:I45,I47:I53) -> 373.79 | J54: 212.99 | K54: =I54-J54 -> 160.8
A55: Комплекс №4 Двухразовое питание 5-11 классы
A56: Завтрак
A57: 3.76 | B57: 3.05 | C57: 15.15 | D57: 112.3 | E57: ="1/50" -> 1/50 | F57: Бутерброд с маслом на батоне витаминизированном 20/10 г | G57: =IFERROR(VLOOKUP(F57,[1]Реестр!A:K,2,0),"") | H57: 30 | I57: 38.37 | J57: бутер
A58: 16.39 | B58: 19.7 | C58: 41.3 | D58: 392.3 | E58: ="4/56" -> 4/56 | F58: Омлет натуральный с маслом сливочным | H58: 200 | I58: 101.94 | J58: горячее
A59: 0.18 | B59: 0.04 | C59: 13.75 | D59: 53.136643 | E59: ="11/56" -> 11/56 | F59: Чай "Каркаде" с сахаром | H59: 200 | I59: 8.15 | J59: соус/повидло
A60: 2 | B60: 0.4 | C60: 10 | D60: 58 | E60: ="-" -> - | F60: Хлеб ржаной | H60: 30 | I60: 2.7 | J60: чай
A61: 0.52 | B61: 0.52 | C61: 15.08 | D61: 63.284 | E61: ="-" -> - | F61: Фрукт свежий | H61: 130 | I61: 25.78 | J61: любая позиция
A62: Обед | J62: =IFERROR(VLOOKUP(O62,Реестр!#REF!,3,0)*Q62/P62,"")
A63: 2.3 | B63: 6.01 | C63: 4.01 | D63: 72.147796 | E63: 7/13 | F63: Салат из белокочанной капусты с кукурузой и растительным маслом | G63: =IFERROR(VLOOKUP(F63,[2]Реестр!A:K,2,0),"") | H63: 100 | I63: 56.17 | J63: салат
A64: 4.11 | B64: 4.77 | C64: 26.5 | D64: 213.5 | E64: 6/65 | F64: Суп-пюре из разных овощей с гренками | G64: =IFERROR(VLOOKUP(F64,[2]Реестр!A:K,2,0),"") | H64: 250 | I64: 50 | J64: суп
A65: 17.5 | B65: 15.6 | C65: 42.3 | D65: 265.7 | E65: 9/17 | F65: Плов из птицы (филе бедра куриного) с куркумой | G65: =IFERROR(VLOOKUP(F65,[2]Реестр!A:K,2,0),"") | H65: 250 | I65: 130.94 | J65: горячее
A66: 3.94 | B66: 5.11 | C66: 27.5 | D66: 170.19545 | E66: 11/7 | F66: Напиток из вишни | G66: =IFERROR(VLOOKUP(F66,[2]Реестр!A:K,2,0),"") -> 200 | H66: 200 | I66: 19.54 | J66: гарнир
A67: 0.14 | B67: 0.1 | C67: 1.5 | D67: 83.96262 | E67: - | F67: Хлеб пшеничный витаминизированный | G67: =IFERROR(VLOOKUP(F67,[2]Реестр!A:K,2,0),"") | H67: 50 | I67: 4.5 | J67: напиток
A68: 3.3 | B68: 0.3 | C68: 23.4 | D68: 112 | E68: - | F68: Хлеб ржаной | G68: =IFERROR(VLOOKUP(F68,[2]Реестр!A:K,2,0),"") | H68: 50 | I68: 4.25 | J68: хлеб белый
J69: хлеб ржаной
A70: Итого за Комплекс | I70: =SUM(I57:I61)+SUM(I63:I69) -> 442.34 | J70: 442.34 | K70: =J70-I70 -> 0
A71: Комплекс №5 5-11 классы
A72: 0.48 | B72: 2.37 | C72: 3.09 | D72: 36.64 | E72: ="7/26" -> 7/26 | F72: Закуска витаминка (с огурцом) | G72: =IFERROR(VLOOKUP(F72,[1]Реестр!A:K,2,0),"") | H72: 30 | I72: 19.26
A73: 19.44 | B73: 19.42 | C73: 57.63 | D73: 436.2 | E73: 9/17 | F73: Плов из птицы (филе бедра куриного) с куркумой | G73: =IFERROR(VLOOKUP(F73,[2]Реестр!A:K,2,0),"") | H73: 250 | I73: 130.94
A74: 0.18 | B74: 0.05 | C74: 0.32 | D74: 37.582528 | E74: 11/7 | F74: Напиток из вишни | G74: =IFERROR(VLOOKUP(F74,[2]Реестр!A:K,2,0),"") -> 200 | H74: 200 | I74: 19.54
A75: 3.3 | B75: 0.3 | C75: 23.4 | D75: 112 | E75: ="-" -> - | F75: Хлеб пшеничный витаминизированный | G75: =IFERROR(VLOOKUP(F75,[2]Реестр!A:K,2,0),"") | H75: 50 | I75: 4.5
A76: 2 | B76: 0.4 | C76: 10 | D76: 58 | E76: ="-" -> - | F76: Хлеб ржаной | G76: =IFERROR(VLOOKUP(F76,[2]Реестр!A:K,2,0),"") | H76: 30 | I76: 2.7
A78: Итого за Комплекс | I78: =SUM(I72:I77) -> 176.94 | J78: 98.52 | L78: =J78-I78 -> -78.42
A79: Комплекс №6 Булочка 1-11 классы
A80: 7.7 | B80: 7.42 | C80: 32.09 | D80: 225.88 | E80: 13*10 | F80: Булочное изделие в асс. | G80: =IFERROR(VLOOKUP(F80,[2]Реестр!A:K,2,0),"") -> 100 | H80: 80 | I80: 50
A81: Итого за Комплекс | I81: =I80 -> 50 | J81: 29
A82: Комплекс №7 Суп 1-11 классы
A83: 4.11 | B83: 4.77 | C83: 26.5 | D83: 213.5 | E83: 6/65 | F83: Суп-пюре из разных овощей с гренками | G83: =IFERROR(VLOOKUP(F83,[2]Реестр!A:K,2,0),"") | H83: 250 | I83: 50
A84: Итого за Комплекс | I84: =SUM(I83:I83) -> 50 | J84: 27
A85: Комплекс №9 5-11 Обед
A86: 2.3 | B86: 6.01 | C86: 4.01 | D86: 72.147796 | E86: 7/13 | F86: Салат из белокочанной капусты с кукурузой и растительным маслом | G86: =IFERROR(VLOOKUP(F86,[2]Реестр!A:K,2,0),"") | H86: 100 | I86: 56.17
A87: 4.11 | B87: 4.77 | C87: 26.5 | D87: 213.5 | E87: 6/65 | F87: Суп-пюре из разных овощей с гренками | G87: =IFERROR(VLOOKUP(F87,[2]Реестр!A:K,2,0),"") | H87: 250 | I87: 50
A88: 17.5 | B88: 15.6 | C88: 42.3 | D88: 265.7 | E88: 9/17 | F88: Плов из птицы (филе бедра куриного) с куркумой | G88: =IFERROR(VLOOKUP(F88,[2]Реестр!A:K,2,0),"") | H88: 250 | I88: 130.94
A89: 3.94 | B89: 5.11 | C89: 27.5 | D89: 170.19545 | E89: 11/7 | F89: Напиток из вишни | G89: =IFERROR(VLOOKUP(F89,[2]Реестр!A:K,2,0),"") -> 200 | H89: 200 | I89: 19.54
A90: 0.14 | B90: 0.1 | C90: 1.5 | D90: 83.96262 | E90: - | F90: Хлеб пшеничный витаминизированный | G90: =IFERROR(VLOOKUP(F90,[2]Реестр!A:K,2,0),"") | H90: 50 | I90: 4.5
A91: 3.3 | B91: 0.3 | C91: 23.4 | D91: 112 | E91: - | F91: Хлеб ржаной | G91: =IFERROR(VLOOKUP(F91,[2]Реестр!A:K,2,0),"") | H91: 50 | I91: 4.25
A93: Итого за Комплекс | I93: =SUM(I86:I92) -> 265.4 | J93: 147.79 | L93: =J93-I93 -> -117.61
A94: Комплекс №1 1-4 классы (меню для детей с сахарным диабетом)
A95: 3.76 | B95: 3.05 | C95: 13.8 | D95: 93.76256 | E95: 1/50 | F95: Бутерброд с маслом 20/10 г (батон витаминизированный) | G95: =IFERROR(VLOOKUP(F95,[1]Реестр!A:K,2,0),"") | H95: 30 | I95: 149.52
A96: 13.79 | B96: 20.23 | C96: 3.57 | D96: 251.02965 | E96: 4/56 | F96: Омлет натуральный с маслом сливочным | G96: =IFERROR(VLOOKUP(F96,[1]Реестр!A:K,2,0),"") | H96: 150
A97: 0.18 | B97: 0.04 | C97: 13.75 | D97: 53.136643 | E97: 11/17-1 | F97: Чай "Каркаде" без сахара | G97: =IFERROR(VLOOKUP(F97,[1]Реестр!A:K,2,0),"") | H97: 200
A98: 1.32 | B98: 0.24 | C98: 8.34 | D98: 38.676 | E98: ="-" -> - | F98: Хлеб ржаной | G98: =IFERROR(VLOOKUP(F98,[1]Реестр!A:K,2,0),"") | H98: ="20" -> 20
A99: 1.32 | B99: 0.24 | C99: 0 | D99: 38.676 | E99: - | F99: Фрукт свежий | G99: =IFERROR(VLOOKUP(F99,[1]Реестр!A:K,2,0),"") | H99: 130
A100: Итого за Комплекс | I100: =SUM(I95:I99) -> 149.52
A101: Комплекс №1 1-4 классы (безмолочное меню) | J101: 85.2 | L101: =J101-I101 -> 85.2
A102: 17.96 | B102: 19.65 | C102: 1.04 | D102: 252.59814 | E102: 4/58 (2018 № 2/6-1) | F102: Омлет безмолочный запеченный или паровой | G102: =IFERROR(VLOOKUP(F102,[1]Реестр!A:K,2,0),"") -> 200 | H102: 150 | I102: 149.52
A103: 0.18 | B103: 0.04 | C103: 13.75 | D103: 53.136643 | E103: 11/17 | F103: Чай "Каркаде" с сахаром | G103: =IFERROR(VLOOKUP(F103,[1]Реестр!A:K,2,0),"") -> 200 | H103: 200
A104: 0.52 | B104: 0.52 | C104: 15.08 | D104: 63.284 | E104: - | F104: Фрукт свежий | G104: =IFERROR(VLOOKUP(F104,[1]Реестр!A:K,2,0),"") | H104: 130
...

Sheet 19
A1: Согласовано | F1: ООО "Комфорт" | H1: Согласовано
A2: Директор ООО "Комфорт" | F2: МАОУ СОШ № 19 | H2: Директор МАОУ СОШ № 19
A3: Поматилов С. С. | F3: Меню на 2 октября 2026 года* | H3: Белова С.А.
A4: Пищевые вещества | D4: Ккал | E4: № ТТК | F4: Наименование блюд | G4: Выход по реестру, г | H4: Выход, г | I4: Цена, руб | J4: Раздел
A5: Белки | B5: Жиры | C5: Углеводы
A6: Комплекс №1 1-4 классы 1 смена
A7: 4.23 | B7: 4.96 | C7: 38.7 | D7: 228.9 | E7: ="1/50" -> 1/50 | F7: Бутерброд с маслом 20/10 г (батон витаминизированный) | G7: =IFERROR(VLOOKUP(F7,[1]Реестр!A:K,2,0),"") | H7: 30 | I7: 38.37 | J7: =IFERROR(VLOOKUP(O7,Реестр!#REF!,3,0)*Q7/P7,"")
A8: 13.79 | B8: 14.6 | C8: 23.4 | D8: 266.7 | E8: ="4/56" -> 4/56 | F8: Омлет натуральный с маслом сливочным | H8: 150 | I8: 75.42 | J8: =IFERROR(VLOOKUP(O8,Реестр!#REF!,3,0)*Q8/P8,"")
A9: 0.18 | B9: 0.04 | C9: 13.75 | D9: 53.136643 | E9: ="11/56" -> 11/56 | F9: Чай "Каркаде" с сахаром | H9: 200 | I9: 8.15 | J9: =IFERROR(VLOOKUP(O9,Реестр!#REF!,3,0)*Q9/P9,"")
A10: 1.3 | B10: 0.2 | C10: 6.7 | D10: 39 | E10: ="-" -> - | F10: Хлеб ржаной | H10: 20 | I10: 1.8 | J10: =IFERROR(VLOOKUP(O10,Реестр!#REF!,3,0)*Q10/P10,"")
A11: 0.52 | B11: 0.52 | C11: 15.08 | D11: 63.284 | E11: ="-" -> - | F11: Фрукт свежий | H11: 130 | I11: 25.78
A12: Итого за Комплекс | I12: =SUM(I7:I11) -> 149.52 | J12: 85.2 | K12: =I12-J12 -> 64.32
A13: Комплекс №1 1-4 классы 2 смена
A14: 1.33 | B14: 5.12 | C14: 4.1 | D14: 73.52 | E14: 7/13 | F14: Салат из белокочанной капусты с кукурузой и растительным маслом | G14: =IFERROR(VLOOKUP(F14,[2]Реестр!A:K,2,0),"") | H14: 80 | I14: 44.94 | J14: =IFERROR(VLOOKUP(O14,Реестр!#REF!,3,0)*Q14/P14,"")
A15: 4.11 | B15: 4.77 | C15: 19.5 | D15: 143.13 | E15: 6/65 | F15: Суп-пюре из разных овощей с гренками | G15: =IFERROR(VLOOKUP(F15,[2]Реестр!A:K,2,0),"") | H15: 250 | I15: 50 | J15: =IFERROR(VLOOKUP(O15,Реестр!#REF!,3,0)*Q15/P15,"")
A16: 15.55 | B16: 15.4 | C16: 57.1 | D16: 364.2 | E16: 9/17 | F16: Плов из птицы (филе бедра куриного) с куркумой | G16: =IFERROR(VLOOKUP(F16,[2]Реестр!A:K,2,0),"") | H16: 200 | I16: 102.59 | J16: =IFERROR(VLOOKUP(O16,Реестр!#REF!,3,0)*Q16/P16,"")
A17: 0.18 | B17: 0.05 | C17: 0.32 | D17: 37.582528 | E17: 11/7 | F17: Напиток из вишни | G17: =IFERROR(VLOOKUP(F17,[2]Реестр!A:K,2,0),"") -> 200 | H17: 200 | I17: 19.54
A18: 3.3 | B18: 0.3 | C18: 23.4 | D18: 112 | E18: - | F18: Хлеб пшеничный витаминизированный | G18: =IFERROR(VLOOKUP(F18,[2]Реестр!A:K,2,0),"") | H18: 50 | I18: 4.5 | J18: =IFERROR(VLOOKUP(O18,Реестр!#REF!,3,0)*Q18/P18,"")
A19: 2 | B19: 0.4 | C19: 10 | D19: 58 | E19: - | F19: Хлеб ржаной | G19: =IFERROR(VLOOKUP(F19,[2]Реестр!A:K,2,0),"") | H19: 30 | I19: 2.7 | J19: =IFERROR(VLOOKUP(O19,Реестр!#REF!,3,0)*Q19/P19,"")
A21: Итого за Комплекс | I21: =SUM(I14:I20) -> 224.27 | J21: 127.79 | K21: =J21-I21 -> -96.48
A22: Комплекс №2 5-11 классы 1 смена
A23: 0.48 | B23: 2.37 | C23: 3.09 | D23: 36.64 | E23: ="7/26" -> 7/26 | F23: Закуска витаминка (с огурцом) | G23: =IFERROR(VLOOKUP(F23,[1]Реестр!A:K,2,0),"") | H23: 30 | I23: 19.26
A24: 19.44 | B24: 19.42 | C24: 57.63 | D24: 436.2 | E24: 9/17 | F24: Плов из птицы (филе бедра куриного) с куркумой | G24: =IFERROR(VLOOKUP(F24,[2]Реестр!A:K,2,0),"") | H24: 250 | I24: 130.94 | J24: =IFERROR(VLOOKUP(O24,Реестр!#REF!,3,0)*Q24/P24,"")
A25: 0.18 | B25: 0.05 | C25: 0.32 | D25: 37.582528 | E25: 11/7 | F25: Напиток из вишни | G25: =IFERROR(VLOOKUP(F25,[2]Реестр!A:K,2,0),"") -> 200 | H25: 200 | I25: 19.54
A26: 3.3 | B26: 0.3 | C26: 23.4 | D26: 112 | E26: ="-" -> - | F26: Хлеб пшеничный витаминизированный | G26: =IFERROR(VLOOKUP(F26,[2]Реестр!A:K,2,0),"") | H26: 50 | I26: 4.5 | J26: =IFERROR(VLOOKUP(O26,Реестр!#REF!,3,0)*Q26/P26,"")
A27: 2 | B27: 0.4 | C27: 10 | D27: 58 | E27: ="-" -> - | F27: Хлеб ржаной | G27: =IFERROR(VLOOKUP(F27,[2]Реестр!A:K,2,0),"") | H27: 30 | I27: 2.7
J28: =IFERROR(VLOOKUP(O28,Реестр!#REF!,3,0)*Q28/P28,"")
A29: Итого за Комплекс | I29: =SUM(I23:I28) -> 176.94 | J29: 98.52 | K29: =I29-J29 -> 78.42
A30: Комплекс №2 5-11 классы 2 смена
A31: 2.3 | B31: 6.01 | C31: 4.01 | D31: 72.147796 | E31: 7/13 | F31: Салат из белокочанной капусты с кукурузой и растительным маслом | G31: =IFERROR(VLOOKUP(F31,[2]Реестр!A:K,2,0),"") | H31: 100 | I31: 56.17
A32: 4.11 | B32: 4.77 | C32: 26.5 | D32: 213.5 | E32: 6/65 | F32: Суп-пюре из разных овощей с гренками | G32: =IFERROR(VLOOKUP(F32,[2]Реестр!A:K,2,0),"") | H32: 250 | I32: 50 | K32: =I38-J32 -> 265.4
A33: 17.5 | B33: 15.6 | C33: 42.3 | D33: 265.7 | E33: 9/17 | F33: Плов из птицы (филе бедра куриного) с куркумой | G33: =IFERROR(VLOOKUP(F33,[2]Реестр!A:K,2,0),"") | H33: 250 | I33: 130.94
A34: 3.94 | B34: 5.11 | C34: 27.5 | D34: 170.19545 | E34: 11/7 | F34: Напиток из вишни | G34: =IFERROR(VLOOKUP(F34,[2]Реестр!A:K,2,0),"") -> 200 | H34: 200 | I34: 19.54
A35: 0.14 | B35: 0.1 | C35: 1.5 | D35: 83.96262 | E35: - | F35: Хлеб пшеничный витаминизированный | G35: =IFERROR(VLOOKUP(F35,[2]Реестр!A:K,2,0),"") | H35: 50 | I35: 4.5
A36: 3.3 | B36: 0.3 | C36: 23.4 | D36: 112 | E36: - | F36: Хлеб ржаной | G36: =IFERROR(VLOOKUP(F36,[2]Реестр!A:K,2,0),"") | H36: 50 | I36: 4.25
A38: Итого за Комплекс | I38: =SUM(I31:I37) -> 265.4 | J38: 147.79 | K38: =I38-J38 -> 117.61
A39: Комплекс №3 Двухразовое питание 1-4 классы
A40: Завтрак
A41: 4.23 | B41: 4.96 | C41: 38.7 | D41: 228.9 | E41: ="1/50" -> 1/50 | F41: Бутерброд с маслом 20/10 г (батон витаминизированный) | G41: =IFERROR(VLOOKUP(F41,[1]Реестр!A:K,2,0),"") | H41: 30 | I41: 38.37 | J41: бутер
A42: 13.79 | B42: 14.6 | C42: 23.4 | D42: 266.7 | E42: ="4/56" -> 4/56 | F42: Омлет натуральный с маслом сливочным | H42: 150 | I42: 75.42 | J42: горячее
A43: 0.18 | B43: 0.04 | C43: 13.75 | D43: 53.136643 | E43: ="11/56" -> 11/56 | F43: Чай "Каркаде" с сахаром | H43: 200 | I43: 8.15 | J43: соус/повидло
A44: 1.3 | B44: 0.2 | C44: 6.7 | D44: 39 | E44: ="-" -> - | F44: Хлеб ржаной | H44: 20 | I44: 1.8 | J44: напиток
A45: 0.52 | B45: 0.52 | C45: 15.08 | D45: 63.284 | E45: ="-" -> - | F45: Фрукт свежий | H45: 130 | I45: 25.78 | J45: любая позиция
A46: Обед
A47: 1.33 | B47: 5.12 | C47: 4.1 | D47: 73.52 | E47: 7/13 | F47: Салат из белокочанной капусты с кукурузой и растительным маслом | G47: =IFERROR(VLOOKUP(F47,[2]Реестр!A:K,2,0),"") | H47: 80 | I47: 44.94 | J47: салат
A48: 4.11 | B48: 4.77 | C48: 19.5 | D48: 143.13 | E48: 6/65 | F48: Суп-пюре из разных овощей с гренками | G48: =IFERROR(VLOOKUP(F48,[2]Реестр!A:K,2,0),"") | H48: 250 | I48: 50 | J48: суп
A49: 15.55 | B49: 15.4 | C49: 57.1 | D49: 364.2 | E49: 9/17 | F49: Плов из птицы (филе бедра куриного) с куркумой | G49: =IFERROR(VLOOKUP(F49,[2]Реестр!A:K,2,0),"") | H49: 200 | I49: 102.59 | J49: горячее
A50: 0.18 | B50: 0.05 | C50: 0.32 | D50: 37.582528 | E50: 11/7 | F50: Напиток из вишни | G50: =IFERROR(VLOOKUP(F50,[2]Реестр!A:K,2,0),"") -> 200 | H50: 200 | I50: 19.54 | J50: гарнир
A51: 3.3 | B51: 0.3 | C51: 23.4 | D51: 112 | E51: - | F51: Хлеб пшеничный витаминизированный | G51: =IFERROR(VLOOKUP(F51,[2]Реестр!A:K,2,0),"") | H51: 50 | I51: 4.5 | J51: напиток
A52: 2 | B52: 0.4 | C52: 10 | D52: 58 | E52: - | F52: Хлеб ржаной | G52: =IFERROR(VLOOKUP(F52,[2]Реестр!A:K,2,0),"") | H52: 30 | I52: 2.7 | J52: хлеб пшеничный
J53: хлеб ржаной
A54: Итого за Комплекс | I54: =SUM(I41:I45,I47:I53) -> 373.79 | J54: 212.99 | K54: =I54-J54 -> 160.8
A55: Комплекс №4 Двухразовое питание 5-11 классы
A56: Завтрак
A57: 3.76 | B57: 3.05 | C57: 15.15 | D57: 112.3 | E57: ="1/50" -> 1/50 | F57: Бутерброд с маслом на батоне витаминизированном 20/10 г | G57: =IFERROR(VLOOKUP(F57,[1]Реестр!A:K,2,0),"") | H57: 30 | I57: 38.37 | J57: бутер
A58: 16.39 | B58: 19.7 | C58: 41.3 | D58: 392.3 | E58: ="4/56" -> 4/56 | F58: Омлет натуральный с маслом сливочным | H58: 200 | I58: 101.94 | J58: горячее
A59: 0.18 | B59: 0.04 | C59: 13.75 | D59: 53.136643 | E59: ="11/56" -> 11/56 | F59: Чай "Каркаде" с сахаром | H59: 200 | I59: 8.15 | J59: соус/повидло
A60: 2 | B60: 0.4 | C60: 10 | D60: 58 | E60: ="-" -> - | F60: Хлеб ржаной | H60: 30 | I60: 2.7 | J60: чай
A61: 0.52 | B61: 0.52 | C61: 15.08 | D61: 63.284 | E61: ="-" -> - | F61: Фрукт свежий | H61: 130 | I61: 25.78 | J61: любая позиция
A62: Обед | J62: =IFERROR(VLOOKUP(O62,Реестр!#REF!,3,0)*Q62/P62,"")
A63: 2.3 | B63: 6.01 | C63: 4.01 | D63: 72.147796 | E63: 7/13 | F63: Салат из белокочанной капусты с кукурузой и растительным маслом | G63: =IFERROR(VLOOKUP(F63,[2]Реестр!A:K,2,0),"") | H63: 100 | I63: 56.17 | J63: салат
A64: 4.11 | B64: 4.77 | C64: 26.5 | D64: 213.5 | E64: 6/65 | F64: Суп-пюре из разных овощей с гренками | G64: =IFERROR(VLOOKUP(F64,[2]Реестр!A:K,2,0),"") | H64: 250 | I64: 50 | J64: суп
A65: 17.5 | B65: 15.6 | C65: 42.3 | D65: 265.7 | E65: 9/17 | F65: Плов из птицы (филе бедра куриного) с куркумой | G65: =IFERROR(VLOOKUP(F65,[2]Реестр!A:K,2,0),"") | H65: 250 | I65: 130.94 | J65: горячее
A66: 3.94 | B66: 5.11 | C66: 27.5 | D66: 170.19545 | E66: 11/7 | F66: Напиток из вишни | G66: =IFERROR(VLOOKUP(F66,[2]Реестр!A:K,2,0),"") -> 200 | H66: 200 | I66: 19.54 | J66: гарнир
A67: 0.14 | B67: 0.1 | C67: 1.5 | D67: 83.96262 | E67: - | F67: Хлеб пшеничный витаминизированный | G67: =IFERROR(VLOOKUP(F67,[2]Реестр!A:K,2,0),"") | H67: 50 | I67: 4.5 | J67: напиток
A68: 3.3 | B68: 0.3 | C68: 23.4 | D68: 112 | E68: - | F68: Хлеб ржаной | G68: =IFERROR(VLOOKUP(F68,[2]Реестр!A:K,2,0),"") | H68: 50 | I68: 4.25 | J68: хлеб белый
J69: хлеб ржаной
A70: Итого за Комплекс | I70: =SUM(I57:I61)+SUM(I63:I69) -> 442.34 | J70: 246.31 | K70: =J70-I70 -> -196.03
A71: Комплекс №5 5-11 классы
A72: 0.48 | B72: 2.37 | C72: 3.09 | D72: 36.64 | E72: ="7/26" -> 7/26 | F72: Закуска витаминка (с огурцом) | G72: =IFERROR(VLOOKUP(F72,[1]Реестр!A:K,2,0),"") | H72: 30 | I72: 19.26
A73: 19.44 | B73: 19.42 | C73: 57.63 | D73: 436.2 | E73: 9/17 | F73: Плов из птицы (филе бедра куриного) с куркумой | G73: =IFERROR(VLOOKUP(F73,[2]Реестр!A:K,2,0),"") | H73: 250 | I73: 130.94
A74: 0.18 | B74: 0.05 | C74: 0.32 | D74: 37.582528 | E74: 11/7 | F74: Напиток из вишни | G74: =IFERROR(VLOOKUP(F74,[2]Реестр!A:K,2,0),"") -> 200 | H74: 200 | I74: 19.54
A75: 3.3 | B75: 0.3 | C75: 23.4 | D75: 112 | E75: ="-" -> - | F75: Хлеб пшеничный витаминизированный | G75: =IFERROR(VLOOKUP(F75,[2]Реестр!A:K,2,0),"") | H75: 50 | I75: 4.5
A76: 2 | B76: 0.4 | C76: 10 | D76: 58 | E76: ="-" -> - | F76: Хлеб ржаной | G76: =IFERROR(VLOOKUP(F76,[2]Реестр!A:K,2,0),"") | H76: 30 | I76: 2.7
A78: Итого за Комплекс | I78: =SUM(I72:I77) -> 176.94 | J78: 98.52 | L78: =J78-I78 -> -78.42
A79: Комплекс №6 Булочка 1-11 классы
A80: 7.7 | B80: 7.42 | C80: 32.09 | D80: 225.88 | E80: 13*10 | F80: Булочное изделие в асс. | G80: =IFERROR(VLOOKUP(F80,[2]Реестр!A:K,2,0),"") -> 100 | H80: 80 | I80: 50
A81: Итого за Комплекс | I81: =I80 -> 50 | J81: 29
A82: Комплекс №7 Суп 1-11 классы
A83: 4.11 | B83: 4.77 | C83: 26.5 | D83: 213.5 | E83: 6/65 | F83: Суп-пюре из разных овощей с гренками | G83: =IFERROR(VLOOKUP(F83,[2]Реестр!A:K,2,0),"") | H83: 250 | I83: 50
A84: Итого за Комплекс | I84: =SUM(I83:I83) -> 50 | J84: 27
A85: Комплекс №9 5-11 Обед
A86: 2.3 | B86: 6.01 | C86: 4.01 | D86: 72.147796 | E86: 7/13 | F86: Салат из белокочанной капусты с кукурузой и растительным маслом | G86: =IFERROR(VLOOKUP(F86,[2]Реестр!A:K,2,0),"") | H86: 100 | I86: 56.17
A87: 4.11 | B87: 4.77 | C87: 26.5 | D87: 213.5 | E87: 6/65 | F87: Суп-пюре из разных овощей с гренками | G87: =IFERROR(VLOOKUP(F87,[2]Реестр!A:K,2,0),"") | H87: 250 | I87: 50
A88: 17.5 | B88: 15.6 | C88: 42.3 | D88: 265.7 | E88: 9/17 | F88: Плов из птицы (филе бедра куриного) с куркумой | G88: =IFERROR(VLOOKUP(F88,[2]Реестр!A:K,2,0),"") | H88: 250 | I88: 130.94
A89: 3.94 | B89: 5.11 | C89: 27.5 | D89: 170.19545 | E89: 11/7 | F89: Напиток из вишни | G89: =IFERROR(VLOOKUP(F89,[2]Реестр!A:K,2,0),"") -> 200 | H89: 200 | I89: 19.54
A90: 0.14 | B90: 0.1 | C90: 1.5 | D90: 83.96262 | E90: - | F90: Хлеб пшеничный витаминизированный | G90: =IFERROR(VLOOKUP(F90,[2]Реестр!A:K,2,0),"") | H90: 50 | I90: 4.5
A91: 3.3 | B91: 0.3 | C91: 23.4 | D91: 112 | E91: - | F91: Хлеб ржаной | G91: =IFERROR(VLOOKUP(F91,[2]Реестр!A:K,2,0),"") | H91: 50 | I91: 4.25
A93: Итого за Комплекс | I93: =SUM(I86:I92) -> 265.4 | J93: 147.79 | L93: =J93-I93 -> -117.61
A94: Комплекс №1 1-4 классы (меню для детей с сахарным диабетом)
A95: 3.76 | B95: 3.05 | C95: 13.8 | D95: 93.76256 | E95: 1/50 | F95: Бутерброд с маслом 20/10 г (батон витаминизированный) | G95: =IFERROR(VLOOKUP(F95,[1]Реестр!A:K,2,0),"") | H95: 30 | I95: 149.52
A96: 13.79 | B96: 20.23 | C96: 3.57 | D96: 251.02965 | E96: 4/56 | F96: Омлет натуральный с маслом сливочным | G96: =IFERROR(VLOOKUP(F96,[1]Реестр!A:K,2,0),"") | H96: 150
A97: 0.18 | B97: 0.04 | C97: 13.75 | D97: 53.136643 | E97: 11/17-1 | F97: Чай "Каркаде" без сахара | G97: =IFERROR(VLOOKUP(F97,[1]Реестр!A:K,2,0),"") | H97: 200
A98: 1.32 | B98: 0.24 | C98: 8.34 | D98: 38.676 | E98: ="-" -> - | F98: Хлеб ржаной | G98: =IFERROR(VLOOKUP(F98,[1]Реестр!A:K,2,0),"") | H98: ="20" -> 20
A99: 1.32 | B99: 0.24 | C99: 0 | D99: 38.676 | E99: - | F99: Фрукт свежий | G99: =IFERROR(VLOOKUP(F99,[1]Реестр!A:K,2,0),"") | H99: 130
A100: Итого за Комплекс | I100: =SUM(I95:I99) -> 149.52
A101: Комплекс №1 1-4 классы (безмолочное меню) | J101: 85.2 | L101: =J101-I101 -> 85.2
A102: 17.96 | B102: 19.65 | C102: 1.04 | D102: 252.59814 | E102: 4/58 (2018 № 2/6-1) | F102: Омлет безмолочный запеченный или паровой | G102: =IFERROR(VLOOKUP(F102,[1]Реестр!A:K,2,0),"") -> 200 | H102: 150 | I102: 149.52
A103: 0.18 | B103: 0.04 | C103: 13.75 | D103: 53.136643 | E103: 11/17 | F103: Чай "Каркаде" с сахаром | G103: =IFERROR(VLOOKUP(F103,[1]Реестр!A:K,2,0),"") -> 200 | H103: 200
A104: 0.52 | B104: 0.52 | C104: 15.08 | D104: 63.284 | E104: - | F104: Фрукт свежий | G104: =IFERROR(VLOOKUP(F104,[1]Реестр!A:K,2,0),"") | H104: 130
...

Sheet 64
A1: Согласовано | F1: ООО "Комфорт" | H1: Согласовано
A2: Директор ООО "Комфорт" | F2: МАОУ СОШ № 64 | H2: Директор МАОУ СОШ № 64
A3: Поматилов С. С. | F3: Меню на 2 октября 2026 года* | H3: Бурляева Н.Н.
A4: Пищевые вещества | D4: Ккал | E4: № ТТК | F4: Наименование блюд | G4: Выход по реестру, г | H4: Выход, г | I4: Цена, руб | J4: Раздел
A5: Белки | B5: Жиры | C5: Углеводы
A6: Комплекс №1 1-4 классы 1 смена
A7: 4.23 | B7: 4.96 | C7: 38.7 | D7: 228.9 | E7: ="1/50" -> 1/50 | F7: Бутерброд с маслом 20/10 г (батон витаминизированный) | G7: =IFERROR(VLOOKUP(F7,[1]Реестр!A:K,2,0),"") | H7: 30 | I7: 38.37 | J7: =IFERROR(VLOOKUP(O7,Реестр!#REF!,3,0)*Q7/P7,"")
A8: 13.79 | B8: 14.6 | C8: 23.4 | D8: 266.7 | E8: ="4/56" -> 4/56 | F8: Омлет натуральный с маслом сливочным | H8: 150 | I8: 75.42 | J8: =IFERROR(VLOOKUP(O8,Реестр!#REF!,3,0)*Q8/P8,"")
A9: 0.18 | B9: 0.04 | C9: 13.75 | D9: 53.136643 | E9: ="11/56" -> 11/56 | F9: Чай "Каркаде" с сахаром | H9: 200 | I9: 8.15 | J9: =IFERROR(VLOOKUP(O9,Реестр!#REF!,3,0)*Q9/P9,"")
A10: 1.3 | B10: 0.2 | C10: 6.7 | D10: 39 | E10: ="-" -> - | F10: Хлеб ржаной | H10: 20 | I10: 1.8 | J10: =IFERROR(VLOOKUP(O10,Реестр!#REF!,3,0)*Q10/P10,"")
A11: 0.52 | B11: 0.52 | C11: 15.08 | D11: 63.284 | E11: ="-" -> - | F11: Фрукт свежий | H11: 130 | I11: 25.78
A12: Итого за Комплекс | I12: =SUM(I7:I11) -> 149.52 | J12: 85.2 | K12: =I12-J12 -> 64.32
A13: Комплекс №1 1-4 классы 2 смена
A14: 1.33 | B14: 5.12 | C14: 4.1 | D14: 73.52 | E14: 7/13 | F14: Салат из белокочанной капусты с кукурузой и растительным маслом | G14: =IFERROR(VLOOKUP(F14,[2]Реестр!A:K,2,0),"") | H14: 80 | I14: 44.94 | J14: =IFERROR(VLOOKUP(O14,Реестр!#REF!,3,0)*Q14/P14,"")
A15: 4.11 | B15: 4.77 | C15: 19.5 | D15: 143.13 | E15: 6/65 | F15: Суп-пюре из разных овощей с гренками | G15: =IFERROR(VLOOKUP(F15,[2]Реестр!A:K,2,0),"") | H15: 250 | I15: 50 | J15: =IFERROR(VLOOKUP(O15,Реестр!#REF!,3,0)*Q15/P15,"")
A16: 15.55 | B16: 15.4 | C16: 57.1 | D16: 364.2 | E16: 9/17 | F16: Плов из птицы (филе бедра куриного) с куркумой | G16: =IFERROR(VLOOKUP(F16,[2]Реестр!A:K,2,0),"") | H16: 200 | I16: 102.59 | J16: =IFERROR(VLOOKUP(O16,Реестр!#REF!,3,0)*Q16/P16,"")
A17: 0.18 | B17: 0.05 | C17: 0.32 | D17: 37.582528 | E17: 11/7 | F17: Напиток из вишни | G17: =IFERROR(VLOOKUP(F17,[2]Реестр!A:K,2,0),"") -> 200 | H17: 200 | I17: 19.54
A18: 3.3 | B18: 0.3 | C18: 23.4 | D18: 112 | E18: - | F18: Хлеб пшеничный витаминизированный | G18: =IFERROR(VLOOKUP(F18,[2]Реестр!A:K,2,0),"") | H18: 50 | I18: 4.5 | J18: =IFERROR(VLOOKUP(O18,Реестр!#REF!,3,0)*Q18/P18,"")
A19: 2 | B19: 0.4 | C19: 10 | D19: 58 | E19: - | F19: Хлеб ржаной | G19: =IFERROR(VLOOKUP(F19,[2]Реестр!A:K,2,0),"") | H19: 30 | I19: 2.7 | J19: =IFERROR(VLOOKUP(O19,Реестр!#REF!,3,0)*Q19/P19,"")
A21: Итого за Комплекс | I21: =SUM(I14:I20) -> 224.27 | J21: 127.79 | K21: =J21-I21 -> -96.48
A22: Комплекс №2 5-11 классы 1 смена
A23: 0.48 | B23: 2.37 | C23: 3.09 | D23: 36.64 | E23: ="7/26" -> 7/26 | F23: Закуска витаминка (с огурцом) | G23: =IFERROR(VLOOKUP(F23,[1]Реестр!A:K,2,0),"") | H23: 30 | I23: 19.26
A24: 19.44 | B24: 19.42 | C24: 57.63 | D24: 436.2 | E24: 9/17 | F24: Плов из птицы (филе бедра куриного) с куркумой | G24: =IFERROR(VLOOKUP(F24,[2]Реестр!A:K,2,0),"") | H24: 250 | I24: 130.94 | J24: =IFERROR(VLOOKUP(O24,Реестр!#REF!,3,0)*Q24/P24,"")
A25: 0.18 | B25: 0.05 | C25: 0.32 | D25: 37.582528 | E25: 11/7 | F25: Напиток из вишни | G25: =IFERROR(VLOOKUP(F25,[2]Реестр!A:K,2,0),"") -> 200 | H25: 200 | I25: 19.54
A26: 3.3 | B26: 0.3 | C26: 23.4 | D26: 112 | E26: ="-" -> - | F26: Хлеб пшеничный витаминизированный | G26: =IFERROR(VLOOKUP(F26,[2]Реестр!A:K,2,0),"") | H26: 50 | I26: 4.5 | J26: =IFERROR(VLOOKUP(O26,Реестр!#REF!,3,0)*Q26/P26,"")
A27: 2 | B27: 0.4 | C27: 10 | D27: 58 | E27: ="-" -> - | F27: Хлеб ржаной | G27: =IFERROR(VLOOKUP(F27,[2]Реестр!A:K,2,0),"") | H27: 30 | I27: 2.7
J28: =IFERROR(VLOOKUP(O28,Реестр!#REF!,3,0)*Q28/P28,"")
A29: Итого за Комплекс | I29: =SUM(I23:I28) -> 176.94 | J29: 98.52 | K29: =I29-J29 -> 78.42
A30: Комплекс №2 5-11 классы 2 смена
A31: 2.3 | B31: 6.01 | C31: 4.01 | D31: 72.147796 | E31: 7/13 | F31: Салат из белокочанной капусты с кукурузой и растительным маслом | G31: =IFERROR(VLOOKUP(F31,[2]Реестр!A:K,2,0),"") | H31: 100 | I31: 56.17
A32: 4.11 | B32: 4.77 | C32: 26.5 | D32: 213.5 | E32: 6/65 | F32: Суп-пюре из разных овощей с гренками | G32: =IFERROR(VLOOKUP(F32,[2]Реестр!A:K,2,0),"") | H32: 250 | I32: 50 | K32: =I38-J32 -> 265.4
A33: 17.5 | B33: 15.6 | C33: 42.3 | D33: 265.7 | E33: 9/17 | F33: Плов из птицы (филе бедра куриного) с куркумой | G33: =IFERROR(VLOOKUP(F33,[2]Реестр!A:K,2,0),"") | H33: 250 | I33: 130.94
A34: 3.94 | B34: 5.11 | C34: 27.5 | D34: 170.19545 | E34: 11/7 | F34: Напиток из вишни | G34: =IFERROR(VLOOKUP(F34,[2]Реестр!A:K,2,0),"") -> 200 | H34: 200 | I34: 19.54
A35: 0.14 | B35: 0.1 | C35: 1.5 | D35: 83.96262 | E35: - | F35: Хлеб пшеничный витаминизированный | G35: =IFERROR(VLOOKUP(F35,[2]Реестр!A:K,2,0),"") | H35: 50 | I35: 4.5
A36: 3.3 | B36: 0.3 | C36: 23.4 | D36: 112 | E36: - | F36: Хлеб ржаной | G36: =IFERROR(VLOOKUP(F36,[2]Реестр!A:K,2,0),"") | H36: 50 | I36: 4.25
A38: Итого за Комплекс | I38: =SUM(I31:I37) -> 265.4 | J38: 147.79 | K38: =I38-J38 -> 117.61
A39: Комплекс №3 Двухразовое питание 1-4 классы
A40: Завтрак
A41: 4.23 | B41: 4.96 | C41: 38.7 | D41: 228.9 | E41: ="1/50" -> 1/50 | F41: Бутерброд с маслом 20/10 г (батон витаминизированный) | G41: =IFERROR(VLOOKUP(F41,[1]Реестр!A:K,2,0),"") | H41: 30 | I41: 38.37 | J41: бутер
A42: 13.79 | B42: 14.6 | C42: 23.4 | D42: 266.7 | E42: ="4/56" -> 4/56 | F42: Омлет натуральный с маслом сливочным | H42: 150 | I42: 75.42 | J42: горячее
A43: 0.18 | B43: 0.04 | C43: 13.75 | D43: 53.136643 | E43: ="11/56" -> 11/56 | F43: Чай "Каркаде" с сахаром | H43: 200 | I43: 8.15 | J43: соус/повидло
A44: 1.3 | B44: 0.2 | C44: 6.7 | D44: 39 | E44: ="-" -> - | F44: Хлеб ржаной | H44: 20 | I44: 1.8 | J44: напиток
A45: 0.52 | B45: 0.52 | C45: 15.08 | D45: 63.284 | E45: ="-" -> - | F45: Фрукт свежий | H45: 130 | I45: 25.78 | J45: любая позиция
A46: Обед
A47: 1.33 | B47: 5.12 | C47: 4.1 | D47: 73.52 | E47: 7/13 | F47: Салат из белокочанной капусты с кукурузой и растительным маслом | G47: =IFERROR(VLOOKUP(F47,[2]Реестр!A:K,2,0),"") | H47: 80 | I47: 44.94 | J47: салат
A48: 4.11 | B48: 4.77 | C48: 19.5 | D48: 143.13 | E48: 6/65 | F48: Суп-пюре из разных овощей с гренками | G48: =IFERROR(VLOOKUP(F48,[2]Реестр!A:K,2,0),"") | H48: 250 | I48: 50 | J48: суп
A49: 15.55 | B49: 15.4 | C49: 57.1 | D49: 364.2 | E49: 9/17 | F49: Плов из птицы (филе бедра куриного) с куркумой | G49: =IFERROR(VLOOKUP(F49,[2]Реестр!A:K,2,0),"") | H49: 200 | I49: 102.59 | J49: горячее
A50: 0.18 | B50: 0.05 | C50: 0.32 | D50: 37.582528 | E50: 11/7 | F50: Напиток из вишни | G50: =IFERROR(VLOOKUP(F50,[2]Реестр!A:K,2,0),"") -> 200 | H50: 200 | I50: 19.54 | J50: гарнир
A51: 3.3 | B51: 0.3 | C51: 23.4 | D51: 112 | E51: - | F51: Хлеб пшеничный витаминизированный | G51: =IFERROR(VLOOKUP(F51,[2]Реестр!A:K,2,0),"") | H51: 50 | I51: 4.5 | J51: напиток
A52: 2 | B52: 0.4 | C52: 10 | D52: 58 | E52: - | F52: Хлеб ржаной | G52: =IFERROR(VLOOKUP(F52,[2]Реестр!A:K,2,0),"") | H52: 30 | I52: 2.7 | J52: хлеб пшеничный
J53: хлеб ржаной
A54: Итого за Комплекс | I54: =SUM(I41:I45,I47:I53) -> 373.79 | J54: 212.99 | K54: =I54-J54 -> 160.8
A55: Комплекс №4 Двухразовое питание 5-11 классы
A56: Завтрак
A57: 3.76 | B57: 3.05 | C57: 15.15 | D57: 112.3 | E57: ="1/50" -> 1/50 | F57: Бутерброд с маслом на батоне витаминизированном 20/10 г | G57: =IFERROR(VLOOKUP(F57,[1]Реестр!A:K,2,0),"") | H57: 30 | I57: 38.37 | J57: бутер
A58: 16.39 | B58: 19.7 | C58: 41.3 | D58: 392.3 | E58: ="4/56" -> 4/56 | F58: Омлет натуральный с маслом сливочным | H58: 200 | I58: 101.94 | J58: горячее
A59: 0.18 | B59: 0.04 | C59: 13.75 | D59: 53.136643 | E59: ="11/56" -> 11/56 | F59: Чай "Каркаде" с сахаром | H59: 200 | I59: 8.15 | J59: соус/повидло
A60: 2 | B60: 0.4 | C60: 10 | D60: 58 | E60: ="-" -> - | F60: Хлеб ржаной | H60: 30 | I60: 2.7 | J60: чай
A61: 0.52 | B61: 0.52 | C61: 15.08 | D61: 63.284 | E61: ="-" -> - | F61: Фрукт свежий | H61: 130 | I61: 25.78 | J61: любая позиция
A62: Обед | J62: =IFERROR(VLOOKUP(O62,Реестр!#REF!,3,0)*Q62/P62,"")
A63: 2.3 | B63: 6.01 | C63: 4.01 | D63: 72.147796 | E63: 7/13 | F63: Салат из белокочанной капусты с кукурузой и растительным маслом | G63: =IFERROR(VLOOKUP(F63,[2]Реестр!A:K,2,0),"") | H63: 100 | I63: 56.17 | J63: салат
A64: 4.11 | B64: 4.77 | C64: 26.5 | D64: 213.5 | E64: 6/65 | F64: Суп-пюре из разных овощей с гренками | G64: =IFERROR(VLOOKUP(F64,[2]Реестр!A:K,2,0),"") | H64: 250 | I64: 50 | J64: суп
A65: 17.5 | B65: 15.6 | C65: 42.3 | D65: 265.7 | E65: 9/17 | F65: Плов из птицы (филе бедра куриного) с куркумой | G65: =IFERROR(VLOOKUP(F65,[2]Реестр!A:K,2,0),"") | H65: 250 | I65: 130.94 | J65: горячее
A66: 3.94 | B66: 5.11 | C66: 27.5 | D66: 170.19545 | E66: 11/7 | F66: Напиток из вишни | G66: =IFERROR(VLOOKUP(F66,[2]Реестр!A:K,2,0),"") -> 200 | H66: 200 | I66: 19.54 | J66: гарнир
A67: 0.14 | B67: 0.1 | C67: 1.5 | D67: 83.96262 | E67: - | F67: Хлеб пшеничный витаминизированный | G67: =IFERROR(VLOOKUP(F67,[2]Реестр!A:K,2,0),"") | H67: 50 | I67: 4.5 | J67: напиток
A68: 3.3 | B68: 0.3 | C68: 23.4 | D68: 112 | E68: - | F68: Хлеб ржаной | G68: =IFERROR(VLOOKUP(F68,[2]Реестр!A:K,2,0),"") | H68: 50 | I68: 4.25 | J68: хлеб белый
J69: хлеб ржаной
A70: Итого за Комплекс | I70: =SUM(I57:I61)+SUM(I63:I69) -> 442.34 | J70: 246.31 | K70: =J70-I70 -> -196.03
A71: Комплекс №5 5-11 классы
A72: 0.48 | B72: 2.37 | C72: 3.09 | D72: 36.64 | E72: ="7/26" -> 7/26 | F72: Закуска витаминка (с огурцом) | G72: =IFERROR(VLOOKUP(F72,[1]Реестр!A:K,2,0),"") | H72: 30 | I72: 19.26
A73: 19.44 | B73: 19.42 | C73: 57.63 | D73: 436.2 | E73: 9/17 | F73: Плов из птицы (филе бедра куриного) с куркумой | G73: =IFERROR(VLOOKUP(F73,[2]Реестр!A:K,2,0),"") | H73: 250 | I73: 130.94
A74: 0.18 | B74: 0.05 | C74: 0.32 | D74: 37.582528 | E74: 11/7 | F74: Напиток из вишни | G74: =IFERROR(VLOOKUP(F74,[2]Реестр!A:K,2,0),"") -> 200 | H74: 200 | I74: 19.54
A75: 3.3 | B75: 0.3 | C75: 23.4 | D75: 112 | E75: ="-" -> - | F75: Хлеб пшеничный витаминизированный | G75: =IFERROR(VLOOKUP(F75,[2]Реестр!A:K,2,0),"") | H75: 50 | I75: 4.5
A76: 2 | B76: 0.4 | C76: 10 | D76: 58 | E76: ="-" -> - | F76: Хлеб ржаной | G76: =IFERROR(VLOOKUP(F76,[2]Реестр!A:K,2,0),"") | H76: 30 | I76: 2.7
A78: Итого за Комплекс | I78: =SUM(I72:I77) -> 176.94 | J78: 98.52 | L78: =J78-I78 -> -78.42
A79: Комплекс №6 Булочка 1-11 классы
A80: 7.7 | B80: 7.42 | C80: 32.09 | D80: 225.88 | E80: 13*10 | F80: Булочное изделие в асс. | G80: =IFERROR(VLOOKUP(F80,[2]Реестр!A:K,2,0),"") -> 100 | H80: 80 | I80: 50
A81: Итого за Комплекс | I81: =I80 -> 50 | J81: 29
A82: Комплекс №7 Суп 1-11 классы
A83: 4.11 | B83: 4.77 | C83: 26.5 | D83: 213.5 | E83: 6/65 | F83: Суп-пюре из разных овощей с гренками | G83: =IFERROR(VLOOKUP(F83,[2]Реестр!A:K,2,0),"") | H83: 250 | I83: 50
A84: Итого за Комплекс | I84: =SUM(I83:I83) -> 50 | J84: 27
A85: Комплекс №9 5-11 Обед
A86: 2.3 | B86: 6.01 | C86: 4.01 | D86: 72.147796 | E86: 7/13 | F86: Салат из белокочанной капусты с кукурузой и растительным маслом | G86: =IFERROR(VLOOKUP(F86,[2]Реестр!A:K,2,0),"") | H86: 100 | I86: 56.17
A87: 4.11 | B87: 4.77 | C87: 26.5 | D87: 213.5 | E87: 6/65 | F87: Суп-пюре из разных овощей с гренками | G87: =IFERROR(VLOOKUP(F87,[2]Реестр!A:K,2,0),"") | H87: 250 | I87: 50
A88: 17.5 | B88: 15.6 | C88: 42.3 | D88: 265.7 | E88: 9/17 | F88: Плов из птицы (филе бедра куриного) с куркумой | G88: =IFERROR(VLOOKUP(F88,[2]Реестр!A:K,2,0),"") | H88: 250 | I88: 130.94
A89: 3.94 | B89: 5.11 | C89: 27.5 | D89: 170.19545 | E89: 11/7 | F89: Напиток из вишни | G89: =IFERROR(VLOOKUP(F89,[2]Реестр!A:K,2,0),"") -> 200 | H89: 200 | I89: 19.54
A90: 0.14 | B90: 0.1 | C90: 1.5 | D90: 83.96262 | E90: - | F90: Хлеб пшеничный витаминизированный | G90: =IFERROR(VLOOKUP(F90,[2]Реестр!A:K,2,0),"") | H90: 50 | I90: 4.5
A91: 3.3 | B91: 0.3 | C91: 23.4 | D91: 112 | E91: - | F91: Хлеб ржаной | G91: =IFERROR(VLOOKUP(F91,[2]Реестр!A:K,2,0),"") | H91: 50 | I91: 4.25
A93: Итого за Комплекс | I93: =SUM(I86:I92) -> 265.4 | J93: 147.79 | L93: =J93-I93 -> -117.61
A94: Комплекс №1 1-4 классы (меню для детей с сахарным диабетом)
A95: =IFERROR(VLOOKUP(F95,[1]Реестр!A:K,3,0)*H95/G95,"") -> 5.08 | B95: =IFERROR(VLOOKUP(F95,[1]Реестр!A:K,4,0)*H95/G95,"") -> 11.55 | C95: =IFERROR(VLOOKUP(F95,[1]Реестр!A:K,5,0)*H95/G95,"") -> 9.97 | D95: =IFERROR(VLOOKUP(F95,[1]Реестр!A:K,6,0)*H95/G95,"") -> 164.15 | E95: =IFERROR(VLOOKUP(F95,[1]Реестр!A:K,11,0),"") -> 1*51 | F95: Бутерброд с сыром и маслом 20/15/10 | G95: =IFERROR(VLOOKUP(F95,[1]Реестр!A:K,2,0),"") -> 45 | H95: 45 | I95: 149.52
A96: =IFERROR(VLOOKUP(F96,[1]Реестр!A:K,3,0)*H96/G96,"") -> 6.375 | B96: =IFERROR(VLOOKUP(F96,[1]Реестр!A:K,4,0)*H96/G96,"") -> 5.75 | C96: =IFERROR(VLOOKUP(F96,[1]Реестр!A:K,5,0)*H96/G96,"") -> 0.375 | D96: =IFERROR(VLOOKUP(F96,[1]Реестр!A:K,6,0)*H96/G96,"") -> 78.75 | E96: =IFERROR(VLOOKUP(F96,[1]Реестр!A:K,11,0),"") -> 4*57 | F96: Яйцо отварное 1 шт. | G96: =IFERROR(VLOOKUP(F96,[1]Реестр!A:K,2,0),"") -> 40 | H96: 50
A97: 6.26 | B97: 5.9 | C97: 28.4 | D97: 194.194 | E97: ="2/68" -> 2/68 | F97: Каша ячневая молочная с маслом сливочным без сахара | G97: =IFERROR(VLOOKUP(F97,[1]Реестр!A:K,2,0),"") | H97: 200
A98: 2.74 | B98: 2.2 | C98: 4.89 | D98: 49.717531 | E98: ="11/59 (2004 № 692)" -> 11/59 (2004 № 692) | F98: Кофейный напиток без сахара | G98: =IFERROR(VLOOKUP(F98,[1]Реестр!A:K,2,0),"") -> 200 | H98: ="200" -> 200
A99: =IFERROR(VLOOKUP(F99,[1]Реестр!A:K,3,0)*H99/G99,"") -> 1.32 | B99: =IFERROR(VLOOKUP(F99,[1]Реестр!A:K,4,0)*H99/G99,"") -> 0.24 | C99: =IFERROR(VLOOKUP(F99,[1]Реестр!A:K,5,0)*H99/G99,"") -> 6.68 | D99: =IFERROR(VLOOKUP(F99,[1]Реестр!A:K,6,0)*H99/G99,"") -> 38.6 | E99: =IFERROR(VLOOKUP(F99,[1]Реестр!A:K,11,0),"") -> - | F99: Хлеб вит. ржаной | G99: =IFERROR(VLOOKUP(F99,[1]Реестр!A:K,2,0),"") -> 100 | H99: ="20" -> 20
A100: Итого за Комплекс | I100: =SUM(I95:I99) -> 149.52
A101: Комплекс №1 1-4 классы (безмолочное меню) | J101: 85.2 | L101: =J101-I101 -> 85.2
A102: =IFERROR(VLOOKUP(F102,[1]Реестр!A:K,3,0)*H102/G102,"") -> 6.375 | B102: =IFERROR(VLOOKUP(F102,[1]Реестр!A:K,4,0)*H102/G102,"") -> 5.75 | C102: =IFERROR(VLOOKUP(F102,[1]Реестр!A:K,5,0)*H102/G102,"") -> 0.375 | D102: =IFERROR(VLOOKUP(F102,[1]Реестр!A:K,6,0)*H102/G102,"") -> 78.75 | E102: =IFERROR(VLOOKUP(F102,[1]Реестр!A:K,11,0),"") -> 4*57 | F102: Яйцо отварное 1 шт. | G102: =IFERROR(VLOOKUP(F102,[1]Реестр!A:K,2,0),"") -> 40 | H102: 50 | I102: 149.52
A103: 6.03 | B103: 12.83 | C103: 34.92 | D103: 275.69061 | E103: ="2/78" -> 2/78 | F103: Каша ячневая безмолочная с маслом растительным и отрубями | G103: =IFERROR(VLOOKUP(F103,[1]Реестр!A:K,2,0),"") | H103: 200
A104: =IFERROR(VLOOKUP(F104,[1]Реестр!A:K,3,0)*H104/G104,"") -> 0.175 | B104: =IFERROR(VLOOKUP(F104,[1]Реестр!A:K,4,0)*H104/G104,"") -> 0.105 | C104: =IFERROR(VLOOKUP(F104,[1]Реестр!A:K,5,0)*H104/G104,"") -> 10.01 | D104: =IFERROR(VLOOKUP(F104,[1]Реестр!A:K,6,0)*H104/G104,"") -> 40.6 | E104: =IFERROR(VLOOKUP(F104,[1]Реестр!A:K,11,0),"") -> 12*2 | F104: Соус из малины | G104: =IFERROR(VLOOKUP(F104,[1]Реестр!A:K,2,0),"") -> 100 | H104: 35
...

Sheet 85
A1: Согласовано | F1: ООО "Комфорт" | H1: Согласовано
A2: Директор ООО "Комфорт" | F2: МАОУ СОШ № 85 | H2: Директор МАОУ СОШ № 85
A3: Поматилов С. С. | F3: Меню на 2 октября 2026 года* | H3: Ващук Н.А.
A4: Пищевые вещества | D4: Ккал | E4: № ТТК | F4: Наименование блюд | G4: Выход по реестру, г | H4: Выход, г | I4: Цена, руб | J4: Раздел
A5: Белки | B5: Жиры | C5: Углеводы
A6: Комплекс №1 1-4 классы 1 смена
A7: 4.23 | B7: 4.96 | C7: 38.7 | D7: 228.9 | E7: ="1/50" -> 1/50 | F7: Бутерброд с маслом 20/10 г (батон витаминизированный) | G7: =IFERROR(VLOOKUP(F7,[1]Реестр!A:K,2,0),"") | H7: 30 | I7: 38.37 | J7: =IFERROR(VLOOKUP(O7,Реестр!#REF!,3,0)*Q7/P7,"")
A8: 13.79 | B8: 14.6 | C8: 23.4 | D8: 266.7 | E8: ="4/56" -> 4/56 | F8: Омлет натуральный с маслом сливочным | H8: 150 | I8: 75.42 | J8: =IFERROR(VLOOKUP(O8,Реестр!#REF!,3,0)*Q8/P8,"")
A9: 0.18 | B9: 0.04 | C9: 13.75 | D9: 53.136643 | E9: ="11/56" -> 11/56 | F9: Чай "Каркаде" с сахаром | H9: 200 | I9: 8.15 | J9: =IFERROR(VLOOKUP(O9,Реестр!#REF!,3,0)*Q9/P9,"")
A10: 1.3 | B10: 0.2 | C10: 6.7 | D10: 39 | E10: ="-" -> - | F10: Хлеб ржаной | H10: 20 | I10: 1.8 | J10: =IFERROR(VLOOKUP(O10,Реестр!#REF!,3,0)*Q10/P10,"")
A11: 0.52 | B11: 0.52 | C11: 15.08 | D11: 63.284 | E11: ="-" -> - | F11: Фрукт свежий | H11: 130 | I11: 25.78
A12: Итого за Комплекс | I12: =SUM(I7:I11) -> 149.52 | J12: 85.2 | K12: =I12-J12 -> 64.32
A13: Комплекс №1 1-4 классы 2 смена
A14: 1.33 | B14: 5.12 | C14: 4.1 | D14: 73.52 | E14: 7/13 | F14: Салат из белокочанной капусты с кукурузой и растительным маслом | G14: =IFERROR(VLOOKUP(F14,[2]Реестр!A:K,2,0),"") | H14: 80 | I14: 44.94 | J14: =IFERROR(VLOOKUP(O14,Реестр!#REF!,3,0)*Q14/P14,"")
A15: 4.11 | B15: 4.77 | C15: 19.5 | D15: 143.13 | E15: 6/65 | F15: Суп-пюре из разных овощей с гренками | G15: =IFERROR(VLOOKUP(F15,[2]Реестр!A:K,2,0),"") | H15: 250 | I15: 50 | J15: =IFERROR(VLOOKUP(O15,Реестр!#REF!,3,0)*Q15/P15,"")
A16: 15.55 | B16: 15.4 | C16: 57.1 | D16: 364.2 | E16: 9/17 | F16: Плов из птицы (филе бедра куриного) с куркумой | G16: =IFERROR(VLOOKUP(F16,[2]Реестр!A:K,2,0),"") | H16: 200 | I16: 102.59 | J16: =IFERROR(VLOOKUP(O16,Реестр!#REF!,3,0)*Q16/P16,"")
A17: 0.18 | B17: 0.05 | C17: 0.32 | D17: 37.582528 | E17: 11/7 | F17: Напиток из вишни | G17: =IFERROR(VLOOKUP(F17,[2]Реестр!A:K,2,0),"") -> 200 | H17: 200 | I17: 19.54
A18: 3.3 | B18: 0.3 | C18: 23.4 | D18: 112 | E18: - | F18: Хлеб пшеничный витаминизированный | G18: =IFERROR(VLOOKUP(F18,[2]Реестр!A:K,2,0),"") | H18: 50 | I18: 4.5 | J18: =IFERROR(VLOOKUP(O18,Реестр!#REF!,3,0)*Q18/P18,"")
A19: 2 | B19: 0.4 | C19: 10 | D19: 58 | E19: - | F19: Хлеб ржаной | G19: =IFERROR(VLOOKUP(F19,[2]Реестр!A:K,2,0),"") | H19: 30 | I19: 2.7 | J19: =IFERROR(VLOOKUP(O19,Реестр!#REF!,3,0)*Q19/P19,"")
A21: Итого за Комплекс | I21: =SUM(I14:I20) -> 224.27 | J21: 127.79 | K21: =J21-I21 -> -96.48
A22: Комплекс №2 5-11 классы 1 смена
A23: 0.48 | B23: 2.37 | C23: 3.09 | D23: 36.64 | E23: ="7/26" -> 7/26 | F23: Закуска витаминка (с огурцом) | G23: =IFERROR(VLOOKUP(F23,[1]Реестр!A:K,2,0),"") | H23: 30 | I23: 19.26
A24: 19.44 | B24: 19.42 | C24: 57.63 | D24: 436.2 | E24: 9/17 | F24: Плов из птицы (филе бедра куриного) с куркумой | G24: =IFERROR(VLOOKUP(F24,[2]Реестр!A:K,2,0),"") | H24: 250 | I24: 130.94 | J24: =IFERROR(VLOOKUP(O24,Реестр!#REF!,3,0)*Q24/P24,"")
A25: 0.18 | B25: 0.05 | C25: 0.32 | D25: 37.582528 | E25: 11/7 | F25: Напиток из вишни | G25: =IFERROR(VLOOKUP(F25,[2]Реестр!A:K,2,0),"") -> 200 | H25: 200 | I25: 19.54
A26: 3.3 | B26: 0.3 | C26: 23.4 | D26: 112 | E26: ="-" -> - | F26: Хлеб пшеничный витаминизированный | G26: =IFERROR(VLOOKUP(F26,[2]Реестр!A:K,2,0),"") | H26: 50 | I26: 4.5 | J26: =IFERROR(VLOOKUP(O26,Реестр!#REF!,3,0)*Q26/P26,"")
A27: 2 | B27: 0.4 | C27: 10 | D27: 58 | E27: ="-" -> - | F27: Хлеб ржаной | G27: =IFERROR(VLOOKUP(F27,[2]Реестр!A:K,2,0),"") | H27: 30 | I27: 2.7
J28: =IFERROR(VLOOKUP(O28,Реестр!#REF!,3,0)*Q28/P28,"")
A29: Итого за Комплекс | I29: =SUM(I23:I28) -> 176.94 | J29: 98.52 | K29: =I29-J29 -> 78.42
A30: Комплекс №2 5-11 классы 2 смена
A31: 2.3 | B31: 6.01 | C31: 4.01 | D31: 72.147796 | E31: 7/13 | F31: Салат из белокочанной капусты с кукурузой и растительным маслом | G31: =IFERROR(VLOOKUP(F31,[2]Реестр!A:K,2,0),"") | H31: 100 | I31: 56.17
A32: 4.11 | B32: 4.77 | C32: 26.5 | D32: 213.5 | E32: 6/65 | F32: Суп-пюре из разных овощей с гренками | G32: =IFERROR(VLOOKUP(F32,[2]Реестр!A:K,2,0),"") | H32: 250 | I32: 50 | K32: =I38-J32 -> 265.4
A33: 17.5 | B33: 15.6 | C33: 42.3 | D33: 265.7 | E33: 9/17 | F33: Плов из птицы (филе бедра куриного) с куркумой | G33: =IFERROR(VLOOKUP(F33,[2]Реестр!A:K,2,0),"") | H33: 250 | I33: 130.94
A34: 3.94 | B34: 5.11 | C34: 27.5 | D34: 170.19545 | E34: 11/7 | F34: Напиток из вишни | G34: =IFERROR(VLOOKUP(F34,[2]Реестр!A:K,2,0),"") -> 200 | H34: 200 | I34: 19.54
A35: 0.14 | B35: 0.1 | C35: 1.5 | D35: 83.96262 | E35: - | F35: Хлеб пшеничный витаминизированный | G35: =IFERROR(VLOOKUP(F35,[2]Реестр!A:K,2,0),"") | H35: 50 | I35: 4.5
A36: 3.3 | B36: 0.3 | C36: 23.4 | D36: 112 | E36: - | F36: Хлеб ржаной | G36: =IFERROR(VLOOKUP(F36,[2]Реестр!A:K,2,0),"") | H36: 50 | I36: 4.25
A38: Итого за Комплекс | I38: =SUM(I31:I37) -> 265.4 | J38: 147.79 | K38: =I38-J38 -> 117.61
A39: Комплекс №3 Двухразовое питание 1-4 классы
A40: Завтрак
A41: 4.23 | B41: 4.96 | C41: 38.7 | D41: 228.9 | E41: ="1/50" -> 1/50 | F41: Бутерброд с маслом 20/10 г (батон витаминизированный) | G41: =IFERROR(VLOOKUP(F41,[1]Реестр!A:K,2,0),"") | H41: 30 | I41: 38.37 | J41: бутер
A42: 13.79 | B42: 14.6 | C42: 23.4 | D42: 266.7 | E42: ="4/56" -> 4/56 | F42: Омлет натуральный с маслом сливочным | H42: 150 | I42: 75.42 | J42: горячее
A43: 0.18 | B43: 0.04 | C43: 13.75 | D43: 53.136643 | E43: ="11/56" -> 11/56 | F43: Чай "Каркаде" с сахаром | H43: 200 | I43: 8.15 | J43: соус/повидло
A44: 1.3 | B44: 0.2 | C44: 6.7 | D44: 39 | E44: ="-" -> - | F44: Хлеб ржаной | H44: 20 | I44: 1.8 | J44: напиток
A45: 0.52 | B45: 0.52 | C45: 15.08 | D45: 63.284 | E45: ="-" -> - | F45: Фрукт свежий | H45: 130 | I45: 25.78 | J45: любая позиция
A46: Обед
A47: 1.33 | B47: 5.12 | C47: 4.1 | D47: 73.52 | E47: 7/13 | F47: Салат из белокочанной капусты с кукурузой и растительным маслом | G47: =IFERROR(VLOOKUP(F47,[2]Реестр!A:K,2,0),"") | H47: 80 | I47: 44.94 | J47: салат
A48: 4.11 | B48: 4.77 | C48: 19.5 | D48: 143.13 | E48: 6/65 | F48: Суп-пюре из разных овощей с гренками | G48: =IFERROR(VLOOKUP(F48,[2]Реестр!A:K,2,0),"") | H48: 250 | I48: 50 | J48: суп
A49: 15.55 | B49: 15.4 | C49: 57.1 | D49: 364.2 | E49: 9/17 | F49: Плов из птицы (филе бедра куриного) с куркумой | G49: =IFERROR(VLOOKUP(F49,[2]Реестр!A:K,2,0),"") | H49: 200 | I49: 102.59 | J49: горячее
A50: 0.18 | B50: 0.05 | C50: 0.32 | D50: 37.582528 | E50: 11/7 | F50: Напиток из вишни | G50: =IFERROR(VLOOKUP(F50,[2]Реестр!A:K,2,0),"") -> 200 | H50: 200 | I50: 19.54 | J50: гарнир
A51: 3.3 | B51: 0.3 | C51: 23.4 | D51: 112 | E51: - | F51: Хлеб пшеничный витаминизированный | G51: =IFERROR(VLOOKUP(F51,[2]Реестр!A:K,2,0),"") | H51: 50 | I51: 4.5 | J51: напиток
A52: 2 | B52: 0.4 | C52: 10 | D52: 58 | E52: - | F52: Хлеб ржаной | G52: =IFERROR(VLOOKUP(F52,[2]Реестр!A:K,2,0),"") | H52: 30 | I52: 2.7 | J52: хлеб пшеничный
J53: хлеб ржаной
A54: Итого за Комплекс | I54: =SUM(I41:I45,I47:I53) -> 373.79 | J54: 212.99 | K54: =I54-J54 -> 160.8
A55: Комплекс №4 Двухразовое питание 5-11 классы
A56: Завтрак
A57: 3.76 | B57: 3.05 | C57: 15.15 | D57: 112.3 | E57: ="1/50" -> 1/50 | F57: Бутерброд с маслом на батоне витаминизированном 20/10 г | G57: =IFERROR(VLOOKUP(F57,[1]Реестр!A:K,2,0),"") | H57: 30 | I57: 38.37 | J57: бутер
A58: 16.39 | B58: 19.7 | C58: 41.3 | D58: 392.3 | E58: ="4/56" -> 4/56 | F58: Омлет натуральный с маслом сливочным | H58: 200 | I58: 101.94 | J58: горячее
A59: 0.18 | B59: 0.04 | C59: 13.75 | D59: 53.136643 | E59: ="11/56" -> 11/56 | F59: Чай "Каркаде" с сахаром | H59: 200 | I59: 8.15 | J59: соус/повидло
A60: 2 | B60: 0.4 | C60: 10 | D60: 58 | E60: ="-" -> - | F60: Хлеб ржаной | H60: 30 | I60: 2.7 | J60: чай
A61: 0.52 | B61: 0.52 | C61: 15.08 | D61: 63.284 | E61: ="-" -> - | F61: Фрукт свежий | H61: 130 | I61: 25.78 | J61: любая позиция
A62: Обед | J62: =IFERROR(VLOOKUP(O62,Реестр!#REF!,3,0)*Q62/P62,"")
A63: 2.3 | B63: 6.01 | C63: 4.01 | D63: 72.147796 | E63: 7/13 | F63: Салат из белокочанной капусты с кукурузой и растительным маслом | G63: =IFERROR(VLOOKUP(F63,[2]Реестр!A:K,2,0),"") | H63: 100 | I63: 56.17 | J63: салат
A64: 4.11 | B64: 4.77 | C64: 26.5 | D64: 213.5 | E64: 6/65 | F64: Суп-пюре из разных овощей с гренками | G64: =IFERROR(VLOOKUP(F64,[2]Реестр!A:K,2,0),"") | H64: 250 | I64: 50 | J64: суп
A65: 17.5 | B65: 15.6 | C65: 42.3 | D65: 265.7 | E65: 9/17 | F65: Плов из птицы (филе бедра куриного) с куркумой | G65: =IFERROR(VLOOKUP(F65,[2]Реестр!A:K,2,0),"") | H65: 250 | I65: 130.94 | J65: горячее
A66: 3.94 | B66: 5.11 | C66: 27.5 | D66: 170.19545 | E66: 11/7 | F66: Напиток из вишни | G66: =IFERROR(VLOOKUP(F66,[2]Реестр!A:K,2,0),"") -> 200 | H66: 200 | I66: 19.54 | J66: гарнир
A67: 0.14 | B67: 0.1 | C67: 1.5 | D67: 83.96262 | E67: - | F67: Хлеб пшеничный витаминизированный | G67: =IFERROR(VLOOKUP(F67,[2]Реестр!A:K,2,0),"") | H67: 50 | I67: 4.5 | J67: напиток
A68: 3.3 | B68: 0.3 | C68: 23.4 | D68: 112 | E68: - | F68: Хлеб ржаной | G68: =IFERROR(VLOOKUP(F68,[2]Реестр!A:K,2,0),"") | H68: 50 | I68: 4.25 | J68: хлеб белый
J69: хлеб ржаной
A70: Итого за Комплекс | I70: =SUM(I57:I61)+SUM(I63:I69) -> 442.34 | J70: 246.31 | K70: =J70-I70 -> -196.03
A71: Комплекс №5 5-11 классы
A72: 0.48 | B72: 2.37 | C72: 3.09 | D72: 36.64 | E72: ="7/26" -> 7/26 | F72: Закуска витаминка (с огурцом) | G72: =IFERROR(VLOOKUP(F72,[1]Реестр!A:K,2,0),"") | H72: 30 | I72: 19.26
A73: 19.44 | B73: 19.42 | C73: 57.63 | D73: 436.2 | E73: 9/17 | F73: Плов из птицы (филе бедра куриного) с куркумой | G73: =IFERROR(VLOOKUP(F73,[2]Реестр!A:K,2,0),"") | H73: 250 | I73: 130.94
A74: 0.18 | B74: 0.05 | C74: 0.32 | D74: 37.582528 | E74: 11/7 | F74: Напиток из вишни | G74: =IFERROR(VLOOKUP(F74,[2]Реестр!A:K,2,0),"") -> 200 | H74: 200 | I74: 19.54
A75: 3.3 | B75: 0.3 | C75: 23.4 | D75: 112 | E75: ="-" -> - | F75: Хлеб пшеничный витаминизированный | G75: =IFERROR(VLOOKUP(F75,[2]Реестр!A:K,2,0),"") | H75: 50 | I75: 4.5
A76: 2 | B76: 0.4 | C76: 10 | D76: 58 | E76: ="-" -> - | F76: Хлеб ржаной | G76: =IFERROR(VLOOKUP(F76,[2]Реестр!A:K,2,0),"") | H76: 30 | I76: 2.7
A78: Итого за Комплекс | I78: =SUM(I72:I77) -> 176.94 | J78: 98.52 | L78: =J78-I78 -> -78.42
A79: Комплекс №6 Булочка 1-11 классы
A80: 7.7 | B80: 7.42 | C80: 32.09 | D80: 225.88 | E80: 13*10 | F80: Булочное изделие в асс. | G80: =IFERROR(VLOOKUP(F80,[2]Реестр!A:K,2,0),"") -> 100 | H80: 80 | I80: 50
A81: Итого за Комплекс | I81: =I80 -> 50 | J81: 29
A82: Комплекс №7 Суп 1-11 классы
A83: 4.11 | B83: 4.77 | C83: 26.5 | D83: 213.5 | E83: 6/65 | F83: Суп-пюре из разных овощей с гренками | G83: =IFERROR(VLOOKUP(F83,[2]Реестр!A:K,2,0),"") | H83: 250 | I83: 50
A84: Итого за Комплекс | I84: =SUM(I83:I83) -> 50 | J84: 27
A85: Комплекс №9 5-11 Обед
A86: 2.3 | B86: 6.01 | C86: 4.01 | D86: 72.147796 | E86: 7/13 | F86: Салат из белокочанной капусты с кукурузой и растительным маслом | G86: =IFERROR(VLOOKUP(F86,[2]Реестр!A:K,2,0),"") | H86: 100 | I86: 56.17
A87: 4.11 | B87: 4.77 | C87: 26.5 | D87: 213.5 | E87: 6/65 | F87: Суп-пюре из разных овощей с гренками | G87: =IFERROR(VLOOKUP(F87,[2]Реестр!A:K,2,0),"") | H87: 250 | I87: 50
A88: 17.5 | B88: 15.6 | C88: 42.3 | D88: 265.7 | E88: 9/17 | F88: Плов из птицы (филе бедра куриного) с куркумой | G88: =IFERROR(VLOOKUP(F88,[2]Реестр!A:K,2,0),"") | H88: 250 | I88: 130.94
A89: 3.94 | B89: 5.11 | C89: 27.5 | D89: 170.19545 | E89: 11/7 | F89: Напиток из вишни | G89: =IFERROR(VLOOKUP(F89,[2]Реестр!A:K,2,0),"") -> 200 | H89: 200 | I89: 19.54
A90: 0.14 | B90: 0.1 | C90: 1.5 | D90: 83.96262 | E90: - | F90: Хлеб пшеничный витаминизированный | G90: =IFERROR(VLOOKUP(F90,[2]Реестр!A:K,2,0),"") | H90: 50 | I90: 4.5
A91: 3.3 | B91: 0.3 | C91: 23.4 | D91: 112 | E91: - | F91: Хлеб ржаной | G91: =IFERROR(VLOOKUP(F91,[2]Реестр!A:K,2,0),"") | H91: 50 | I91: 4.25
A93: Итого за Комплекс | I93: =SUM(I86:I92) -> 265.4 | J93: 147.79 | L93: =J93-I93 -> -117.61
A94: Комплекс №1 1-4 классы (меню для детей с сахарным диабетом)
A95: 3.76 | B95: 3.05 | C95: 13.8 | D95: 93.76256 | E95: 1/50 | F95: Бутерброд с маслом 20/10 г (батон витаминизированный) | G95: =IFERROR(VLOOKUP(F95,[1]Реестр!A:K,2,0),"") | H95: 30 | I95: 149.52
A96: 13.79 | B96: 20.23 | C96: 3.57 | D96: 251.02965 | E96: 4/56 | F96: Омлет натуральный с маслом сливочным | G96: =IFERROR(VLOOKUP(F96,[1]Реестр!A:K,2,0),"") | H96: 150
A97: 0.18 | B97: 0.04 | C97: 13.75 | D97: 53.136643 | E97: 11/17-1 | F97: Чай "Каркаде" без сахара | G97: =IFERROR(VLOOKUP(F97,[1]Реестр!A:K,2,0),"") | H97: 200
A98: 1.32 | B98: 0.24 | C98: 8.34 | D98: 38.676 | E98: ="-" -> - | F98: Хлеб ржаной | G98: =IFERROR(VLOOKUP(F98,[1]Реестр!A:K,2,0),"") | H98: ="20" -> 20
A99: 1.32 | B99: 0.24 | C99: 0 | D99: 38.676 | E99: - | F99: Фрукт свежий | G99: =IFERROR(VLOOKUP(F99,[1]Реестр!A:K,2,0),"") | H99: 130
A100: Итого за Комплекс | I100: =SUM(I95:I99) -> 149.52
A101: Комплекс №1 1-4 классы (безмолочное меню) | J101: 85.2 | L101: =J101-I101 -> 85.2
A102: 17.96 | B102: 19.65 | C102: 1.04 | D102: 252.59814 | E102: 4/58 (2018 № 2/6-1) | F102: Омлет безмолочный запеченный или паровой | G102: =IFERROR(VLOOKUP(F102,[1]Реестр!A:K,2,0),"") -> 200 | H102: 150 | I102: 149.52
A103: 0.18 | B103: 0.04 | C103: 13.75 | D103: 53.136643 | E103: 11/17 | F103: Чай "Каркаде" с сахаром | G103: =IFERROR(VLOOKUP(F103,[1]Реестр!A:K,2,0),"") -> 200 | H103: 200
A104: 0.52 | B104: 0.52 | C104: 15.08 | D104: 63.284 | E104: - | F104: Фрукт свежий | G104: =IFERROR(VLOOKUP(F104,[1]Реестр!A:K,2,0),"") | H104: 130
...

Sheet 109-1
A1: Согласовано | F1: ООО "Комфорт" | H1: Согласовано
A2: Директор ООО "Комфорт" | F2: МАОУ СОШ № 109 | H2: Директор МАОУ лицей № 109
A3: Поматилов С. С. | F3: Меню на 2 октября 2026 года* | H3: Чудинова С.С.
A4: Пищевые вещества | D4: Ккал | E4: № ТТК | F4: Наименование блюд | G4: Выход по реестру, г | H4: Выход, г | I4: Цена, руб | J4: Раздел
A5: Белки | B5: Жиры | C5: Углеводы
A6: Комплекс №1 1-4 классы 1 смена
A7: =IFERROR(VLOOKUP(F7,[1]Реестр!A:K,3,0)*H7/G7,"") -> 3.84 | B7: =IFERROR(VLOOKUP(F7,[1]Реестр!A:K,4,0)*H7/G7,"") -> 10.1 | C7: =IFERROR(VLOOKUP(F7,[1]Реестр!A:K,5,0)*H7/G7,"") -> 9.77 | D7: =IFERROR(VLOOKUP(F7,[1]Реестр!A:K,6,0)*H7/G7,"") -> 145.383 | E7: =IFERROR(VLOOKUP(F7,[1]Реестр!A:K,11,0),"") -> 1*57 | F7: Бутерброд с сыром и маслом 20/10/10 | G7: =IFERROR(VLOOKUP(F7,[1]Реестр!A:K,2,0),"") -> 40 | H7: 40 | I7: 49.55 | J7: =IFERROR(VLOOKUP(O7,Реестр!#REF!,3,0)*Q7/P7,"")
A8: 9.75 | B8: 12.14 | C8: 36.06 | D8: 291.64 | E8: ="2/57" -> 2/57 | F8: Каша ячневая молочная с маслом сливочным | G8: =IFERROR(VLOOKUP(F8,[1]Реестр!A:K,2,0),"") | H8: 210 | I8: 51.38 | J8: =IFERROR(VLOOKUP(O8,Реестр!#REF!,3,0)*Q8/P8,"")
A9: =IFERROR(VLOOKUP(F9,[1]Реестр!A:K,3,0)*H9/G9,"") -> 0.15 | B9: =IFERROR(VLOOKUP(F9,[1]Реестр!A:K,4,0)*H9/G9,"") -> 0.09 | C9: =IFERROR(VLOOKUP(F9,[1]Реестр!A:K,5,0)*H9/G9,"") -> 8.58 | D9: =IFERROR(VLOOKUP(F9,[1]Реестр!A:K,6,0)*H9/G9,"") -> 34.8 | E9: =IFERROR(VLOOKUP(F9,[1]Реестр!A:K,11,0),"") -> 12*2 | F9: Соус из малины | G9: =IFERROR(VLOOKUP(F9,[1]Реестр!A:K,2,0),"") -> 100 | H9: 30 | I9: 24.59 | J9: =IFERROR(VLOOKUP(O9,Реестр!#REF!,3,0)*Q9/P9,"")
A10: =IFERROR(VLOOKUP(F10,[1]Реестр!A:K,3,0)*H10/G10,"") -> 1.4 | B10: =IFERROR(VLOOKUP(F10,[1]Реестр!A:K,4,0)*H10/G10,"") -> 1.1 | C10: =IFERROR(VLOOKUP(F10,[1]Реестр!A:K,5,0)*H10/G10,"") -> 16.6 | D10: =IFERROR(VLOOKUP(F10,[1]Реестр!A:K,6,0)*H10/G10,"") -> 79 | E10: ="11/59" -> 11/59 | F10: Кофейный напиток | G10: =IFERROR(VLOOKUP(F10,[1]Реестр!A:K,2,0),"") -> 200 | H10: 200 | I10: 22.2 | J10: =IFERROR(VLOOKUP(O10,Реестр!#REF!,3,0)*Q10/P10,"")
A11: =IFERROR(VLOOKUP(F11,[1]Реестр!A:K,3,0)*H11/G11,"") -> 1.32 | B11: =IFERROR(VLOOKUP(F11,[1]Реестр!A:K,4,0)*H11/G11,"") -> 0.24 | C11: =IFERROR(VLOOKUP(F11,[1]Реестр!A:K,5,0)*H11/G11,"") -> 6.68 | D11: =IFERROR(VLOOKUP(F11,[1]Реестр!A:K,6,0)*H11/G11,"") -> 38.6 | E11: =IFERROR(VLOOKUP(F11,[1]Реестр!A:K,11,0),"") -> - | F11: Хлеб вит. ржаной | G11: =IFERROR(VLOOKUP(F11,[1]Реестр!A:K,2,0),"") -> 100 | H11: 20 | I11: 1.8
A12: Итого за Комплекс | I12: =SUM(I7:I11) -> 149.52 | J12: 85.2 | K12: =I12-J12 -> 64.32
A13: Комплекс №1 1-4 классы 2 смена
A14: 1.03 | B14: 4.77 | C14: 6.38 | D14: 68.99 | E14: ="7/80" -> 7/80 | F14: Салат из отварной свеклы с соленым огурцом и куриным яйцом | G14: =IFERROR(VLOOKUP(F14,[2]Реестр!A:K,2,0),"") | H14: 80 | I14: 41.6 | J14: =IFERROR(VLOOKUP(O14,Реестр!#REF!,3,0)*Q14/P14,"")
A15: 5.55 | B15: 7.8 | C15: 15.95 | D15: 199.78905 | E15: ="6/70" -> 6/70 | F15: Рассольник Ленинградский со сметаной | G15: =IFERROR(VLOOKUP(F15,[2]Реестр!A:K,2,0),"") -> 300 | H15: 250 | I15: 50 | J15: =IFERROR(VLOOKUP(O15,Реестр!#REF!,3,0)*Q15/P15,"")
A16: 16.58 | B16: 19.5 | C16: 68.38 | D16: 327.07 | E16: ="8/35" -> 8/35 | F16: Жаркое по-домашнему со свининой | G16: =IFERROR(VLOOKUP(F16,[2]Реестр!A:K,2,0),"") | H16: 200 | I16: 112.67 | J16: =IFERROR(VLOOKUP(O16,Реестр!#REF!,3,0)*Q16/P16,"")
A17: 0.14 | B17: 0.1 | C17: 1.5 | D17: 83.96262 | E17: ="11/1" -> 11/1 | F17: Напиток ассорти из красных ягод | G17: =IFERROR(VLOOKUP(F17,[2]Реестр!A:K,2,0),"") -> 200 | H17: 200 | I17: 12.8
A18: 2.64 | B18: 0.24 | C18: 18.72 | D18: 89.6 | E18: - | F18: Хлеб вит. пшеничный | G18: =IFERROR(VLOOKUP(F18,[2]Реестр!A:K,2,0),"") -> 100 | H18: 40 | I18: 3.6 | J18: =IFERROR(VLOOKUP(O18,Реестр!#REF!,3,0)*Q18/P18,"")
A19: 2.64 | B19: 0.48 | C19: 13.36 | D19: 77.2 | E19: - | F19: Хлеб вит. ржаной | G19: =IFERROR(VLOOKUP(F19,[2]Реестр!A:K,2,0),"") -> 100 | H19: 40 | I19: 3.6 | J19: =IFERROR(VLOOKUP(O19,Реестр!#REF!,3,0)*Q19/P19,"")
A21: Итого за Комплекс | I21: =SUM(I14:I20) -> 224.27 | J21: 127.79 | K21: =J21-I21 -> -96.48
A22: Комплекс №2 5-11 классы 1 смена
A23: 0.48 | B23: 2.37 | C23: 3.09 | D23: 36.64 | E23: ="7/26" -> 7/26 | F23: Закуска витаминка (с огурцом) | G23: =IFERROR(VLOOKUP(F23,[1]Реестр!A:K,2,0),"") | H23: 30 | I23: 19.26
A24: 19.44 | B24: 19.42 | C24: 57.63 | D24: 436.2 | E24: 9/17 | F24: Плов из птицы (филе бедра куриного) с куркумой | G24: =IFERROR(VLOOKUP(F24,[2]Реестр!A:K,2,0),"") | H24: 250 | I24: 130.94 | J24: =IFERROR(VLOOKUP(O24,Реестр!#REF!,3,0)*Q24/P24,"")
A25: 0.18 | B25: 0.05 | C25: 0.32 | D25: 37.582528 | E25: 11/7 | F25: Напиток из вишни | G25: =IFERROR(VLOOKUP(F25,[2]Реестр!A:K,2,0),"") -> 200 | H25: 200 | I25: 19.54
A26: 3.3 | B26: 0.3 | C26: 23.4 | D26: 112 | E26: ="-" -> - | F26: Хлеб пшеничный витаминизированный | G26: =IFERROR(VLOOKUP(F26,[2]Реестр!A:K,2,0),"") | H26: 50 | I26: 4.5 | J26: =IFERROR(VLOOKUP(O26,Реестр!#REF!,3,0)*Q26/P26,"")
A27: 2 | B27: 0.4 | C27: 10 | D27: 58 | E27: ="-" -> - | F27: Хлеб ржаной | G27: =IFERROR(VLOOKUP(F27,[2]Реестр!A:K,2,0),"") | H27: 30 | I27: 2.7
J28: =IFERROR(VLOOKUP(O28,Реестр!#REF!,3,0)*Q28/P28,"")
A29: Итого за Комплекс | I29: =SUM(I23:I28) -> 176.94 | J29: 98.52 | K29: =I29-J29 -> 78.42
A30: Комплекс №2 5-11 классы 2 смена
A31: 2.3 | B31: 6.01 | C31: 4.01 | D31: 72.147796 | E31: 7/13 | F31: Салат из белокочанной капусты с кукурузой и растительным маслом | G31: =IFERROR(VLOOKUP(F31,[2]Реестр!A:K,2,0),"") | H31: 100 | I31: 56.17
A32: 4.11 | B32: 4.77 | C32: 26.5 | D32: 213.5 | E32: 6/65 | F32: Суп-пюре из разных овощей с гренками | G32: =IFERROR(VLOOKUP(F32,[2]Реестр!A:K,2,0),"") | H32: 250 | I32: 50 | K32: =I38-J32 -> 265.4
A33: 17.5 | B33: 15.6 | C33: 42.3 | D33: 265.7 | E33: 9/17 | F33: Плов из птицы (филе бедра куриного) с куркумой | G33: =IFERROR(VLOOKUP(F33,[2]Реестр!A:K,2,0),"") | H33: 250 | I33: 130.94
A34: 3.94 | B34: 5.11 | C34: 27.5 | D34: 170.19545 | E34: 11/7 | F34: Напиток из вишни | G34: =IFERROR(VLOOKUP(F34,[2]Реестр!A:K,2,0),"") -> 200 | H34: 200 | I34: 19.54
A35: 0.14 | B35: 0.1 | C35: 1.5 | D35: 83.96262 | E35: - | F35: Хлеб пшеничный витаминизированный | G35: =IFERROR(VLOOKUP(F35,[2]Реестр!A:K,2,0),"") | H35: 50 | I35: 4.5
A36: 3.3 | B36: 0.3 | C36: 23.4 | D36: 112 | E36: - | F36: Хлеб ржаной | G36: =IFERROR(VLOOKUP(F36,[2]Реестр!A:K,2,0),"") | H36: 50 | I36: 4.25
A38: Итого за Комплекс | I38: =SUM(I31:I37) -> 265.4 | J38: 147.79 | K38: =I38-J38 -> 117.61
A39: Комплекс №3 Двухразовое питание 1-4 классы
A40: Завтрак
A41: =IFERROR(VLOOKUP(F41,[1]Реестр!A:K,3,0)*H41/G41,"") -> 3.84 | B41: =IFERROR(VLOOKUP(F41,[1]Реестр!A:K,4,0)*H41/G41,"") -> 10.1 | C41: =IFERROR(VLOOKUP(F41,[1]Реестр!A:K,5,0)*H41/G41,"") -> 9.77 | D41: =IFERROR(VLOOKUP(F41,[1]Реестр!A:K,6,0)*H41/G41,"") -> 145.383 | E41: =IFERROR(VLOOKUP(F41,[1]Реестр!A:K,11,0),"") -> 1*57 | F41: Бутерброд с сыром и маслом 20/10/10 | G41: =IFERROR(VLOOKUP(F41,[1]Реестр!A:K,2,0),"") -> 40 | H41: 40 | I41: 49.55 | J41: бутер
A42: 9.75 | B42: 12.14 | C42: 36.06 | D42: 291.64 | E42: ="2/57" -> 2/57 | F42: Каша ячневая молочная с маслом сливочным | G42: =IFERROR(VLOOKUP(F42,[1]Реестр!A:K,2,0),"") | H42: 210 | I42: 51.38 | J42: горячее
A43: =IFERROR(VLOOKUP(F43,[1]Реестр!A:K,3,0)*H43/G43,"") -> 0.15 | B43: =IFERROR(VLOOKUP(F43,[1]Реестр!A:K,4,0)*H43/G43,"") -> 0.09 | C43: =IFERROR(VLOOKUP(F43,[1]Реестр!A:K,5,0)*H43/G43,"") -> 8.58 | D43: =IFERROR(VLOOKUP(F43,[1]Реестр!A:K,6,0)*H43/G43,"") -> 34.8 | E43: =IFERROR(VLOOKUP(F43,[1]Реестр!A:K,11,0),"") -> 12*2 | F43: Соус из малины | G43: =IFERROR(VLOOKUP(F43,[1]Реестр!A:K,2,0),"") -> 100 | H43: 30 | I43: 24.59 | J43: соус/повидло
A44: =IFERROR(VLOOKUP(F44,[1]Реестр!A:K,3,0)*H44/G44,"") -> 1.4 | B44: =IFERROR(VLOOKUP(F44,[1]Реестр!A:K,4,0)*H44/G44,"") -> 1.1 | C44: =IFERROR(VLOOKUP(F44,[1]Реестр!A:K,5,0)*H44/G44,"") -> 16.6 | D44: =IFERROR(VLOOKUP(F44,[1]Реестр!A:K,6,0)*H44/G44,"") -> 79 | E44: ="11/59" -> 11/59 | F44: Кофейный напиток | G44: =IFERROR(VLOOKUP(F44,[1]Реестр!A:K,2,0),"") -> 200 | H44: 200 | I44: 22.2 | J44: напиток
A45: =IFERROR(VLOOKUP(F45,[1]Реестр!A:K,3,0)*H45/G45,"") -> 1.32 | B45: =IFERROR(VLOOKUP(F45,[1]Реестр!A:K,4,0)*H45/G45,"") -> 0.24 | C45: =IFERROR(VLOOKUP(F45,[1]Реестр!A:K,5,0)*H45/G45,"") -> 6.68 | D45: =IFERROR(VLOOKUP(F45,[1]Реестр!A:K,6,0)*H45/G45,"") -> 38.6 | E45: =IFERROR(VLOOKUP(F45,[1]Реестр!A:K,11,0),"") -> - | F45: Хлеб вит. ржаной | G45: =IFERROR(VLOOKUP(F45,[1]Реестр!A:K,2,0),"") -> 100 | H45: 20 | I45: 1.8 | J45: любая позиция
A46: Обед
A47: 1.03 | B47: 4.77 | C47: 6.38 | D47: 68.99 | E47: ="7/80" -> 7/80 | F47: Салат из отварной свеклы с соленым огурцом и куриным яйцом | G47: =IFERROR(VLOOKUP(F47,[2]Реестр!A:K,2,0),"") | H47: 80 | I47: 41.6 | J47: салат
A48: 5.55 | B48: 7.8 | C48: 15.95 | D48: 199.78905 | E48: ="6/70" -> 6/70 | F48: Рассольник Ленинградский со сметаной | G48: =IFERROR(VLOOKUP(F48,[2]Реестр!A:K,2,0),"") -> 300 | H48: 250 | I48: 50 | J48: суп
A49: 16.58 | B49: 19.5 | C49: 68.38 | D49: 327.07 | E49: ="8/35" -> 8/35 | F49: Жаркое по-домашнему со свининой | G49: =IFERROR(VLOOKUP(F49,[2]Реестр!A:K,2,0),"") | H49: 200 | I49: 112.67 | J49: горячее
A50: 0.14 | B50: 0.1 | C50: 1.5 | D50: 83.96262 | E50: ="11/1" -> 11/1 | F50: Напиток ассорти из красных ягод | G50: =IFERROR(VLOOKUP(F50,[2]Реестр!A:K,2,0),"") -> 200 | H50: 200 | I50: 12.8 | J50: гарнир
A51: 2.64 | B51: 0.24 | C51: 18.72 | D51: 89.6 | E51: - | F51: Хлеб вит. пшеничный | G51: =IFERROR(VLOOKUP(F51,[2]Реестр!A:K,2,0),"") -> 100 | H51: 40 | I51: 3.6 | J51: напиток
A52: 2.64 | B52: 0.48 | C52: 13.36 | D52: 77.2 | E52: - | F52: Хлеб вит. ржаной | G52: =IFERROR(VLOOKUP(F52,[2]Реестр!A:K,2,0),"") -> 100 | H52: 40 | I52: 3.6 | J52: хлеб пшеничный
J53: хлеб ржаной
A54: Итого за Комплекс | I54: =SUM(I41:I45,I47:I53) -> 373.79 | J54: 212.99 | K54: =I54-J54 -> 160.8
A55: Комплекс №4 Двухразовое питание 5-11 классы
A56: Завтрак
A57: 3.76 | B57: 3.05 | C57: 15.15 | D57: 112.3 | E57: ="1/50" -> 1/50 | F57: Бутерброд с маслом на батоне витаминизированном 20/10 г | G57: =IFERROR(VLOOKUP(F57,[1]Реестр!A:K,2,0),"") | H57: 30 | I57: 38.37 | J57: бутер
A58: 16.39 | B58: 19.7 | C58: 41.3 | D58: 392.3 | E58: ="4/56" -> 4/56 | F58: Омлет натуральный с маслом сливочным | H58: 200 | I58: 101.94 | J58: горячее
A59: 0.18 | B59: 0.04 | C59: 13.75 | D59: 53.136643 | E59: ="11/56" -> 11/56 | F59: Чай "Каркаде" с сахаром | H59: 200 | I59: 8.15 | J59: соус/повидло
A60: 2 | B60: 0.4 | C60: 10 | D60: 58 | E60: ="-" -> - | F60: Хлеб ржаной | H60: 30 | I60: 2.7 | J60: чай
A61: 0.52 | B61: 0.52 | C61: 15.08 | D61: 63.284 | E61: ="-" -> - | F61: Фрукт свежий | H61: 130 | I61: 25.78 | J61: любая позиция
A62: Обед | J62: =IFERROR(VLOOKUP(O62,Реестр!#REF!,3,0)*Q62/P62,"")
A63: 2.3 | B63: 6.01 | C63: 4.01 | D63: 72.147796 | E63: 7/13 | F63: Салат из белокочанной капусты с кукурузой и растительным маслом | G63: =IFERROR(VLOOKUP(F63,[2]Реестр!A:K,2,0),"") | H63: 100 | I63: 56.17 | J63: салат
A64: 4.11 | B64: 4.77 | C64: 26.5 | D64: 213.5 | E64: 6/65 | F64: Суп-пюре из разных овощей с гренками | G64: =IFERROR(VLOOKUP(F64,[2]Реестр!A:K,2,0),"") | H64: 250 | I64: 50 | J64: суп
A65: 17.5 | B65: 15.6 | C65: 42.3 | D65: 265.7 | E65: 9/17 | F65: Плов из птицы (филе бедра куриного) с куркумой | G65: =IFERROR(VLOOKUP(F65,[2]Реестр!A:K,2,0),"") | H65: 250 | I65: 130.94 | J65: горячее
A66: 3.94 | B66: 5.11 | C66: 27.5 | D66: 170.19545 | E66: 11/7 | F66: Напиток из вишни | G66: =IFERROR(VLOOKUP(F66,[2]Реестр!A:K,2,0),"") -> 200 | H66: 200 | I66: 19.54 | J66: гарнир
A67: 0.14 | B67: 0.1 | C67: 1.5 | D67: 83.96262 | E67: - | F67: Хлеб пшеничный витаминизированный | G67: =IFERROR(VLOOKUP(F67,[2]Реестр!A:K,2,0),"") | H67: 50 | I67: 4.5 | J67: напиток
A68: 3.3 | B68: 0.3 | C68: 23.4 | D68: 112 | E68: - | F68: Хлеб ржаной | G68: =IFERROR(VLOOKUP(F68,[2]Реестр!A:K,2,0),"") | H68: 50 | I68: 4.25 | J68: хлеб белый
J69: хлеб ржаной
A70: Итого за Комплекс | I70: =SUM(I57:I61)+SUM(I63:I69) -> 442.34 | J70: 246.31 | K70: =J70-I70 -> -196.03
A71: Комплекс №5 5-11 классы
A72: 0.48 | B72: 2.37 | C72: 3.09 | D72: 36.64 | E72: ="7/26" -> 7/26 | F72: Закуска витаминка (с огурцом) | G72: =IFERROR(VLOOKUP(F72,[1]Реестр!A:K,2,0),"") | H72: 30 | I72: 19.26
A73: 19.44 | B73: 19.42 | C73: 57.63 | D73: 436.2 | E73: 9/17 | F73: Плов из птицы (филе бедра куриного) с куркумой | G73: =IFERROR(VLOOKUP(F73,[2]Реестр!A:K,2,0),"") | H73: 250 | I73: 130.94
A74: 0.18 | B74: 0.05 | C74: 0.32 | D74: 37.582528 | E74: 11/7 | F74: Напиток из вишни | G74: =IFERROR(VLOOKUP(F74,[2]Реестр!A:K,2,0),"") -> 200 | H74: 200 | I74: 19.54
A75: 3.3 | B75: 0.3 | C75: 23.4 | D75: 112 | E75: ="-" -> - | F75: Хлеб пшеничный витаминизированный | G75: =IFERROR(VLOOKUP(F75,[2]Реестр!A:K,2,0),"") | H75: 50 | I75: 4.5
A76: 2 | B76: 0.4 | C76: 10 | D76: 58 | E76: ="-" -> - | F76: Хлеб ржаной | G76: =IFERROR(VLOOKUP(F76,[2]Реестр!A:K,2,0),"") | H76: 30 | I76: 2.7
A78: Итого за Комплекс | I78: =SUM(I72:I77) -> 176.94 | J78: 98.52 | L78: =J78-I78 -> -78.42
A79: Комплекс №6 Булочка 1-11 классы
A80: 7.7 | B80: 7.42 | C80: 32.09 | D80: 225.88 | E80: 13*10 | F80: Булочное изделие в асс. | G80: =IFERROR(VLOOKUP(F80,[2]Реестр!A:K,2,0),"") -> 100 | H80: 80 | I80: 50
A81: Итого за Комплекс | I81: =I80 -> 50 | J81: 29
A82: Комплекс №7 Суп 1-11 классы
A83: 4.11 | B83: 4.77 | C83: 26.5 | D83: 213.5 | E83: 6/65 | F83: Суп-пюре из разных овощей с гренками | G83: =IFERROR(VLOOKUP(F83,[2]Реестр!A:K,2,0),"") | H83: 250 | I83: 50
A84: Итого за Комплекс | I84: =SUM(I83:I83) -> 50 | J84: 27
A85: Комплекс №9 5-11 Обед
A86: 2.3 | B86: 6.01 | C86: 4.01 | D86: 72.147796 | E86: 7/13 | F86: Салат из белокочанной капусты с кукурузой и растительным маслом | G86: =IFERROR(VLOOKUP(F86,[2]Реестр!A:K,2,0),"") | H86: 100 | I86: 56.17
A87: 4.11 | B87: 4.77 | C87: 26.5 | D87: 213.5 | E87: 6/65 | F87: Суп-пюре из разных овощей с гренками | G87: =IFERROR(VLOOKUP(F87,[2]Реестр!A:K,2,0),"") | H87: 250 | I87: 50
A88: 17.5 | B88: 15.6 | C88: 42.3 | D88: 265.7 | E88: 9/17 | F88: Плов из птицы (филе бедра куриного) с куркумой | G88: =IFERROR(VLOOKUP(F88,[2]Реестр!A:K,2,0),"") | H88: 250 | I88: 130.94
A89: 3.94 | B89: 5.11 | C89: 27.5 | D89: 170.19545 | E89: 11/7 | F89: Напиток из вишни | G89: =IFERROR(VLOOKUP(F89,[2]Реестр!A:K,2,0),"") -> 200 | H89: 200 | I89: 19.54
A90: 0.14 | B90: 0.1 | C90: 1.5 | D90: 83.96262 | E90: - | F90: Хлеб пшеничный витаминизированный | G90: =IFERROR(VLOOKUP(F90,[2]Реестр!A:K,2,0),"") | H90: 50 | I90: 4.5
A91: 3.3 | B91: 0.3 | C91: 23.4 | D91: 112 | E91: - | F91: Хлеб ржаной | G91: =IFERROR(VLOOKUP(F91,[2]Реестр!A:K,2,0),"") | H91: 50 | I91: 4.25
A93: Итого за Комплекс | I93: =SUM(I86:I92) -> 265.4 | J93: 147.79 | L93: =J93-I93 -> -117.61
A94: Комплекс №1 1-4 классы (меню для детей с сахарным диабетом)
A95: =IFERROR(VLOOKUP(F95,[1]Реестр!A:K,3,0)*H95/G95,"") -> 5.08 | B95: =IFERROR(VLOOKUP(F95,[1]Реестр!A:K,4,0)*H95/G95,"") -> 11.55 | C95: =IFERROR(VLOOKUP(F95,[1]Реестр!A:K,5,0)*H95/G95,"") -> 9.97 | D95: =IFERROR(VLOOKUP(F95,[1]Реестр!A:K,6,0)*H95/G95,"") -> 164.15 | E95: =IFERROR(VLOOKUP(F95,[1]Реестр!A:K,11,0),"") -> 1*51 | F95: Бутерброд с сыром и маслом 20/15/10 | G95: =IFERROR(VLOOKUP(F95,[1]Реестр!A:K,2,0),"") -> 45 | H95: 45 | I95: 149.52
A96: =IFERROR(VLOOKUP(F96,[1]Реестр!A:K,3,0)*H96/G96,"") -> 6.375 | B96: =IFERROR(VLOOKUP(F96,[1]Реестр!A:K,4,0)*H96/G96,"") -> 5.75 | C96: =IFERROR(VLOOKUP(F96,[1]Реестр!A:K,5,0)*H96/G96,"") -> 0.375 | D96: =IFERROR(VLOOKUP(F96,[1]Реестр!A:K,6,0)*H96/G96,"") -> 78.75 | E96: =IFERROR(VLOOKUP(F96,[1]Реестр!A:K,11,0),"") -> 4*57 | F96: Яйцо отварное 1 шт. | G96: =IFERROR(VLOOKUP(F96,[1]Реестр!A:K,2,0),"") -> 40 | H96: 50
A97: 6.26 | B97: 5.9 | C97: 28.4 | D97: 194.194 | E97: ="2/68" -> 2/68 | F97: Каша ячневая молочная с маслом сливочным без сахара | G97: =IFERROR(VLOOKUP(F97,[1]Реестр!A:K,2,0),"") | H97: 200
A98: 2.74 | B98: 2.2 | C98: 4.89 | D98: 49.717531 | E98: ="11/59 (2004 № 692)" -> 11/59 (2004 № 692) | F98: Кофейный напиток без сахара | G98: =IFERROR(VLOOKUP(F98,[1]Реестр!A:K,2,0),"") -> 200 | H98: ="200" -> 200
A99: =IFERROR(VLOOKUP(F99,[1]Реестр!A:K,3,0)*H99/G99,"") -> 1.32 | B99: =IFERROR(VLOOKUP(F99,[1]Реестр!A:K,4,0)*H99/G99,"") -> 0.24 | C99: =IFERROR(VLOOKUP(F99,[1]Реестр!A:K,5,0)*H99/G99,"") -> 6.68 | D99: =IFERROR(VLOOKUP(F99,[1]Реестр!A:K,6,0)*H99/G99,"") -> 38.6 | E99: =IFERROR(VLOOKUP(F99,[1]Реестр!A:K,11,0),"") -> - | F99: Хлеб вит. ржаной | G99: =IFERROR(VLOOKUP(F99,[1]Реестр!A:K,2,0),"") -> 100 | H99: ="20" -> 20
A100: Итого за Комплекс | I100: =SUM(I95:I99) -> 149.52
A101: Комплекс №1 1-4 классы (безмолочное меню) | J101: 85.2 | L101: =J101-I101 -> 85.2
A102: =IFERROR(VLOOKUP(F102,[1]Реестр!A:K,3,0)*H102/G102,"") -> 6.375 | B102: =IFERROR(VLOOKUP(F102,[1]Реестр!A:K,4,0)*H102/G102,"") -> 5.75 | C102: =IFERROR(VLOOKUP(F102,[1]Реестр!A:K,5,0)*H102/G102,"") -> 0.375 | D102: =IFERROR(VLOOKUP(F102,[1]Реестр!A:K,6,0)*H102/G102,"") -> 78.75 | E102: =IFERROR(VLOOKUP(F102,[1]Реестр!A:K,11,0),"") -> 4*57 | F102: Яйцо отварное 1 шт. | G102: =IFERROR(VLOOKUP(F102,[1]Реестр!A:K,2,0),"") -> 40 | H102: 50 | I102: 149.52
A103: 6.03 | B103: 12.83 | C103: 34.92 | D103: 275.69061 | E103: ="2/78" -> 2/78 | F103: Каша ячневая безмолочная с маслом растительным и отрубями | G103: =IFERROR(VLOOKUP(F103,[1]Реестр!A:K,2,0),"") | H103: 200
A104: =IFERROR(VLOOKUP(F104,[1]Реестр!A:K,3,0)*H104/G104,"") -> 0.175 | B104: =IFERROR(VLOOKUP(F104,[1]Реестр!A:K,4,0)*H104/G104,"") -> 0.105 | C104: =IFERROR(VLOOKUP(F104,[1]Реестр!A:K,5,0)*H104/G104,"") -> 10.01 | D104: =IFERROR(VLOOKUP(F104,[1]Реестр!A:K,6,0)*H104/G104,"") -> 40.6 | E104: =IFERROR(VLOOKUP(F104,[1]Реестр!A:K,11,0),"") -> 12*2 | F104: Соус из малины | G104: =IFERROR(VLOOKUP(F104,[1]Реестр!A:K,2,0),"") -> 100 | H104: 35
...

Sheet 109-2
A1: Согласовано | F1: ООО "Комфорт" | H1: Согласовано
A2: Директор ООО "Комфорт" | F2: МАОУ СОШ № 109 | H2: Директор МАОУ лицей № 109
A3: Поматилов С. С. | F3: Меню на 2 октября 2026 года* | H3: Чудинова С.С.
A4: Пищевые вещества | D4: Ккал | E4: № ТТК | F4: Наименование блюд | G4: Выход по реестру, г | H4: Выход, г | I4: Цена, руб | J4: Раздел
A5: Белки | B5: Жиры | C5: Углеводы
A6: Комплекс №1 1-4 классы 1 смена
A7: 4.23 | B7: 4.96 | C7: 38.7 | D7: 228.9 | E7: ="1/50" -> 1/50 | F7: Бутерброд с маслом 20/10 г (батон витаминизированный) | G7: =IFERROR(VLOOKUP(F7,[1]Реестр!A:K,2,0),"") | H7: 30 | I7: 38.37 | J7: =IFERROR(VLOOKUP(O7,Реестр!#REF!,3,0)*Q7/P7,"")
A8: 13.79 | B8: 14.6 | C8: 23.4 | D8: 266.7 | E8: ="4/56" -> 4/56 | F8: Омлет натуральный с маслом сливочным | H8: 150 | I8: 75.42 | J8: =IFERROR(VLOOKUP(O8,Реестр!#REF!,3,0)*Q8/P8,"")
A9: 0.18 | B9: 0.04 | C9: 13.75 | D9: 53.136643 | E9: ="11/56" -> 11/56 | F9: Чай "Каркаде" с сахаром | H9: 200 | I9: 8.15 | J9: =IFERROR(VLOOKUP(O9,Реестр!#REF!,3,0)*Q9/P9,"")
A10: 1.3 | B10: 0.2 | C10: 6.7 | D10: 39 | E10: ="-" -> - | F10: Хлеб ржаной | H10: 20 | I10: 1.8 | J10: =IFERROR(VLOOKUP(O10,Реестр!#REF!,3,0)*Q10/P10,"")
A11: 0.52 | B11: 0.52 | C11: 15.08 | D11: 63.284 | E11: ="-" -> - | F11: Фрукт свежий | H11: 130 | I11: 25.78
A12: Итого за Комплекс | I12: =SUM(I7:I11) -> 149.52 | J12: 85.2 | K12: =I12-J12 -> 64.32
A13: Комплекс №1 1-4 классы 2 смена
A14: 1.33 | B14: 5.12 | C14: 4.1 | D14: 73.52 | E14: 7/13 | F14: Салат из белокочанной капусты с кукурузой и растительным маслом | G14: =IFERROR(VLOOKUP(F14,[2]Реестр!A:K,2,0),"") | H14: 80 | I14: 44.94 | J14: =IFERROR(VLOOKUP(O14,Реестр!#REF!,3,0)*Q14/P14,"")
A15: 4.11 | B15: 4.77 | C15: 19.5 | D15: 143.13 | E15: 6/65 | F15: Суп-пюре из разных овощей с гренками | G15: =IFERROR(VLOOKUP(F15,[2]Реестр!A:K,2,0),"") | H15: 250 | I15: 50 | J15: =IFERROR(VLOOKUP(O15,Реестр!#REF!,3,0)*Q15/P15,"")
A16: 15.55 | B16: 15.4 | C16: 57.1 | D16: 364.2 | E16: 9/17 | F16: Плов из птицы (филе бедра куриного) с куркумой | G16: =IFERROR(VLOOKUP(F16,[2]Реестр!A:K,2,0),"") | H16: 200 | I16: 102.59 | J16: =IFERROR(VLOOKUP(O16,Реестр!#REF!,3,0)*Q16/P16,"")
A17: 0.18 | B17: 0.05 | C17: 0.32 | D17: 37.582528 | E17: 11/7 | F17: Напиток из вишни | G17: =IFERROR(VLOOKUP(F17,[2]Реестр!A:K,2,0),"") -> 200 | H17: 200 | I17: 19.54
A18: 3.3 | B18: 0.3 | C18: 23.4 | D18: 112 | E18: - | F18: Хлеб пшеничный витаминизированный | G18: =IFERROR(VLOOKUP(F18,[2]Реестр!A:K,2,0),"") | H18: 50 | I18: 4.5 | J18: =IFERROR(VLOOKUP(O18,Реестр!#REF!,3,0)*Q18/P18,"")
A19: 2 | B19: 0.4 | C19: 10 | D19: 58 | E19: - | F19: Хлеб ржаной | G19: =IFERROR(VLOOKUP(F19,[2]Реестр!A:K,2,0),"") | H19: 30 | I19: 2.7 | J19: =IFERROR(VLOOKUP(O19,Реестр!#REF!,3,0)*Q19/P19,"")
A21: Итого за Комплекс | I21: =SUM(I14:I20) -> 224.27 | J21: 127.79 | K21: =J21-I21 -> -96.48
A22: Комплекс №2 5-11 классы 1 смена
A23: 0.24 | B23: 0.03 | C23: 0.74 | D23: 4.2 | E23: ="7/10" -> 7/10 | F23: Кукуруза консервированная | G23: =IFERROR(VLOOKUP(F23,[1]Реестр!A:K,2,0),"") | H23: 30 | I23: 16.1
A24: 19.44 | B24: 21.37 | C24: 55.36 | D24: 508.5 | E24: ="8/35" -> 8/35 | F24: Жаркое по-домашнему со свининой | G24: =IFERROR(VLOOKUP(F24,[2]Реестр!A:K,2,0),"") | H24: 250 | I24: 140.84 | J24: =IFERROR(VLOOKUP(O24,Реестр!#REF!,3,0)*Q24/P24,"")
A25: 0.14 | B25: 0.1 | C25: 1.5 | D25: 83.96262 | E25: ="11/1" -> 11/1 | F25: Напиток ассорти из красных ягод | G25: =IFERROR(VLOOKUP(F25,[2]Реестр!A:K,2,0),"") -> 200 | H25: 200 | I25: 12.8
A26: 2.64 | B26: 0.24 | C26: 18.72 | D26: 89.6 | E26: - | F26: Хлеб вит. пшеничный | G26: =IFERROR(VLOOKUP(F26,[2]Реестр!A:K,2,0),"") -> 100 | H26: 40 | I26: 3.6 | J26: =IFERROR(VLOOKUP(O26,Реестр!#REF!,3,0)*Q26/P26,"")
A27: 2.64 | B27: 0.48 | C27: 13.36 | D27: 77.2 | E27: - | F27: Хлеб вит. ржаной | G27: =IFERROR(VLOOKUP(F27,[2]Реестр!A:K,2,0),"") -> 100 | H27: 40 | I27: 3.6
J28: =IFERROR(VLOOKUP(O28,Реестр!#REF!,3,0)*Q28/P28,"")
A29: Итого за Комплекс | I29: =SUM(I23:I28) -> 176.94 | J29: 98.52 | K29: =I29-J29 -> 78.42
A30: Комплекс №2 5-11 классы 2 смена
A31: 1.29 | B31: 5.97 | C31: 7.97 | D31: 86.23 | E31: ="7/80" -> 7/80 | F31: Салат из отварной свеклы с сол. огурцом и куриным яйцом | G31: =IFERROR(VLOOKUP(F31,[2]Реестр!A:K,2,0),"") | H31: 100 | I31: 52.76
A32: 8.9166667 | B32: 7.75 | C32: 19.5 | D32: 185 | E32: 6*57 | F32: Суп картофельный с бобовыми | G32: =IFERROR(VLOOKUP(F32,[2]Реестр!A:K,2,0),"") -> 300 | H32: 250 | I32: 50 | K32: =I38-J32 -> 265.4
A33: 19.44 | B33: 21.37 | C33: 55.36 | D33: 508.5 | E33: ="8/35" -> 8/35 | F33: Жаркое по-домашнему со свининой | G33: =IFERROR(VLOOKUP(F33,[2]Реестр!A:K,2,0),"") | H33: 250 | I33: 140.84
A34: 0.14 | B34: 0.1 | C34: 1.5 | D34: 83.96262 | E34: ="11/1" -> 11/1 | F34: Напиток ассорти из красных ягод | G34: =IFERROR(VLOOKUP(F34,[2]Реестр!A:K,2,0),"") -> 200 | H34: 200 | I34: 12.8
A35: 3.3 | B35: 0.3 | C35: 23.4 | D35: 112 | E35: - | F35: Хлеб вит. пшеничный | G35: =IFERROR(VLOOKUP(F35,[2]Реестр!A:K,2,0),"") -> 100 | H35: 50 | I35: 4.5
A36: 3.3 | B36: 0.6 | C36: 16.7 | D36: 96.5 | E36: - | F36: Хлеб вит. ржаной | G36: =IFERROR(VLOOKUP(F36,[2]Реестр!A:K,2,0),"") -> 100 | H36: 50 | I36: 4.5
A38: Итого за Комплекс | I38: =SUM(I31:I37) -> 265.4 | J38: 147.79 | K38: =I38-J38 -> 117.61
A39: Комплекс №3 Двухразовое питание 1-4 классы
A40: Завтрак
A41: 4.23 | B41: 4.96 | C41: 38.7 | D41: 228.9 | E41: ="1/50" -> 1/50 | F41: Бутерброд с маслом 20/10 г (батон витаминизированный) | G41: =IFERROR(VLOOKUP(F41,[1]Реестр!A:K,2,0),"") | H41: 30 | I41: 38.37 | J41: бутер
A42: 13.79 | B42: 14.6 | C42: 23.4 | D42: 266.7 | E42: ="4/56" -> 4/56 | F42: Омлет натуральный с маслом сливочным | H42: 150 | I42: 75.42 | J42: горячее
A43: 0.18 | B43: 0.04 | C43: 13.75 | D43: 53.136643 | E43: ="11/56" -> 11/56 | F43: Чай "Каркаде" с сахаром | H43: 200 | I43: 8.15 | J43: соус/повидло
A44: 1.3 | B44: 0.2 | C44: 6.7 | D44: 39 | E44: ="-" -> - | F44: Хлеб ржаной | H44: 20 | I44: 1.8 | J44: напиток
A45: 0.52 | B45: 0.52 | C45: 15.08 | D45: 63.284 | E45: ="-" -> - | F45: Фрукт свежий | H45: 130 | I45: 25.78 | J45: любая позиция
A46: Обед
A47: 1.33 | B47: 5.12 | C47: 4.1 | D47: 73.52 | E47: 7/13 | F47: Салат из белокочанной капусты с кукурузой и растительным маслом | G47: =IFERROR(VLOOKUP(F47,[2]Реестр!A:K,2,0),"") | H47: 80 | I47: 44.94 | J47: салат
A48: 4.11 | B48: 4.77 | C48: 19.5 | D48: 143.13 | E48: 6/65 | F48: Суп-пюре из разных овощей с гренками | G48: =IFERROR(VLOOKUP(F48,[2]Реестр!A:K,2,0),"") | H48: 250 | I48: 50 | J48: суп
A49: 15.55 | B49: 15.4 | C49: 57.1 | D49: 364.2 | E49: 9/17 | F49: Плов из птицы (филе бедра куриного) с куркумой | G49: =IFERROR(VLOOKUP(F49,[2]Реестр!A:K,2,0),"") | H49: 200 | I49: 102.59 | J49: горячее
A50: 0.18 | B50: 0.05 | C50: 0.32 | D50: 37.582528 | E50: 11/7 | F50: Напиток из вишни | G50: =IFERROR(VLOOKUP(F50,[2]Реестр!A:K,2,0),"") -> 200 | H50: 200 | I50: 19.54 | J50: гарнир
A51: 3.3 | B51: 0.3 | C51: 23.4 | D51: 112 | E51: - | F51: Хлеб пшеничный витаминизированный | G51: =IFERROR(VLOOKUP(F51,[2]Реестр!A:K,2,0),"") | H51: 50 | I51: 4.5 | J51: напиток
A52: 2 | B52: 0.4 | C52: 10 | D52: 58 | E52: - | F52: Хлеб ржаной | G52: =IFERROR(VLOOKUP(F52,[2]Реестр!A:K,2,0),"") | H52: 30 | I52: 2.7 | J52: хлеб пшеничный
J53: хлеб ржаной
A54: Итого за Комплекс | I54: =SUM(I41:I45,I47:I53) -> 373.79 | J54: 212.99 | K54: =I54-J54 -> 160.8
A55: Комплекс №4 Двухразовое питание 5-11 классы
A56: Завтрак
A57: =IFERROR(VLOOKUP(F57,[1]Реестр!A:K,3,0)*H57/G57,"") -> 5.08 | B57: =IFERROR(VLOOKUP(F57,[1]Реестр!A:K,4,0)*H57/G57,"") -> 11.55 | C57: =IFERROR(VLOOKUP(F57,[1]Реестр!A:K,5,0)*H57/G57,"") -> 9.97 | D57: =IFERROR(VLOOKUP(F57,[1]Реестр!A:K,6,0)*H57/G57,"") -> 164.15 | E57: =IFERROR(VLOOKUP(F57,[1]Реестр!A:K,11,0),"") -> 1*51 | F57: Бутерброд с сыром и маслом 20/15/10 | G57: =IFERROR(VLOOKUP(F57,[1]Реестр!A:K,2,0),"") -> 45 | H57: 45 | I57: 57.2 | J57: бутер
A58: 10.61 | B58: 10.17 | C58: 47.32 | D58: 321.17798 | E58: ="2/57" -> 2/57 | F58: Каша ячневая молочная с маслом сливочным | G58: =IFERROR(VLOOKUP(F58,[1]Реестр!A:K,2,0),"") | H58: 250 | I58: 61.16 | J58: горячее
A59: =IFERROR(VLOOKUP(F59,[1]Реестр!A:K,3,0)*H59/G59,"") -> 0.2 | B59: =IFERROR(VLOOKUP(F59,[1]Реестр!A:K,4,0)*H59/G59,"") -> 0.12 | C59: =IFERROR(VLOOKUP(F59,[1]Реестр!A:K,5,0)*H59/G59,"") -> 11.44 | D59: =IFERROR(VLOOKUP(F59,[1]Реестр!A:K,6,0)*H59/G59,"") -> 46.4 | E59: =IFERROR(VLOOKUP(F59,[1]Реестр!A:K,11,0),"") -> 12*2 | F59: Соус из малины | G59: =IFERROR(VLOOKUP(F59,[1]Реестр!A:K,2,0),"") -> 100 | H59: 40 | I59: 32.78 | J59: соус/повидло
A60: =IFERROR(VLOOKUP(F60,[1]Реестр!A:K,3,0)*H60/G60,"") -> 1.4 | B60: =IFERROR(VLOOKUP(F60,[1]Реестр!A:K,4,0)*H60/G60,"") -> 1.1 | C60: =IFERROR(VLOOKUP(F60,[1]Реестр!A:K,5,0)*H60/G60,"") -> 16.6 | D60: =IFERROR(VLOOKUP(F60,[1]Реестр!A:K,6,0)*H60/G60,"") -> 79 | E60: ="11/59" -> 11/59 | F60: Кофейный напиток | G60: =IFERROR(VLOOKUP(F60,[1]Реестр!A:K,2,0),"") -> 200 | H60: 200 | I60: 22.2 | J60: чай
A61: =IFERROR(VLOOKUP(F61,[1]Реестр!A:K,3,0)*H61/G61,"") -> 2.64 | B61: =IFERROR(VLOOKUP(F61,[1]Реестр!A:K,4,0)*H61/G61,"") -> 0.48 | C61: =IFERROR(VLOOKUP(F61,[1]Реестр!A:K,5,0)*H61/G61,"") -> 13.36 | D61: =IFERROR(VLOOKUP(F61,[1]Реестр!A:K,6,0)*H61/G61,"") -> 77.2 | E61: =IFERROR(VLOOKUP(F61,[1]Реестр!A:K,11,0),"") -> - | F61: Хлеб вит. ржаной | G61: =IFERROR(VLOOKUP(F61,[1]Реестр!A:K,2,0),"") -> 100 | H61: 40 | I61: 3.6 | J61: любая позиция
A62: Обед | J62: =IFERROR(VLOOKUP(O62,Реестр!#REF!,3,0)*Q62/P62,"")
A63: 1.29 | B63: 5.97 | C63: 7.97 | D63: 86.23 | E63: ="7/80" -> 7/80 | F63: Салат из отварной свеклы с сол. огурцом и куриным яйцом | G63: =IFERROR(VLOOKUP(F63,[2]Реестр!A:K,2,0),"") | H63: 100 | I63: 52.76 | J63: салат
A64: 8.9166667 | B64: 7.75 | C64: 19.5 | D64: 185 | E64: 6*57 | F64: Суп картофельный с бобовыми | G64: =IFERROR(VLOOKUP(F64,[2]Реестр!A:K,2,0),"") -> 300 | H64: 250 | I64: 50 | J64: суп
A65: 19.44 | B65: 21.37 | C65: 55.36 | D65: 508.5 | E65: ="8/35" -> 8/35 | F65: Жаркое по-домашнему со свининой | G65: =IFERROR(VLOOKUP(F65,[2]Реестр!A:K,2,0),"") | H65: 250 | I65: 140.84 | J65: горячее
A66: 0.14 | B66: 0.1 | C66: 1.5 | D66: 83.96262 | E66: ="11/1" -> 11/1 | F66: Напиток ассорти из красных ягод | G66: =IFERROR(VLOOKUP(F66,[2]Реестр!A:K,2,0),"") -> 200 | H66: 200 | I66: 12.8 | J66: гарнир
A67: 3.3 | B67: 0.3 | C67: 23.4 | D67: 112 | E67: - | F67: Хлеб вит. пшеничный | G67: =IFERROR(VLOOKUP(F67,[2]Реестр!A:K,2,0),"") -> 100 | H67: 50 | I67: 4.5 | J67: напиток
A68: 3.3 | B68: 0.6 | C68: 16.7 | D68: 96.5 | E68: - | F68: Хлеб вит. ржаной | G68: =IFERROR(VLOOKUP(F68,[2]Реестр!A:K,2,0),"") -> 100 | H68: 50 | I68: 4.5 | J68: хлеб белый
J69: хлеб ржаной
A70: Итого за Комплекс | I70: =SUM(I57:I61)+SUM(I63:I69) -> 442.34 | J70: 246.31 | K70: =J70-I70 -> -196.03
A71: Комплекс №5 5-11 классы
A72: 0.24 | B72: 0.03 | C72: 0.74 | D72: 4.2 | E72: ="7/10" -> 7/10 | F72: Кукуруза консервированная | G72: =IFERROR(VLOOKUP(F72,[1]Реестр!A:K,2,0),"") | H72: 30 | I72: 16.1
A73: 19.44 | B73: 21.37 | C73: 55.36 | D73: 508.5 | E73: ="8/35" -> 8/35 | F73: Жаркое по-домашнему со свининой | G73: =IFERROR(VLOOKUP(F73,[2]Реестр!A:K,2,0),"") | H73: 250 | I73: 140.84
A74: 0.14 | B74: 0.1 | C74: 1.5 | D74: 83.96262 | E74: ="11/1" -> 11/1 | F74: Напиток ассорти из красных ягод | G74: =IFERROR(VLOOKUP(F74,[2]Реестр!A:K,2,0),"") -> 200 | H74: 200 | I74: 12.8
A75: 2.64 | B75: 0.24 | C75: 18.72 | D75: 89.6 | E75: - | F75: Хлеб вит. пшеничный | G75: =IFERROR(VLOOKUP(F75,[2]Реестр!A:K,2,0),"") -> 100 | H75: 40 | I75: 3.6
A76: 2.64 | B76: 0.48 | C76: 13.36 | D76: 77.2 | E76: - | F76: Хлеб вит. ржаной | G76: =IFERROR(VLOOKUP(F76,[2]Реестр!A:K,2,0),"") -> 100 | H76: 40 | I76: 3.6
A78: Итого за Комплекс | I78: =SUM(I72:I77) -> 176.94 | J78: 98.52 | L78: =J78-I78 -> -78.42
A79: Комплекс №6 Булочка 1-11 классы
A80: 7.7 | B80: 7.42 | C80: 32.09 | D80: 225.88 | E80: 13*10 | F80: Булочное изделие в асс. | G80: =IFERROR(VLOOKUP(F80,[2]Реестр!A:K,2,0),"") -> 100 | H80: 80 | I80: 50
A81: Итого за Комплекс | I81: =I80 -> 50 | J81: 29
A82: Комплекс №7 Суп 1-11 классы
A83: 4.11 | B83: 4.77 | C83: 26.5 | D83: 213.5 | E83: 6/65 | F83: Суп-пюре из разных овощей с гренками | G83: =IFERROR(VLOOKUP(F83,[2]Реестр!A:K,2,0),"") | H83: 250 | I83: 50
A84: Итого за Комплекс | I84: =SUM(I83:I83) -> 50 | J84: 27
A85: Комплекс №9 5-11 Обед
A86: 1.29 | B86: 5.97 | C86: 7.97 | D86: 86.23 | E86: ="7/80" -> 7/80 | F86: Салат из отварной свеклы с сол. огурцом и куриным яйцом | G86: =IFERROR(VLOOKUP(F86,[2]Реестр!A:K,2,0),"") | H86: 100 | I86: 52.76
A87: 8.9166667 | B87: 7.75 | C87: 19.5 | D87: 185 | E87: 6*57 | F87: Суп картофельный с бобовыми | G87: =IFERROR(VLOOKUP(F87,[2]Реестр!A:K,2,0),"") -> 300 | H87: 250 | I87: 50
A88: 19.44 | B88: 21.37 | C88: 55.36 | D88: 508.5 | E88: ="8/35" -> 8/35 | F88: Жаркое по-домашнему со свининой | G88: =IFERROR(VLOOKUP(F88,[2]Реестр!A:K,2,0),"") | H88: 250 | I88: 140.84
A89: 0.14 | B89: 0.1 | C89: 1.5 | D89: 83.96262 | E89: ="11/1" -> 11/1 | F89: Напиток ассорти из красных ягод | G89: =IFERROR(VLOOKUP(F89,[2]Реестр!A:K,2,0),"") -> 200 | H89: 200 | I89: 12.8
A90: 3.3 | B90: 0.3 | C90: 23.4 | D90: 112 | E90: - | F90: Хлеб вит. пшеничный | G90: =IFERROR(VLOOKUP(F90,[2]Реестр!A:K,2,0),"") -> 100 | H90: 50 | I90: 4.5
A91: 3.3 | B91: 0.6 | C91: 16.7 | D91: 96.5 | E91: - | F91: Хлеб вит. ржаной | G91: =IFERROR(VLOOKUP(F91,[2]Реестр!A:K,2,0),"") -> 100 | H91: 50 | I91: 4.5
A93: Итого за Комплекс | I93: =SUM(I86:I92) -> 265.4 | J93: 147.79 | L93: =J93-I93 -> -117.61
A94: Комплекс №1 1-4 классы (меню для детей с сахарным диабетом)
A95: 3.76 | B95: 3.05 | C95: 13.8 | D95: 93.76256 | E95: 1/50 | F95: Бутерброд с маслом 20/10 г (батон витаминизированный) | G95: =IFERROR(VLOOKUP(F95,[1]Реестр!A:K,2,0),"") | H95: 30 | I95: 149.52
A96: 13.79 | B96: 20.23 | C96: 3.57 | D96: 251.02965 | E96: 4/56 | F96: Омлет натуральный с маслом сливочным | G96: =IFERROR(VLOOKUP(F96,[1]Реестр!A:K,2,0),"") | H96: 150
A97: 0.18 | B97: 0.04 | C97: 13.75 | D97: 53.136643 | E97: 11/17-1 | F97: Чай "Каркаде" без сахара | G97: =IFERROR(VLOOKUP(F97,[1]Реестр!A:K,2,0),"") | H97: 200
A98: 1.32 | B98: 0.24 | C98: 8.34 | D98: 38.676 | E98: ="-" -> - | F98: Хлеб ржаной | G98: =IFERROR(VLOOKUP(F98,[1]Реестр!A:K,2,0),"") | H98: ="20" -> 20
A99: 1.32 | B99: 0.24 | C99: 0 | D99: 38.676 | E99: - | F99: Фрукт свежий | G99: =IFERROR(VLOOKUP(F99,[1]Реестр!A:K,2,0),"") | H99: 130
A100: Итого за Комплекс | I100: =SUM(I95:I99) -> 149.52
A101: Комплекс №1 1-4 классы (безмолочное меню) | J101: 85.2 | L101: =J101-I101 -> 85.2
A102: 17.96 | B102: 19.65 | C102: 1.04 | D102: 252.59814 | E102: 4/58 (2018 № 2/6-1) | F102: Омлет безмолочный запеченный или паровой | G102: =IFERROR(VLOOKUP(F102,[1]Реестр!A:K,2,0),"") -> 200 | H102: 150 | I102: 149.52
A103: 0.18 | B103: 0.04 | C103: 13.75 | D103: 53.136643 | E103: 11/17 | F103: Чай "Каркаде" с сахаром | G103: =IFERROR(VLOOKUP(F103,[1]Реестр!A:K,2,0),"") -> 200 | H103: 200
A104: 0.52 | B104: 0.52 | C104: 15.08 | D104: 63.284 | E104: - | F104: Фрукт свежий | G104: =IFERROR(VLOOKUP(F104,[1]Реестр!A:K,2,0),"") | H104: 130
...

Sheet 181-1
A1: Согласовано | F1: ООО "Комфорт" | H1: Согласовано
A2: Директор ООО "Комфорт" | F2: МАОУ СОШ № 181 | H2: и.о.директора МАОУ СОШ №181
A3: Поматилов С. С. | F3: Меню на 2 октября 2026 года* | H3: Прокопеня С.В.
A4: Пищевые вещества | D4: Ккал | E4: № ТТК | F4: Наименование блюд | G4: Выход по реестру, г | H4: Выход, г | I4: Цена, руб | J4: Раздел
A5: Белки | B5: Жиры | C5: Углеводы
A6: Комплекс №1 1-4 классы 1 смена
A7: =IFERROR(VLOOKUP(F7,[1]Реестр!A:K,3,0)*H7/G7,"") -> 3.84 | B7: =IFERROR(VLOOKUP(F7,[1]Реестр!A:K,4,0)*H7/G7,"") -> 10.1 | C7: =IFERROR(VLOOKUP(F7,[1]Реестр!A:K,5,0)*H7/G7,"") -> 9.77 | D7: =IFERROR(VLOOKUP(F7,[1]Реестр!A:K,6,0)*H7/G7,"") -> 145.383 | E7: =IFERROR(VLOOKUP(F7,[1]Реестр!A:K,11,0),"") -> 1*57 | F7: Бутерброд с сыром и маслом 20/10/10 | G7: =IFERROR(VLOOKUP(F7,[1]Реестр!A:K,2,0),"") -> 40 | H7: 40 | I7: 49.55 | J7: =IFERROR(VLOOKUP(O7,Реестр!#REF!,3,0)*Q7/P7,"")
A8: 9.75 | B8: 12.14 | C8: 36.06 | D8: 291.64 | E8: ="2/57" -> 2/57 | F8: Каша ячневая молочная с маслом сливочным | G8: =IFERROR(VLOOKUP(F8,[1]Реестр!A:K,2,0),"") | H8: 210 | I8: 51.38 | J8: =IFERROR(VLOOKUP(O8,Реестр!#REF!,3,0)*Q8/P8,"")
A9: =IFERROR(VLOOKUP(F9,[1]Реестр!A:K,3,0)*H9/G9,"") -> 0.15 | B9: =IFERROR(VLOOKUP(F9,[1]Реестр!A:K,4,0)*H9/G9,"") -> 0.09 | C9: =IFERROR(VLOOKUP(F9,[1]Реестр!A:K,5,0)*H9/G9,"") -> 8.58 | D9: =IFERROR(VLOOKUP(F9,[1]Реестр!A:K,6,0)*H9/G9,"") -> 34.8 | E9: =IFERROR(VLOOKUP(F9,[1]Реестр!A:K,11,0),"") -> 12*2 | F9: Соус из малины | G9: =IFERROR(VLOOKUP(F9,[1]Реестр!A:K,2,0),"") -> 100 | H9: 30 | I9: 24.59 | J9: =IFERROR(VLOOKUP(O9,Реестр!#REF!,3,0)*Q9/P9,"")
A10: =IFERROR(VLOOKUP(F10,[1]Реестр!A:K,3,0)*H10/G10,"") -> 1.4 | B10: =IFERROR(VLOOKUP(F10,[1]Реестр!A:K,4,0)*H10/G10,"") -> 1.1 | C10: =IFERROR(VLOOKUP(F10,[1]Реестр!A:K,5,0)*H10/G10,"") -> 16.6 | D10: =IFERROR(VLOOKUP(F10,[1]Реестр!A:K,6,0)*H10/G10,"") -> 79 | E10: ="11/59" -> 11/59 | F10: Кофейный напиток | G10: =IFERROR(VLOOKUP(F10,[1]Реестр!A:K,2,0),"") -> 200 | H10: 200 | I10: 22.2 | J10: =IFERROR(VLOOKUP(O10,Реестр!#REF!,3,0)*Q10/P10,"")
A11: =IFERROR(VLOOKUP(F11,[1]Реестр!A:K,3,0)*H11/G11,"") -> 1.32 | B11: =IFERROR(VLOOKUP(F11,[1]Реестр!A:K,4,0)*H11/G11,"") -> 0.24 | C11: =IFERROR(VLOOKUP(F11,[1]Реестр!A:K,5,0)*H11/G11,"") -> 6.68 | D11: =IFERROR(VLOOKUP(F11,[1]Реестр!A:K,6,0)*H11/G11,"") -> 38.6 | E11: =IFERROR(VLOOKUP(F11,[1]Реестр!A:K,11,0),"") -> - | F11: Хлеб вит. ржаной | G11: =IFERROR(VLOOKUP(F11,[1]Реестр!A:K,2,0),"") -> 100 | H11: 20 | I11: 1.8
A12: Итого за Комплекс | I12: =SUM(I7:I11) -> 149.52 | J12: 85.2 | K12: =I12-J12 -> 64.32
A13: Комплекс №1 1-4 классы 2 смена
A14: 1.03 | B14: 4.77 | C14: 6.38 | D14: 68.99 | E14: ="7/80" -> 7/80 | F14: Салат из отварной свеклы с соленым огурцом и куриным яйцом | G14: =IFERROR(VLOOKUP(F14,[2]Реестр!A:K,2,0),"") | H14: 80 | I14: 41.6 | J14: =IFERROR(VLOOKUP(O14,Реестр!#REF!,3,0)*Q14/P14,"")
A15: 5.55 | B15: 7.8 | C15: 15.95 | D15: 199.78905 | E15: ="6/70" -> 6/70 | F15: Рассольник Ленинградский со сметаной | G15: =IFERROR(VLOOKUP(F15,[2]Реестр!A:K,2,0),"") -> 300 | H15: 250 | I15: 50 | J15: =IFERROR(VLOOKUP(O15,Реестр!#REF!,3,0)*Q15/P15,"")
A16: 16.58 | B16: 19.5 | C16: 68.38 | D16: 327.07 | E16: ="8/35" -> 8/35 | F16: Жаркое по-домашнему со свининой | G16: =IFERROR(VLOOKUP(F16,[2]Реестр!A:K,2,0),"") | H16: 200 | I16: 112.67 | J16: =IFERROR(VLOOKUP(O16,Реестр!#REF!,3,0)*Q16/P16,"")
A17: 0.14 | B17: 0.1 | C17: 1.5 | D17: 83.96262 | E17: ="11/1" -> 11/1 | F17: Напиток ассорти из красных ягод | G17: =IFERROR(VLOOKUP(F17,[2]Реестр!A:K,2,0),"") -> 200 | H17: 200 | I17: 12.8
A18: 2.64 | B18: 0.24 | C18: 18.72 | D18: 89.6 | E18: - | F18: Хлеб вит. пшеничный | G18: =IFERROR(VLOOKUP(F18,[2]Реестр!A:K,2,0),"") -> 100 | H18: 40 | I18: 3.6 | J18: =IFERROR(VLOOKUP(O18,Реестр!#REF!,3,0)*Q18/P18,"")
A19: 2.64 | B19: 0.48 | C19: 13.36 | D19: 77.2 | E19: - | F19: Хлеб вит. ржаной | G19: =IFERROR(VLOOKUP(F19,[2]Реестр!A:K,2,0),"") -> 100 | H19: 40 | I19: 3.6 | J19: =IFERROR(VLOOKUP(O19,Реестр!#REF!,3,0)*Q19/P19,"")
A21: Итого за Комплекс | I21: =SUM(I14:I20) -> 224.27 | J21: 127.79 | K21: =J21-I21 -> -96.48
A22: Комплекс №2 5-11 классы 1 смена
A23: 0.48 | B23: 2.37 | C23: 3.09 | D23: 36.64 | E23: ="7/26" -> 7/26 | F23: Закуска витаминка (с огурцом) | G23: =IFERROR(VLOOKUP(F23,[1]Реестр!A:K,2,0),"") | H23: 30 | I23: 19.26
A24: 19.44 | B24: 19.42 | C24: 57.63 | D24: 436.2 | E24: 9/17 | F24: Плов из птицы (филе бедра куриного) с куркумой | G24: =IFERROR(VLOOKUP(F24,[2]Реестр!A:K,2,0),"") | H24: 250 | I24: 130.94 | J24: =IFERROR(VLOOKUP(O24,Реестр!#REF!,3,0)*Q24/P24,"")
A25: 0.18 | B25: 0.05 | C25: 0.32 | D25: 37.582528 | E25: 11/7 | F25: Напиток из вишни | G25: =IFERROR(VLOOKUP(F25,[2]Реестр!A:K,2,0),"") -> 200 | H25: 200 | I25: 19.54
A26: 3.3 | B26: 0.3 | C26: 23.4 | D26: 112 | E26: ="-" -> - | F26: Хлеб пшеничный витаминизированный | G26: =IFERROR(VLOOKUP(F26,[2]Реестр!A:K,2,0),"") | H26: 50 | I26: 4.5 | J26: =IFERROR(VLOOKUP(O26,Реестр!#REF!,3,0)*Q26/P26,"")
A27: 2 | B27: 0.4 | C27: 10 | D27: 58 | E27: ="-" -> - | F27: Хлеб ржаной | G27: =IFERROR(VLOOKUP(F27,[2]Реестр!A:K,2,0),"") | H27: 30 | I27: 2.7
J28: =IFERROR(VLOOKUP(O28,Реестр!#REF!,3,0)*Q28/P28,"")
A29: Итого за Комплекс | I29: =SUM(I23:I28) -> 176.94 | J29: 98.52 | K29: =I29-J29 -> 78.42
A30: Комплекс №2 5-11 классы 2 смена
A31: 2.3 | B31: 6.01 | C31: 4.01 | D31: 72.147796 | E31: 7/13 | F31: Салат из белокочанной капусты с кукурузой и растительным маслом | G31: =IFERROR(VLOOKUP(F31,[2]Реестр!A:K,2,0),"") | H31: 100 | I31: 56.17
A32: 4.11 | B32: 4.77 | C32: 26.5 | D32: 213.5 | E32: 6/65 | F32: Суп-пюре из разных овощей с гренками | G32: =IFERROR(VLOOKUP(F32,[2]Реестр!A:K,2,0),"") | H32: 250 | I32: 50 | K32: =I38-J32 -> 265.4
A33: 17.5 | B33: 15.6 | C33: 42.3 | D33: 265.7 | E33: 9/17 | F33: Плов из птицы (филе бедра куриного) с куркумой | G33: =IFERROR(VLOOKUP(F33,[2]Реестр!A:K,2,0),"") | H33: 250 | I33: 130.94
A34: 3.94 | B34: 5.11 | C34: 27.5 | D34: 170.19545 | E34: 11/7 | F34: Напиток из вишни | G34: =IFERROR(VLOOKUP(F34,[2]Реестр!A:K,2,0),"") -> 200 | H34: 200 | I34: 19.54
A35: 0.14 | B35: 0.1 | C35: 1.5 | D35: 83.96262 | E35: - | F35: Хлеб пшеничный витаминизированный | G35: =IFERROR(VLOOKUP(F35,[2]Реестр!A:K,2,0),"") | H35: 50 | I35: 4.5
A36: 3.3 | B36: 0.3 | C36: 23.4 | D36: 112 | E36: - | F36: Хлеб ржаной | G36: =IFERROR(VLOOKUP(F36,[2]Реестр!A:K,2,0),"") | H36: 50 | I36: 4.25
A38: Итого за Комплекс | I38: =SUM(I31:I37) -> 265.4 | J38: 147.79 | K38: =I38-J38 -> 117.61
A39: Комплекс №3 Двухразовое питание 1-4 классы
A40: Завтрак
A41: =IFERROR(VLOOKUP(F41,[1]Реестр!A:K,3,0)*H41/G41,"") -> 3.84 | B41: =IFERROR(VLOOKUP(F41,[1]Реестр!A:K,4,0)*H41/G41,"") -> 10.1 | C41: =IFERROR(VLOOKUP(F41,[1]Реестр!A:K,5,0)*H41/G41,"") -> 9.77 | D41: =IFERROR(VLOOKUP(F41,[1]Реестр!A:K,6,0)*H41/G41,"") -> 145.383 | E41: =IFERROR(VLOOKUP(F41,[1]Реестр!A:K,11,0),"") -> 1*57 | F41: Бутерброд с сыром и маслом 20/10/10 | G41: =IFERROR(VLOOKUP(F41,[1]Реестр!A:K,2,0),"") -> 40 | H41: 40 | I41: 49.55 | J41: бутер
A42: 9.75 | B42: 12.14 | C42: 36.06 | D42: 291.64 | E42: ="2/57" -> 2/57 | F42: Каша ячневая молочная с маслом сливочным | G42: =IFERROR(VLOOKUP(F42,[1]Реестр!A:K,2,0),"") | H42: 210 | I42: 51.38 | J42: горячее
A43: =IFERROR(VLOOKUP(F43,[1]Реестр!A:K,3,0)*H43/G43,"") -> 0.15 | B43: =IFERROR(VLOOKUP(F43,[1]Реестр!A:K,4,0)*H43/G43,"") -> 0.09 | C43: =IFERROR(VLOOKUP(F43,[1]Реестр!A:K,5,0)*H43/G43,"") -> 8.58 | D43: =IFERROR(VLOOKUP(F43,[1]Реестр!A:K,6,0)*H43/G43,"") -> 34.8 | E43: =IFERROR(VLOOKUP(F43,[1]Реестр!A:K,11,0),"") -> 12*2 | F43: Соус из малины | G43: =IFERROR(VLOOKUP(F43,[1]Реестр!A:K,2,0),"") -> 100 | H43: 30 | I43: 24.59 | J43: соус/повидло
A44: =IFERROR(VLOOKUP(F44,[1]Реестр!A:K,3,0)*H44/G44,"") -> 1.4 | B44: =IFERROR(VLOOKUP(F44,[1]Реестр!A:K,4,0)*H44/G44,"") -> 1.1 | C44: =IFERROR(VLOOKUP(F44,[1]Реестр!A:K,5,0)*H44/G44,"") -> 16.6 | D44: =IFERROR(VLOOKUP(F44,[1]Реестр!A:K,6,0)*H44/G44,"") -> 79 | E44: ="11/59" -> 11/59 | F44: Кофейный напиток | G44: =IFERROR(VLOOKUP(F44,[1]Реестр!A:K,2,0),"") -> 200 | H44: 200 | I44: 22.2 | J44: напиток
A45: =IFERROR(VLOOKUP(F45,[1]Реестр!A:K,3,0)*H45/G45,"") -> 1.32 | B45: =IFERROR(VLOOKUP(F45,[1]Реестр!A:K,4,0)*H45/G45,"") -> 0.24 | C45: =IFERROR(VLOOKUP(F45,[1]Реестр!A:K,5,0)*H45/G45,"") -> 6.68 | D45: =IFERROR(VLOOKUP(F45,[1]Реестр!A:K,6,0)*H45/G45,"") -> 38.6 | E45: =IFERROR(VLOOKUP(F45,[1]Реестр!A:K,11,0),"") -> - | F45: Хлеб вит. ржаной | G45: =IFERROR(VLOOKUP(F45,[1]Реестр!A:K,2,0),"") -> 100 | H45: 20 | I45: 1.8 | J45: любая позиция
A46: Обед
A47: 1.03 | B47: 4.77 | C47: 6.38 | D47: 68.99 | E47: ="7/80" -> 7/80 | F47: Салат из отварной свеклы с соленым огурцом и куриным яйцом | G47: =IFERROR(VLOOKUP(F47,[2]Реестр!A:K,2,0),"") | H47: 80 | I47: 41.6 | J47: салат
A48: 5.55 | B48: 7.8 | C48: 15.95 | D48: 199.78905 | E48: ="6/70" -> 6/70 | F48: Рассольник Ленинградский со сметаной | G48: =IFERROR(VLOOKUP(F48,[2]Реестр!A:K,2,0),"") -> 300 | H48: 250 | I48: 50 | J48: суп
A49: 16.58 | B49: 19.5 | C49: 68.38 | D49: 327.07 | E49: ="8/35" -> 8/35 | F49: Жаркое по-домашнему со свининой | G49: =IFERROR(VLOOKUP(F49,[2]Реестр!A:K,2,0),"") | H49: 200 | I49: 112.67 | J49: горячее
A50: 0.14 | B50: 0.1 | C50: 1.5 | D50: 83.96262 | E50: ="11/1" -> 11/1 | F50: Напиток ассорти из красных ягод | G50: =IFERROR(VLOOKUP(F50,[2]Реестр!A:K,2,0),"") -> 200 | H50: 200 | I50: 12.8 | J50: гарнир
A51: 2.64 | B51: 0.24 | C51: 18.72 | D51: 89.6 | E51: - | F51: Хлеб вит. пшеничный | G51: =IFERROR(VLOOKUP(F51,[2]Реестр!A:K,2,0),"") -> 100 | H51: 40 | I51: 3.6 | J51: напиток
A52: 2.64 | B52: 0.48 | C52: 13.36 | D52: 77.2 | E52: - | F52: Хлеб вит. ржаной | G52: =IFERROR(VLOOKUP(F52,[2]Реестр!A:K,2,0),"") -> 100 | H52: 40 | I52: 3.6 | J52: хлеб пшеничный
J53: хлеб ржаной
A54: Итого за Комплекс | I54: =SUM(I41:I45,I47:I53) -> 373.79 | J54: 212.99 | K54: =I54-J54 -> 160.8
A55: Комплекс №4 Двухразовое питание 5-11 классы
A56: Завтрак
A57: 3.76 | B57: 3.05 | C57: 15.15 | D57: 112.3 | E57: ="1/50" -> 1/50 | F57: Бутерброд с маслом на батоне витаминизированном 20/10 г | G57: =IFERROR(VLOOKUP(F57,[1]Реестр!A:K,2,0),"") | H57: 30 | I57: 38.37 | J57: бутер
A58: 16.39 | B58: 19.7 | C58: 41.3 | D58: 392.3 | E58: ="4/56" -> 4/56 | F58: Омлет натуральный с маслом сливочным | H58: 200 | I58: 101.94 | J58: горячее
A59: 0.18 | B59: 0.04 | C59: 13.75 | D59: 53.136643 | E59: ="11/56" -> 11/56 | F59: Чай "Каркаде" с сахаром | H59: 200 | I59: 8.15 | J59: соус/повидло
A60: 2 | B60: 0.4 | C60: 10 | D60: 58 | E60: ="-" -> - | F60: Хлеб ржаной | H60: 30 | I60: 2.7 | J60: чай
A61: 0.52 | B61: 0.52 | C61: 15.08 | D61: 63.284 | E61: ="-" -> - | F61: Фрукт свежий | H61: 130 | I61: 25.78 | J61: любая позиция
A62: Обед | J62: =IFERROR(VLOOKUP(O62,Реестр!#REF!,3,0)*Q62/P62,"")
A63: 2.3 | B63: 6.01 | C63: 4.01 | D63: 72.147796 | E63: 7/13 | F63: Салат из белокочанной капусты с кукурузой и растительным маслом | G63: =IFERROR(VLOOKUP(F63,[2]Реестр!A:K,2,0),"") | H63: 100 | I63: 56.17 | J63: салат
A64: 4.11 | B64: 4.77 | C64: 26.5 | D64: 213.5 | E64: 6/65 | F64: Суп-пюре из разных овощей с гренками | G64: =IFERROR(VLOOKUP(F64,[2]Реестр!A:K,2,0),"") | H64: 250 | I64: 50 | J64: суп
A65: 17.5 | B65: 15.6 | C65: 42.3 | D65: 265.7 | E65: 9/17 | F65: Плов из птицы (филе бедра куриного) с куркумой | G65: =IFERROR(VLOOKUP(F65,[2]Реестр!A:K,2,0),"") | H65: 250 | I65: 130.94 | J65: горячее
A66: 3.94 | B66: 5.11 | C66: 27.5 | D66: 170.19545 | E66: 11/7 | F66: Напиток из вишни | G66: =IFERROR(VLOOKUP(F66,[2]Реестр!A:K,2,0),"") -> 200 | H66: 200 | I66: 19.54 | J66: гарнир
A67: 0.14 | B67: 0.1 | C67: 1.5 | D67: 83.96262 | E67: - | F67: Хлеб пшеничный витаминизированный | G67: =IFERROR(VLOOKUP(F67,[2]Реестр!A:K,2,0),"") | H67: 50 | I67: 4.5 | J67: напиток
A68: 3.3 | B68: 0.3 | C68: 23.4 | D68: 112 | E68: - | F68: Хлеб ржаной | G68: =IFERROR(VLOOKUP(F68,[2]Реестр!A:K,2,0),"") | H68: 50 | I68: 4.25 | J68: хлеб белый
J69: хлеб ржаной
A70: Итого за Комплекс | I70: =SUM(I57:I61)+SUM(I63:I69) -> 442.34 | J70: 246.31 | K70: =J70-I70 -> -196.03
A71: Комплекс №5 5-11 классы
A72: 0.48 | B72: 2.37 | C72: 3.09 | D72: 36.64 | E72: ="7/26" -> 7/26 | F72: Закуска витаминка (с огурцом) | G72: =IFERROR(VLOOKUP(F72,[1]Реестр!A:K,2,0),"") | H72: 30 | I72: 19.26
A73: 19.44 | B73: 19.42 | C73: 57.63 | D73: 436.2 | E73: 9/17 | F73: Плов из птицы (филе бедра куриного) с куркумой | G73: =IFERROR(VLOOKUP(F73,[2]Реестр!A:K,2,0),"") | H73: 250 | I73: 130.94
A74: 0.18 | B74: 0.05 | C74: 0.32 | D74: 37.582528 | E74: 11/7 | F74: Напиток из вишни | G74: =IFERROR(VLOOKUP(F74,[2]Реестр!A:K,2,0),"") -> 200 | H74: 200 | I74: 19.54
A75: 3.3 | B75: 0.3 | C75: 23.4 | D75: 112 | E75: ="-" -> - | F75: Хлеб пшеничный витаминизированный | G75: =IFERROR(VLOOKUP(F75,[2]Реестр!A:K,2,0),"") | H75: 50 | I75: 4.5
A76: 2 | B76: 0.4 | C76: 10 | D76: 58 | E76: ="-" -> - | F76: Хлеб ржаной | G76: =IFERROR(VLOOKUP(F76,[2]Реестр!A:K,2,0),"") | H76: 30 | I76: 2.7
A78: Итого за Комплекс | I78: =SUM(I72:I77) -> 176.94 | J78: 98.52 | L78: =J78-I78 -> -78.42
A79: Комплекс №6 Булочка 1-11 классы
A80: 7.7 | B80: 7.42 | C80: 32.09 | D80: 225.88 | E80: 13*10 | F80: Булочное изделие в асс. | G80: =IFERROR(VLOOKUP(F80,[2]Реестр!A:K,2,0),"") -> 100 | H80: 80 | I80: 50
A81: Итого за Комплекс | I81: =I80 -> 50 | J81: 29
A82: Комплекс №7 Суп 1-11 классы
A83: 4.11 | B83: 4.77 | C83: 26.5 | D83: 213.5 | E83: 6/65 | F83: Суп-пюре из разных овощей с гренками | G83: =IFERROR(VLOOKUP(F83,[2]Реестр!A:K,2,0),"") | H83: 250 | I83: 50
A84: Итого за Комплекс | I84: =SUM(I83:I83) -> 50 | J84: 27
A85: Комплекс №9 5-11 Обед
A86: 2.3 | B86: 6.01 | C86: 4.01 | D86: 72.147796 | E86: 7/13 | F86: Салат из белокочанной капусты с кукурузой и растительным маслом | G86: =IFERROR(VLOOKUP(F86,[2]Реестр!A:K,2,0),"") | H86: 100 | I86: 56.17
A87: 4.11 | B87: 4.77 | C87: 26.5 | D87: 213.5 | E87: 6/65 | F87: Суп-пюре из разных овощей с гренками | G87: =IFERROR(VLOOKUP(F87,[2]Реестр!A:K,2,0),"") | H87: 250 | I87: 50
A88: 17.5 | B88: 15.6 | C88: 42.3 | D88: 265.7 | E88: 9/17 | F88: Плов из птицы (филе бедра куриного) с куркумой | G88: =IFERROR(VLOOKUP(F88,[2]Реестр!A:K,2,0),"") | H88: 250 | I88: 130.94
A89: 3.94 | B89: 5.11 | C89: 27.5 | D89: 170.19545 | E89: 11/7 | F89: Напиток из вишни | G89: =IFERROR(VLOOKUP(F89,[2]Реестр!A:K,2,0),"") -> 200 | H89: 200 | I89: 19.54
A90: 0.14 | B90: 0.1 | C90: 1.5 | D90: 83.96262 | E90: - | F90: Хлеб пшеничный витаминизированный | G90: =IFERROR(VLOOKUP(F90,[2]Реестр!A:K,2,0),"") | H90: 50 | I90: 4.5
A91: 3.3 | B91: 0.3 | C91: 23.4 | D91: 112 | E91: - | F91: Хлеб ржаной | G91: =IFERROR(VLOOKUP(F91,[2]Реестр!A:K,2,0),"") | H91: 50 | I91: 4.25
A93: Итого за Комплекс | I93: =SUM(I86:I92) -> 265.4 | J93: 147.79 | L93: =J93-I93 -> -117.61
A94: Комплекс №1 1-4 классы (меню для детей с сахарным диабетом)
A95: =IFERROR(VLOOKUP(F95,[1]Реестр!A:K,3,0)*H95/G95,"") -> 5.08 | B95: =IFERROR(VLOOKUP(F95,[1]Реестр!A:K,4,0)*H95/G95,"") -> 11.55 | C95: =IFERROR(VLOOKUP(F95,[1]Реестр!A:K,5,0)*H95/G95,"") -> 9.97 | D95: =IFERROR(VLOOKUP(F95,[1]Реестр!A:K,6,0)*H95/G95,"") -> 164.15 | E95: =IFERROR(VLOOKUP(F95,[1]Реестр!A:K,11,0),"") -> 1*51 | F95: Бутерброд с сыром и маслом 20/15/10 | G95: =IFERROR(VLOOKUP(F95,[1]Реестр!A:K,2,0),"") -> 45 | H95: 45 | I95: 149.52
A96: =IFERROR(VLOOKUP(F96,[1]Реестр!A:K,3,0)*H96/G96,"") -> 6.375 | B96: =IFERROR(VLOOKUP(F96,[1]Реестр!A:K,4,0)*H96/G96,"") -> 5.75 | C96: =IFERROR(VLOOKUP(F96,[1]Реестр!A:K,5,0)*H96/G96,"") -> 0.375 | D96: =IFERROR(VLOOKUP(F96,[1]Реестр!A:K,6,0)*H96/G96,"") -> 78.75 | E96: =IFERROR(VLOOKUP(F96,[1]Реестр!A:K,11,0),"") -> 4*57 | F96: Яйцо отварное 1 шт. | G96: =IFERROR(VLOOKUP(F96,[1]Реестр!A:K,2,0),"") -> 40 | H96: 50
A97: 6.26 | B97: 5.9 | C97: 28.4 | D97: 194.194 | E97: ="2/68" -> 2/68 | F97: Каша ячневая молочная с маслом сливочным без сахара | G97: =IFERROR(VLOOKUP(F97,[1]Реестр!A:K,2,0),"") | H97: 200
A98: 2.74 | B98: 2.2 | C98: 4.89 | D98: 49.717531 | E98: ="11/59 (2004 № 692)" -> 11/59 (2004 № 692) | F98: Кофейный напиток без сахара | G98: =IFERROR(VLOOKUP(F98,[1]Реестр!A:K,2,0),"") -> 200 | H98: ="200" -> 200
A99: =IFERROR(VLOOKUP(F99,[1]Реестр!A:K,3,0)*H99/G99,"") -> 1.32 | B99: =IFERROR(VLOOKUP(F99,[1]Реестр!A:K,4,0)*H99/G99,"") -> 0.24 | C99: =IFERROR(VLOOKUP(F99,[1]Реестр!A:K,5,0)*H99/G99,"") -> 6.68 | D99: =IFERROR(VLOOKUP(F99,[1]Реестр!A:K,6,0)*H99/G99,"") -> 38.6 | E99: =IFERROR(VLOOKUP(F99,[1]Реестр!A:K,11,0),"") -> - | F99: Хлеб вит. ржаной | G99: =IFERROR(VLOOKUP(F99,[1]Реестр!A:K,2,0),"") -> 100 | H99: ="20" -> 20
A100: Итого за Комплекс | I100: =SUM(I95:I99) -> 149.52
A101: Комплекс №1 1-4 классы (безмолочное меню) | J101: 85.2 | L101: =J101-I101 -> 85.2
A102: =IFERROR(VLOOKUP(F102,[1]Реестр!A:K,3,0)*H102/G102,"") -> 6.375 | B102: =IFERROR(VLOOKUP(F102,[1]Реестр!A:K,4,0)*H102/G102,"") -> 5.75 | C102: =IFERROR(VLOOKUP(F102,[1]Реестр!A:K,5,0)*H102/G102,"") -> 0.375 | D102: =IFERROR(VLOOKUP(F102,[1]Реестр!A:K,6,0)*H102/G102,"") -> 78.75 | E102: =IFERROR(VLOOKUP(F102,[1]Реестр!A:K,11,0),"") -> 4*57 | F102: Яйцо отварное 1 шт. | G102: =IFERROR(VLOOKUP(F102,[1]Реестр!A:K,2,0),"") -> 40 | H102: 50 | I102: 149.52
A103: 6.03 | B103: 12.83 | C103: 34.92 | D103: 275.69061 | E103: ="2/78" -> 2/78 | F103: Каша ячневая безмолочная с маслом растительным и отрубями | G103: =IFERROR(VLOOKUP(F103,[1]Реестр!A:K,2,0),"") | H103: 200
A104: =IFERROR(VLOOKUP(F104,[1]Реестр!A:K,3,0)*H104/G104,"") -> 0.175 | B104: =IFERROR(VLOOKUP(F104,[1]Реестр!A:K,4,0)*H104/G104,"") -> 0.105 | C104: =IFERROR(VLOOKUP(F104,[1]Реестр!A:K,5,0)*H104/G104,"") -> 10.01 | D104: =IFERROR(VLOOKUP(F104,[1]Реестр!A:K,6,0)*H104/G104,"") -> 40.6 | E104: =IFERROR(VLOOKUP(F104,[1]Реестр!A:K,11,0),"") -> 12*2 | F104: Соус из малины | G104: =IFERROR(VLOOKUP(F104,[1]Реестр!A:K,2,0),"") -> 100 | H104: 35
...

Sheet 181-2
A1: Согласовано | F1: ООО "Комфорт" | H1: Согласовано
A2: Директор ООО "Комфорт" | F2: МАОУ СОШ № 181 | H2: и.о.директора МАОУ СОШ №181
A3: Поматилов С. С. | F3: Меню на 2 октября 2026 года* | H3: Прокопеня С.В.
A4: Пищевые вещества | D4: Ккал | E4: № ТТК | F4: Наименование блюд | G4: Выход по реестру, г | H4: Выход, г | I4: Цена, руб | J4: Раздел
A5: Белки | B5: Жиры | C5: Углеводы
A6: Комплекс №1 1-4 классы 1 смена
A7: 4.23 | B7: 4.96 | C7: 38.7 | D7: 228.9 | E7: ="1/50" -> 1/50 | F7: Бутерброд с маслом 20/10 г (батон витаминизированный) | G7: =IFERROR(VLOOKUP(F7,[1]Реестр!A:K,2,0),"") | H7: 30 | I7: 38.37 | J7: =IFERROR(VLOOKUP(O7,Реестр!#REF!,3,0)*Q7/P7,"")
A8: 13.79 | B8: 14.6 | C8: 23.4 | D8: 266.7 | E8: ="4/56" -> 4/56 | F8: Омлет натуральный с маслом сливочным | H8: 150 | I8: 75.42 | J8: =IFERROR(VLOOKUP(O8,Реестр!#REF!,3,0)*Q8/P8,"")
A9: 0.18 | B9: 0.04 | C9: 13.75 | D9: 53.136643 | E9: ="11/56" -> 11/56 | F9: Чай "Каркаде" с сахаром | H9: 200 | I9: 8.15 | J9: =IFERROR(VLOOKUP(O9,Реестр!#REF!,3,0)*Q9/P9,"")
A10: 1.3 | B10: 0.2 | C10: 6.7 | D10: 39 | E10: ="-" -> - | F10: Хлеб ржаной | H10: 20 | I10: 1.8 | J10: =IFERROR(VLOOKUP(O10,Реестр!#REF!,3,0)*Q10/P10,"")
A11: 0.52 | B11: 0.52 | C11: 15.08 | D11: 63.284 | E11: ="-" -> - | F11: Фрукт свежий | H11: 130 | I11: 25.78
A12: Итого за Комплекс | I12: =SUM(I7:I11) -> 149.52 | J12: 85.2 | K12: =I12-J12 -> 64.32
A13: Комплекс №1 1-4 классы 2 смена
A14: 1.33 | B14: 5.12 | C14: 4.1 | D14: 73.52 | E14: 7/13 | F14: Салат из белокочанной капусты с кукурузой и растительным маслом | G14: =IFERROR(VLOOKUP(F14,[2]Реестр!A:K,2,0),"") | H14: 80 | I14: 44.94 | J14: =IFERROR(VLOOKUP(O14,Реестр!#REF!,3,0)*Q14/P14,"")
A15: 4.11 | B15: 4.77 | C15: 19.5 | D15: 143.13 | E15: 6/65 | F15: Суп-пюре из разных овощей с гренками | G15: =IFERROR(VLOOKUP(F15,[2]Реестр!A:K,2,0),"") | H15: 250 | I15: 50 | J15: =IFERROR(VLOOKUP(O15,Реестр!#REF!,3,0)*Q15/P15,"")
A16: 15.55 | B16: 15.4 | C16: 57.1 | D16: 364.2 | E16: 9/17 | F16: Плов из птицы (филе бедра куриного) с куркумой | G16: =IFERROR(VLOOKUP(F16,[2]Реестр!A:K,2,0),"") | H16: 200 | I16: 102.59 | J16: =IFERROR(VLOOKUP(O16,Реестр!#REF!,3,0)*Q16/P16,"")
A17: 0.18 | B17: 0.05 | C17: 0.32 | D17: 37.582528 | E17: 11/7 | F17: Напиток из вишни | G17: =IFERROR(VLOOKUP(F17,[2]Реестр!A:K,2,0),"") -> 200 | H17: 200 | I17: 19.54
A18: 3.3 | B18: 0.3 | C18: 23.4 | D18: 112 | E18: - | F18: Хлеб пшеничный витаминизированный | G18: =IFERROR(VLOOKUP(F18,[2]Реестр!A:K,2,0),"") | H18: 50 | I18: 4.5 | J18: =IFERROR(VLOOKUP(O18,Реестр!#REF!,3,0)*Q18/P18,"")
A19: 2 | B19: 0.4 | C19: 10 | D19: 58 | E19: - | F19: Хлеб ржаной | G19: =IFERROR(VLOOKUP(F19,[2]Реестр!A:K,2,0),"") | H19: 30 | I19: 2.7 | J19: =IFERROR(VLOOKUP(O19,Реестр!#REF!,3,0)*Q19/P19,"")
A21: Итого за Комплекс | I21: =SUM(I14:I20) -> 224.27 | J21: 127.79 | K21: =J21-I21 -> -96.48
A22: Комплекс №2 5-11 классы 1 смена
A23: 0.24 | B23: 0.03 | C23: 0.74 | D23: 4.2 | E23: ="7/10" -> 7/10 | F23: Кукуруза консервированная | G23: =IFERROR(VLOOKUP(F23,[1]Реестр!A:K,2,0),"") | H23: 30 | I23: 16.1
A24: 19.44 | B24: 21.37 | C24: 55.36 | D24: 508.5 | E24: ="8/35" -> 8/35 | F24: Жаркое по-домашнему со свининой | G24: =IFERROR(VLOOKUP(F24,[2]Реестр!A:K,2,0),"") | H24: 250 | I24: 140.84 | J24: =IFERROR(VLOOKUP(O24,Реестр!#REF!,3,0)*Q24/P24,"")
A25: 0.14 | B25: 0.1 | C25: 1.5 | D25: 83.96262 | E25: ="11/1" -> 11/1 | F25: Напиток ассорти из красных ягод | G25: =IFERROR(VLOOKUP(F25,[2]Реестр!A:K,2,0),"") -> 200 | H25: 200 | I25: 12.8
A26: 2.64 | B26: 0.24 | C26: 18.72 | D26: 89.6 | E26: - | F26: Хлеб вит. пшеничный | G26: =IFERROR(VLOOKUP(F26,[2]Реестр!A:K,2,0),"") -> 100 | H26: 40 | I26: 3.6 | J26: =IFERROR(VLOOKUP(O26,Реестр!#REF!,3,0)*Q26/P26,"")
A27: 2.64 | B27: 0.48 | C27: 13.36 | D27: 77.2 | E27: - | F27: Хлеб вит. ржаной | G27: =IFERROR(VLOOKUP(F27,[2]Реестр!A:K,2,0),"") -> 100 | H27: 40 | I27: 3.6
J28: =IFERROR(VLOOKUP(O28,Реестр!#REF!,3,0)*Q28/P28,"")
A29: Итого за Комплекс | I29: =SUM(I23:I28) -> 176.94 | J29: 98.52 | K29: =I29-J29 -> 78.42
A30: Комплекс №2 5-11 классы 2 смена
A31: 1.29 | B31: 5.97 | C31: 7.97 | D31: 86.23 | E31: ="7/80" -> 7/80 | F31: Салат из отварной свеклы с сол. огурцом и куриным яйцом | G31: =IFERROR(VLOOKUP(F31,[2]Реестр!A:K,2,0),"") | H31: 100 | I31: 52.76
A32: 8.9166667 | B32: 7.75 | C32: 19.5 | D32: 185 | E32: 6*57 | F32: Суп картофельный с бобовыми | G32: =IFERROR(VLOOKUP(F32,[2]Реестр!A:K,2,0),"") -> 300 | H32: 250 | I32: 50 | K32: =I38-J32 -> 265.4
A33: 19.44 | B33: 21.37 | C33: 55.36 | D33: 508.5 | E33: ="8/35" -> 8/35 | F33: Жаркое по-домашнему со свининой | G33: =IFERROR(VLOOKUP(F33,[2]Реестр!A:K,2,0),"") | H33: 250 | I33: 140.84
A34: 0.14 | B34: 0.1 | C34: 1.5 | D34: 83.96262 | E34: ="11/1" -> 11/1 | F34: Напиток ассорти из красных ягод | G34: =IFERROR(VLOOKUP(F34,[2]Реестр!A:K,2,0),"") -> 200 | H34: 200 | I34: 12.8
A35: 3.3 | B35: 0.3 | C35: 23.4 | D35: 112 | E35: - | F35: Хлеб вит. пшеничный | G35: =IFERROR(VLOOKUP(F35,[2]Реестр!A:K,2,0),"") -> 100 | H35: 50 | I35: 4.5
A36: 3.3 | B36: 0.6 | C36: 16.7 | D36: 96.5 | E36: - | F36: Хлеб вит. ржаной | G36: =IFERROR(VLOOKUP(F36,[2]Реестр!A:K,2,0),"") -> 100 | H36: 50 | I36: 4.5
A38: Итого за Комплекс | I38: =SUM(I31:I37) -> 265.4 | J38: 147.79 | K38: =I38-J38 -> 117.61
A39: Комплекс №3 Двухразовое питание 1-4 классы
A40: Завтрак
A41: 4.23 | B41: 4.96 | C41: 38.7 | D41: 228.9 | E41: ="1/50" -> 1/50 | F41: Бутерброд с маслом 20/10 г (батон витаминизированный) | G41: =IFERROR(VLOOKUP(F41,[1]Реестр!A:K,2,0),"") | H41: 30 | I41: 38.37 | J41: бутер
A42: 13.79 | B42: 14.6 | C42: 23.4 | D42: 266.7 | E42: ="4/56" -> 4/56 | F42: Омлет натуральный с маслом сливочным | H42: 150 | I42: 75.42 | J42: горячее
A43: 0.18 | B43: 0.04 | C43: 13.75 | D43: 53.136643 | E43: ="11/56" -> 11/56 | F43: Чай "Каркаде" с сахаром | H43: 200 | I43: 8.15 | J43: соус/повидло
A44: 1.3 | B44: 0.2 | C44: 6.7 | D44: 39 | E44: ="-" -> - | F44: Хлеб ржаной | H44: 20 | I44: 1.8 | J44: напиток
A45: 0.52 | B45: 0.52 | C45: 15.08 | D45: 63.284 | E45: ="-" -> - | F45: Фрукт свежий | H45: 130 | I45: 25.78 | J45: любая позиция
A46: Обед
A47: 1.33 | B47: 5.12 | C47: 4.1 | D47: 73.52 | E47: 7/13 | F47: Салат из белокочанной капусты с кукурузой и растительным маслом | G47: =IFERROR(VLOOKUP(F47,[2]Реестр!A:K,2,0),"") | H47: 80 | I47: 44.94 | J47: салат
A48: 4.11 | B48: 4.77 | C48: 19.5 | D48: 143.13 | E48: 6/65 | F48: Суп-пюре из разных овощей с гренками | G48: =IFERROR(VLOOKUP(F48,[2]Реестр!A:K,2,0),"") | H48: 250 | I48: 50 | J48: суп
A49: 15.55 | B49: 15.4 | C49: 57.1 | D49: 364.2 | E49: 9/17 | F49: Плов из птицы (филе бедра куриного) с куркумой | G49: =IFERROR(VLOOKUP(F49,[2]Реестр!A:K,2,0),"") | H49: 200 | I49: 102.59 | J49: горячее
A50: 0.18 | B50: 0.05 | C50: 0.32 | D50: 37.582528 | E50: 11/7 | F50: Напиток из вишни | G50: =IFERROR(VLOOKUP(F50,[2]Реестр!A:K,2,0),"") -> 200 | H50: 200 | I50: 19.54 | J50: гарнир
A51: 3.3 | B51: 0.3 | C51: 23.4 | D51: 112 | E51: - | F51: Хлеб пшеничный витаминизированный | G51: =IFERROR(VLOOKUP(F51,[2]Реестр!A:K,2,0),"") | H51: 50 | I51: 4.5 | J51: напиток
A52: 2 | B52: 0.4 | C52: 10 | D52: 58 | E52: - | F52: Хлеб ржаной | G52: =IFERROR(VLOOKUP(F52,[2]Реестр!A:K,2,0),"") | H52: 30 | I52: 2.7 | J52: хлеб пшеничный
J53: хлеб ржаной
A54: Итого за Комплекс | I54: =SUM(I41:I45,I47:I53) -> 373.79 | J54: 212.99 | K54: =I54-J54 -> 160.8
A55: Комплекс №4 Двухразовое питание 5-11 классы
A56: Завтрак
A57: =IFERROR(VLOOKUP(F57,[1]Реестр!A:K,3,0)*H57/G57,"") -> 5.08 | B57: =IFERROR(VLOOKUP(F57,[1]Реестр!A:K,4,0)*H57/G57,"") -> 11.55 | C57: =IFERROR(VLOOKUP(F57,[1]Реестр!A:K,5,0)*H57/G57,"") -> 9.97 | D57: =IFERROR(VLOOKUP(F57,[1]Реестр!A:K,6,0)*H57/G57,"") -> 164.15 | E57: =IFERROR(VLOOKUP(F57,[1]Реестр!A:K,11,0),"") -> 1*51 | F57: Бутерброд с сыром и маслом 20/15/10 | G57: =IFERROR(VLOOKUP(F57,[1]Реестр!A:K,2,0),"") -> 45 | H57: 45 | I57: 57.2 | J57: бутер
A58: 10.61 | B58: 10.17 | C58: 47.32 | D58: 321.17798 | E58: ="2/57" -> 2/57 | F58: Каша ячневая молочная с маслом сливочным | G58: =IFERROR(VLOOKUP(F58,[1]Реестр!A:K,2,0),"") | H58: 250 | I58: 61.16 | J58: горячее
A59: =IFERROR(VLOOKUP(F59,[1]Реестр!A:K,3,0)*H59/G59,"") -> 0.2 | B59: =IFERROR(VLOOKUP(F59,[1]Реестр!A:K,4,0)*H59/G59,"") -> 0.12 | C59: =IFERROR(VLOOKUP(F59,[1]Реестр!A:K,5,0)*H59/G59,"") -> 11.44 | D59: =IFERROR(VLOOKUP(F59,[1]Реестр!A:K,6,0)*H59/G59,"") -> 46.4 | E59: =IFERROR(VLOOKUP(F59,[1]Реестр!A:K,11,0),"") -> 12*2 | F59: Соус из малины | G59: =IFERROR(VLOOKUP(F59,[1]Реестр!A:K,2,0),"") -> 100 | H59: 40 | I59: 32.78 | J59: соус/повидло
A60: =IFERROR(VLOOKUP(F60,[1]Реестр!A:K,3,0)*H60/G60,"") -> 1.4 | B60: =IFERROR(VLOOKUP(F60,[1]Реестр!A:K,4,0)*H60/G60,"") -> 1.1 | C60: =IFERROR(VLOOKUP(F60,[1]Реестр!A:K,5,0)*H60/G60,"") -> 16.6 | D60: =IFERROR(VLOOKUP(F60,[1]Реестр!A:K,6,0)*H60/G60,"") -> 79 | E60: ="11/59" -> 11/59 | F60: Кофейный напиток | G60: =IFERROR(VLOOKUP(F60,[1]Реестр!A:K,2,0),"") -> 200 | H60: 200 | I60: 22.2 | J60: чай
A61: =IFERROR(VLOOKUP(F61,[1]Реестр!A:K,3,0)*H61/G61,"") -> 2.64 | B61: =IFERROR(VLOOKUP(F61,[1]Реестр!A:K,4,0)*H61/G61,"") -> 0.48 | C61: =IFERROR(VLOOKUP(F61,[1]Реестр!A:K,5,0)*H61/G61,"") -> 13.36 | D61: =IFERROR(VLOOKUP(F61,[1]Реестр!A:K,6,0)*H61/G61,"") -> 77.2 | E61: =IFERROR(VLOOKUP(F61,[1]Реестр!A:K,11,0),"") -> - | F61: Хлеб вит. ржаной | G61: =IFERROR(VLOOKUP(F61,[1]Реестр!A:K,2,0),"") -> 100 | H61: 40 | I61: 3.6 | J61: любая позиция
A62: Обед | J62: =IFERROR(VLOOKUP(O62,Реестр!#REF!,3,0)*Q62/P62,"")
A63: 1.29 | B63: 5.97 | C63: 7.97 | D63: 86.23 | E63: ="7/80" -> 7/80 | F63: Салат из отварной свеклы с сол. огурцом и куриным яйцом | G63: =IFERROR(VLOOKUP(F63,[2]Реестр!A:K,2,0),"") | H63: 100 | I63: 52.76 | J63: салат
A64: 8.9166667 | B64: 7.75 | C64: 19.5 | D64: 185 | E64: 6*57 | F64: Суп картофельный с бобовыми | G64: =IFERROR(VLOOKUP(F64,[2]Реестр!A:K,2,0),"") -> 300 | H64: 250 | I64: 50 | J64: суп
A65: 19.44 | B65: 21.37 | C65: 55.36 | D65: 508.5 | E65: ="8/35" -> 8/35 | F65: Жаркое по-домашнему со свининой | G65: =IFERROR(VLOOKUP(F65,[2]Реестр!A:K,2,0),"") | H65: 250 | I65: 140.84 | J65: горячее
A66: 0.14 | B66: 0.1 | C66: 1.5 | D66: 83.96262 | E66: ="11/1" -> 11/1 | F66: Напиток ассорти из красных ягод | G66: =IFERROR(VLOOKUP(F66,[2]Реестр!A:K,2,0),"") -> 200 | H66: 200 | I66: 12.8 | J66: гарнир
A67: 3.3 | B67: 0.3 | C67: 23.4 | D67: 112 | E67: - | F67: Хлеб вит. пшеничный | G67: =IFERROR(VLOOKUP(F67,[2]Реестр!A:K,2,0),"") -> 100 | H67: 50 | I67: 4.5 | J67: напиток
A68: 3.3 | B68: 0.6 | C68: 16.7 | D68: 96.5 | E68: - | F68: Хлеб вит. ржаной | G68: =IFERROR(VLOOKUP(F68,[2]Реестр!A:K,2,0),"") -> 100 | H68: 50 | I68: 4.5 | J68: хлеб белый
J69: хлеб ржаной
A70: Итого за Комплекс | I70: =SUM(I57:I61)+SUM(I63:I69) -> 442.34 | J70: 246.31 | K70: =J70-I70 -> -196.03
A71: Комплекс №5 5-11 классы
A72: 0.24 | B72: 0.03 | C72: 0.74 | D72: 4.2 | E72: ="7/10" -> 7/10 | F72: Кукуруза консервированная | G72: =IFERROR(VLOOKUP(F72,[1]Реестр!A:K,2,0),"") | H72: 30 | I72: 16.1
A73: 19.44 | B73: 21.37 | C73: 55.36 | D73: 508.5 | E73: ="8/35" -> 8/35 | F73: Жаркое по-домашнему со свининой | G73: =IFERROR(VLOOKUP(F73,[2]Реестр!A:K,2,0),"") | H73: 250 | I73: 140.84
A74: 0.14 | B74: 0.1 | C74: 1.5 | D74: 83.96262 | E74: ="11/1" -> 11/1 | F74: Напиток ассорти из красных ягод | G74: =IFERROR(VLOOKUP(F74,[2]Реестр!A:K,2,0),"") -> 200 | H74: 200 | I74: 12.8
A75: 2.64 | B75: 0.24 | C75: 18.72 | D75: 89.6 | E75: - | F75: Хлеб вит. пшеничный | G75: =IFERROR(VLOOKUP(F75,[2]Реестр!A:K,2,0),"") -> 100 | H75: 40 | I75: 3.6
A76: 2.64 | B76: 0.48 | C76: 13.36 | D76: 77.2 | E76: - | F76: Хлеб вит. ржаной | G76: =IFERROR(VLOOKUP(F76,[2]Реестр!A:K,2,0),"") -> 100 | H76: 40 | I76: 3.6
A78: Итого за Комплекс | I78: =SUM(I72:I77) -> 176.94 | J78: 98.52 | L78: =J78-I78 -> -78.42
A79: Комплекс №6 Булочка 1-11 классы
A80: 7.7 | B80: 7.42 | C80: 32.09 | D80: 225.88 | E80: 13*10 | F80: Булочное изделие в асс. | G80: =IFERROR(VLOOKUP(F80,[2]Реестр!A:K,2,0),"") -> 100 | H80: 80 | I80: 50
A81: Итого за Комплекс | I81: =I80 -> 50 | J81: 29
A82: Комплекс №7 Суп 1-11 классы
A83: 4.11 | B83: 4.77 | C83: 26.5 | D83: 213.5 | E83: 6/65 | F83: Суп-пюре из разных овощей с гренками | G83: =IFERROR(VLOOKUP(F83,[2]Реестр!A:K,2,0),"") | H83: 250 | I83: 50
A84: Итого за Комплекс | I84: =SUM(I83:I83) -> 50 | J84: 27
A85: Комплекс №9 5-11 Обед
A86: 1.29 | B86: 5.97 | C86: 7.97 | D86: 86.23 | E86: ="7/80" -> 7/80 | F86: Салат из отварной свеклы с сол. огурцом и куриным яйцом | G86: =IFERROR(VLOOKUP(F86,[2]Реестр!A:K,2,0),"") | H86: 100 | I86: 52.76
A87: 8.9166667 | B87: 7.75 | C87: 19.5 | D87: 185 | E87: 6*57 | F87: Суп картофельный с бобовыми | G87: =IFERROR(VLOOKUP(F87,[2]Реестр!A:K,2,0),"") -> 300 | H87: 250 | I87: 50
A88: 19.44 | B88: 21.37 | C88: 55.36 | D88: 508.5 | E88: ="8/35" -> 8/35 | F88: Жаркое по-домашнему со свининой | G88: =IFERROR(VLOOKUP(F88,[2]Реестр!A:K,2,0),"") | H88: 250 | I88: 140.84
A89: 0.14 | B89: 0.1 | C89: 1.5 | D89: 83.96262 | E89: ="11/1" -> 11/1 | F89: Напиток ассорти из красных ягод | G89: =IFERROR(VLOOKUP(F89,[2]Реестр!A:K,2,0),"") -> 200 | H89: 200 | I89: 12.8
A90: 3.3 | B90: 0.3 | C90: 23.4 | D90: 112 | E90: - | F90: Хлеб вит. пшеничный | G90: =IFERROR(VLOOKUP(F90,[2]Реестр!A:K,2,0),"") -> 100 | H90: 50 | I90: 4.5
A91: 3.3 | B91: 0.6 | C91: 16.7 | D91: 96.5 | E91: - | F91: Хлеб вит. ржаной | G91: =IFERROR(VLOOKUP(F91,[2]Реестр!A:K,2,0),"") -> 100 | H91: 50 | I91: 4.5
A93: Итого за Комплекс | I93: =SUM(I86:I92) -> 265.4 | J93: 147.79 | L93: =J93-I93 -> -117.61
A94: Комплекс №1 1-4 классы (меню для детей с сахарным диабетом)
A95: 3.76 | B95: 3.05 | C95: 13.8 | D95: 93.76256 | E95: 1/50 | F95: Бутерброд с маслом 20/10 г (батон витаминизированный) | G95: =IFERROR(VLOOKUP(F95,[1]Реестр!A:K,2,0),"") | H95: 30 | I95: 149.52
A96: 13.79 | B96: 20.23 | C96: 3.57 | D96: 251.02965 | E96: 4/56 | F96: Омлет натуральный с маслом сливочным | G96: =IFERROR(VLOOKUP(F96,[1]Реестр!A:K,2,0),"") | H96: 150
A97: 0.18 | B97: 0.04 | C97: 13.75 | D97: 53.136643 | E97: 11/17-1 | F97: Чай "Каркаде" без сахара | G97: =IFERROR(VLOOKUP(F97,[1]Реестр!A:K,2,0),"") | H97: 200
A98: 1.32 | B98: 0.24 | C98: 8.34 | D98: 38.676 | E98: ="-" -> - | F98: Хлеб ржаной | G98: =IFERROR(VLOOKUP(F98,[1]Реестр!A:K,2,0),"") | H98: ="20" -> 20
A99: 1.32 | B99: 0.24 | C99: 0 | D99: 38.676 | E99: - | F99: Фрукт свежий | G99: =IFERROR(VLOOKUP(F99,[1]Реестр!A:K,2,0),"") | H99: 130
A100: Итого за Комплекс | I100: =SUM(I95:I99) -> 149.52
A101: Комплекс №1 1-4 классы (безмолочное меню) | J101: 85.2 | L101: =J101-I101 -> 85.2
A102: 17.96 | B102: 19.65 | C102: 1.04 | D102: 252.59814 | E102: 4/58 (2018 № 2/6-1) | F102: Омлет безмолочный запеченный или паровой | G102: =IFERROR(VLOOKUP(F102,[1]Реестр!A:K,2,0),"") -> 200 | H102: 150 | I102: 149.52
A103: 0.18 | B103: 0.04 | C103: 13.75 | D103: 53.136643 | E103: 11/17 | F103: Чай "Каркаде" с сахаром | G103: =IFERROR(VLOOKUP(F103,[1]Реестр!A:K,2,0),"") -> 200 | H103: 200
A104: 0.52 | B104: 0.52 | C104: 15.08 | D104: 63.284 | E104: - | F104: Фрукт свежий | G104: =IFERROR(VLOOKUP(F104,[1]Реестр!A:K,2,0),"") | H104: 130
...

Sheet 71
F1: ООО Столовая №41 | H1: Согласовано
F2: МАОУ СОШ № 71 | H2: Директор МАОУ СОШ № 71
F3: Меню на 16 мая 2025 года* | H3: Шиндина Т.А.
A4: Пищевые вещества | D4: Ккал | E4: № ТТК | F4: Наименование блюд | G4: Выход по реестру, г | H4: Выход, г | I4: Цена, руб | J4: Раздел
A5: Белки | B5: Жиры | C5: Углеводы
A6: Комплекс №1 1-4 классы 1 смена
A7: =IFERROR(VLOOKUP(F7,[1]Реестр!A:K,3,0)*H7/G7,"") -> 3.8 | B7: =IFERROR(VLOOKUP(F7,[1]Реестр!A:K,4,0)*H7/G7,"") -> 6.6 | C7: =IFERROR(VLOOKUP(F7,[1]Реестр!A:K,5,0)*H7/G7,"") -> 9.7 | D7: =IFERROR(VLOOKUP(F7,[1]Реестр!A:K,6,0)*H7/G7,"") -> 116 | E7: =IFERROR(VLOOKUP(F7,[1]Реестр!A:K,11,0),"") -> 1*58 | F7: Бутерброд с сыром и маслом 20/10/5 | G7: =IFERROR(VLOOKUP(F7,[1]Реестр!A:K,2,0),"") -> 35 | H7: 35 | I7: 26.85 | J7: =IFERROR(VLOOKUP(O7,Реестр!#REF!,3,0)*Q7/P7,"")
A8: 9.75 | B8: 12.14 | C8: 36.06 | D8: 291.64 | E8: 2*62 | F8: Каша молочная жидкая геркулесовая с маслом | G8: =IFERROR(VLOOKUP(F8,[1]Реестр!A:K,2,0),"") | H8: 230 | I8: 38.27 | J8: =IFERROR(VLOOKUP(O8,Реестр!#REF!,3,0)*Q8/P8,"")
A9: =IFERROR(VLOOKUP(F9,[1]Реестр!A:K,3,0)*H9/G9,"") -> 0.15 | B9: =IFERROR(VLOOKUP(F9,[1]Реестр!A:K,4,0)*H9/G9,"") -> 0.09 | C9: =IFERROR(VLOOKUP(F9,[1]Реестр!A:K,5,0)*H9/G9,"") -> 8.58 | D9: =IFERROR(VLOOKUP(F9,[1]Реестр!A:K,6,0)*H9/G9,"") -> 34.8 | E9: =IFERROR(VLOOKUP(F9,[1]Реестр!A:K,11,0),"") -> 12*2 | F9: Соус из малины | G9: =IFERROR(VLOOKUP(F9,[1]Реестр!A:K,2,0),"") -> 100 | H9: 30 | I9: 17.56 | J9: =IFERROR(VLOOKUP(O9,Реестр!#REF!,3,0)*Q9/P9,"")
A10: =IFERROR(VLOOKUP(F10,[1]Реестр!A:K,3,0)*H10/G10,"") -> 3.6 | B10: =IFERROR(VLOOKUP(F10,[1]Реестр!A:K,4,0)*H10/G10,"") -> 2.7 | C10: =IFERROR(VLOOKUP(F10,[1]Реестр!A:K,5,0)*H10/G10,"") -> 22.9 | D10: =IFERROR(VLOOKUP(F10,[1]Реестр!A:K,6,0)*H10/G10,"") -> 127 | E10: =IFERROR(VLOOKUP(F10,[1]Реестр!A:K,11,0),"") -> 11*51 | F10: Какао с молоком | G10: =IFERROR(VLOOKUP(F10,[1]Реестр!A:K,2,0),"") -> 200 | H10: 200 | I10: 24.16 | J10: =IFERROR(VLOOKUP(O10,Реестр!#REF!,3,0)*Q10/P10,"")
A11: =IFERROR(VLOOKUP(F11,[1]Реестр!A:K,3,0)*H11/G11,"") -> 1.32 | B11: =IFERROR(VLOOKUP(F11,[1]Реестр!A:K,4,0)*H11/G11,"") -> 0.24 | C11: =IFERROR(VLOOKUP(F11,[1]Реестр!A:K,5,0)*H11/G11,"") -> 6.68 | D11: =IFERROR(VLOOKUP(F11,[1]Реестр!A:K,6,0)*H11/G11,"") -> 38.6 | E11: =IFERROR(VLOOKUP(F11,[1]Реестр!A:K,11,0),"") -> - | F11: Хлеб вит. ржаной | G11: =IFERROR(VLOOKUP(F11,[1]Реестр!A:K,2,0),"") -> 100 | H11: 20 | I11: 1.8
A12: Итого за Комплекс | I12: =SUM(I7:I11) -> 108.64 | J12: 85.2 | K12: =I12-J12 -> 23.44
A13: Комплекс №1 1-4 классы 2 смена
A14: 14.01 | B14: 6.208 | C14: 12.072 | D14: 117.68389 | E14: 7*14 | F14: Салат из квашеной капусты с зеленью и раст.маслом | G14: =IFERROR(VLOOKUP(F14,[2]Реестр!A:K,2,0),"") | H14: 80 | I14: 21.73 | J14: =IFERROR(VLOOKUP(O14,Реестр!#REF!,3,0)*Q14/P14,"")
A15: 8.9166667 | B15: 7.75 | C15: 19.5 | D15: 185 | E15: 6*57 | F15: Суп картофельный с бобовыми | G15: =IFERROR(VLOOKUP(F15,[2]Реестр!A:K,2,0),"") -> 300 | H15: 250 | I15: 42 | J15: =IFERROR(VLOOKUP(O15,Реестр!#REF!,3,0)*Q15/P15,"")
A16: 17.37 | B16: 9.054 | C16: 30.789 | D16: 274.122 | E16: 9*17 | F16: Плов из птицы (бедро куриное) с куркумой | G16: =IFERROR(VLOOKUP(F16,[2]Реестр!A:K,2,0),"") | H16: 200 | I16: 87.64 | J16: =IFERROR(VLOOKUP(O16,Реестр!#REF!,3,0)*Q16/P16,"")
A17: 0.2 | B17: 0 | C17: 13.7 | D17: 53 | E17: 11*56 | F17: Чай "Каркаде" с сахаром | G17: =IFERROR(VLOOKUP(F17,[2]Реестр!A:K,2,0),"") -> 200 | H17: 200 | I17: 4.38
A18: 2.64 | B18: 0.24 | C18: 18.72 | D18: 89.6 | E18: - | F18: Хлеб вит. пшеничный | G18: =IFERROR(VLOOKUP(F18,[2]Реестр!A:K,2,0),"") -> 100 | H18: 40 | I18: 3.6 | J18: =IFERROR(VLOOKUP(O18,Реестр!#REF!,3,0)*Q18/P18,"")
A19: 2.64 | B19: 0.48 | C19: 13.36 | D19: 77.2 | E19: - | F19: Хлеб вит. ржаной | G19: =IFERROR(VLOOKUP(F19,[2]Реестр!A:K,2,0),"") -> 100 | H19: 40 | I19: 3.6 | J19: =IFERROR(VLOOKUP(O19,Реестр!#REF!,3,0)*Q19/P19,"")
A21: Итого за Комплекс | I21: =SUM(I14:I20) -> 162.95 | J21: 127.79 | K21: =J21-I21 -> -35.16
A22: Комплекс №2 5-11 классы 1 смена
A23: 20.9 | B23: 3.6 | C23: 6.6 | D23: 114 | E23: 7*52 | F23: Горошек консервированный | G23: =IFERROR(VLOOKUP(F23,[1]Реестр!A:K,2,0),"") | H23: 30 | I23: 7.43
A24: 21.7125 | B24: 11.3175 | C24: 38.48625 | D24: 342.6525 | E24: 9*17 | F24: Плов из птицы (бедро куриное) с куркумой | G24: =IFERROR(VLOOKUP(F24,[2]Реестр!A:K,2,0),"") | H24: 250 | I24: 109.55 | J24: =IFERROR(VLOOKUP(O24,Реестр!#REF!,3,0)*Q24/P24,"")
A25: 0.2 | B25: 0 | C25: 13.7 | D25: 53 | E25: 11*56 | F25: Чай "Каркаде" с сахаром | G25: =IFERROR(VLOOKUP(F25,[2]Реестр!A:K,2,0),"") -> 200 | H25: 200 | I25: 4.38
A26: 2.64 | B26: 0.24 | C26: 18.72 | D26: 89.6 | E26: - | F26: Хлеб вит. пшеничный | G26: =IFERROR(VLOOKUP(F26,[2]Реестр!A:K,2,0),"") -> 100 | H26: 40 | I26: 3.6 | J26: =IFERROR(VLOOKUP(O26,Реестр!#REF!,3,0)*Q26/P26,"")
A27: 2.64 | B27: 0.48 | C27: 13.36 | D27: 77.2 | E27: - | F27: Хлеб вит. ржаной | G27: =IFERROR(VLOOKUP(F27,[2]Реестр!A:K,2,0),"") -> 100 | H27: 40 | I27: 3.6
J28: =IFERROR(VLOOKUP(O28,Реестр!#REF!,3,0)*Q28/P28,"")
A29: Итого за Комплекс | I29: =SUM(I23:I28) -> 128.56 | J29: 98.52 | K29: =I29-J29 -> 30.04
A30: Комплекс №2 5-11 классы 2 смена
A31: 14.01 | B31: 6.208 | C31: 12.072 | D31: 117.68389 | E31: 7*14 | F31: Салат из квашеной капусты с зеленью и раст.маслом | G31: =IFERROR(VLOOKUP(F31,[2]Реестр!A:K,2,0),"") | H31: 100 | I31: 27.91
A32: 8.9166667 | B32: 7.75 | C32: 19.5 | D32: 185 | E32: 6*57 | F32: Суп картофельный с бобовыми | G32: =IFERROR(VLOOKUP(F32,[2]Реестр!A:K,2,0),"") -> 300 | H32: 250 | I32: 42 | K32: =I38-J32 -> 192.84
A33: 21.7125 | B33: 11.3175 | C33: 38.48625 | D33: 342.6525 | E33: 9*17 | F33: Плов из птицы (бедро куриное) с куркумой | G33: =IFERROR(VLOOKUP(F33,[2]Реестр!A:K,2,0),"") | H33: 250 | I33: 109.55
A34: 0.2 | B34: 0 | C34: 13.7 | D34: 53 | E34: 11*56 | F34: Чай "Каркаде" с сахаром | G34: =IFERROR(VLOOKUP(F34,[2]Реестр!A:K,2,0),"") -> 200 | H34: 200 | I34: 4.38
A35: 3.3 | B35: 0.3 | C35: 23.4 | D35: 112 | E35: - | F35: Хлеб вит. пшеничный | G35: =IFERROR(VLOOKUP(F35,[2]Реестр!A:K,2,0),"") -> 100 | H35: 50 | I35: 4.5
A36: 3.3 | B36: 0.6 | C36: 16.7 | D36: 96.5 | E36: - | F36: Хлеб вит. ржаной | G36: =IFERROR(VLOOKUP(F36,[2]Реестр!A:K,2,0),"") -> 100 | H36: 50 | I36: 4.5
A38: Итого за Комплекс | I38: =SUM(I31:I37) -> 192.84 | J38: 147.79 | K38: =I38-J38 -> 45.05
A39: Комплекс №3 Двухразовое питание 1-4 классы
A40: Завтрак
A41: =IFERROR(VLOOKUP(F41,[1]Реестр!A:K,3,0)*H41/G41,"") -> 3.8 | B41: =IFERROR(VLOOKUP(F41,[1]Реестр!A:K,4,0)*H41/G41,"") -> 6.6 | C41: =IFERROR(VLOOKUP(F41,[1]Реестр!A:K,5,0)*H41/G41,"") -> 9.7 | D41: =IFERROR(VLOOKUP(F41,[1]Реестр!A:K,6,0)*H41/G41,"") -> 116 | E41: =IFERROR(VLOOKUP(F41,[1]Реестр!A:K,11,0),"") -> 1*58 | F41: Бутерброд с сыром и маслом 20/10/5 | G41: =IFERROR(VLOOKUP(F41,[1]Реестр!A:K,2,0),"") -> 35 | H41: 35 | I41: 26.85 | J41: бутер
A42: 9.75 | B42: 12.14 | C42: 36.06 | D42: 291.64 | E42: 2*62 | F42: Каша молочная жидкая геркулесовая с маслом | G42: =IFERROR(VLOOKUP(F42,[1]Реестр!A:K,2,0),"") | H42: 230 | I42: 38.27 | J42: горячее
A43: =IFERROR(VLOOKUP(F43,[1]Реестр!A:K,3,0)*H43/G43,"") -> 0.15 | B43: =IFERROR(VLOOKUP(F43,[1]Реестр!A:K,4,0)*H43/G43,"") -> 0.09 | C43: =IFERROR(VLOOKUP(F43,[1]Реестр!A:K,5,0)*H43/G43,"") -> 8.58 | D43: =IFERROR(VLOOKUP(F43,[1]Реестр!A:K,6,0)*H43/G43,"") -> 34.8 | E43: =IFERROR(VLOOKUP(F43,[1]Реестр!A:K,11,0),"") -> 12*2 | F43: Соус из малины | G43: =IFERROR(VLOOKUP(F43,[1]Реестр!A:K,2,0),"") -> 100 | H43: 30 | I43: 17.56 | J43: соус/повидло
A44: =IFERROR(VLOOKUP(F44,[1]Реестр!A:K,3,0)*H44/G44,"") -> 3.6 | B44: =IFERROR(VLOOKUP(F44,[1]Реестр!A:K,4,0)*H44/G44,"") -> 2.7 | C44: =IFERROR(VLOOKUP(F44,[1]Реестр!A:K,5,0)*H44/G44,"") -> 22.9 | D44: =IFERROR(VLOOKUP(F44,[1]Реестр!A:K,6,0)*H44/G44,"") -> 127 | E44: =IFERROR(VLOOKUP(F44,[1]Реестр!A:K,11,0),"") -> 11*51 | F44: Какао с молоком | G44: =IFERROR(VLOOKUP(F44,[1]Реестр!A:K,2,0),"") -> 200 | H44: 200 | I44: 24.16 | J44: напиток
A45: =IFERROR(VLOOKUP(F45,[1]Реестр!A:K,3,0)*H45/G45,"") -> 1.32 | B45: =IFERROR(VLOOKUP(F45,[1]Реестр!A:K,4,0)*H45/G45,"") -> 0.24 | C45: =IFERROR(VLOOKUP(F45,[1]Реестр!A:K,5,0)*H45/G45,"") -> 6.68 | D45: =IFERROR(VLOOKUP(F45,[1]Реестр!A:K,6,0)*H45/G45,"") -> 38.6 | E45: =IFERROR(VLOOKUP(F45,[1]Реестр!A:K,11,0),"") -> - | F45: Хлеб вит. ржаной | G45: =IFERROR(VLOOKUP(F45,[1]Реестр!A:K,2,0),"") -> 100 | H45: 20 | I45: 1.8 | J45: любая позиция
A46: Обед
A47: 14.01 | B47: 6.208 | C47: 12.072 | D47: 117.68389 | E47: 7*14 | F47: Салат из квашеной капусты с зеленью и раст.маслом | G47: =IFERROR(VLOOKUP(F47,[2]Реестр!A:K,2,0),"") | H47: 80 | I47: 21.73 | J47: салат
A48: 8.9166667 | B48: 7.75 | C48: 19.5 | D48: 185 | E48: 6*57 | F48: Суп картофельный с бобовыми | G48: =IFERROR(VLOOKUP(F48,[2]Реестр!A:K,2,0),"") -> 300 | H48: 250 | I48: 42 | J48: суп
A49: 17.37 | B49: 9.054 | C49: 30.789 | D49: 274.122 | E49: 9*17 | F49: Плов из птицы (бедро куриное) с куркумой | G49: =IFERROR(VLOOKUP(F49,[2]Реестр!A:K,2,0),"") | H49: 200 | I49: 87.64 | J49: горячее
A50: 0.2 | B50: 0 | C50: 13.7 | D50: 53 | E50: 11*56 | F50: Чай "Каркаде" с сахаром | G50: =IFERROR(VLOOKUP(F50,[2]Реестр!A:K,2,0),"") -> 200 | H50: 200 | I50: 4.38 | J50: гарнир
A51: 2.64 | B51: 0.24 | C51: 18.72 | D51: 89.6 | E51: - | F51: Хлеб вит. пшеничный | G51: =IFERROR(VLOOKUP(F51,[2]Реестр!A:K,2,0),"") -> 100 | H51: 40 | I51: 3.6 | J51: напиток
A52: 2.64 | B52: 0.48 | C52: 13.36 | D52: 77.2 | E52: - | F52: Хлеб вит. ржаной | G52: =IFERROR(VLOOKUP(F52,[2]Реестр!A:K,2,0),"") -> 100 | H52: 40 | I52: 3.6 | J52: хлеб пшеничный
J53: хлеб ржаной
A54: Итого за Комплекс | I54: =SUM(I41:I45,I47:I53) -> 271.59 | J54: 212.99 | K54: =I54-J54 -> 58.6
A55: Комплекс №4 Двухразовое питание 5-11 классы
A56: Завтрак
A57: =IFERROR(VLOOKUP(F57,[1]Реестр!A:K,3,0)*H57/G57,"") -> 5.08 | B57: =IFERROR(VLOOKUP(F57,[1]Реестр!A:K,4,0)*H57/G57,"") -> 11.55 | C57: =IFERROR(VLOOKUP(F57,[1]Реестр!A:K,5,0)*H57/G57,"") -> 9.97 | D57: =IFERROR(VLOOKUP(F57,[1]Реестр!A:K,6,0)*H57/G57,"") -> 164.15 | E57: =IFERROR(VLOOKUP(F57,[1]Реестр!A:K,11,0),"") -> 1*51 | F57: Бутерброд с сыром и маслом 20/15/10 | G57: =IFERROR(VLOOKUP(F57,[1]Реестр!A:K,2,0),"") -> 45 | H57: 45 | I57: 35.8 | J57: бутер
A58: 9.75 | B58: 12.14 | C58: 36.06 | D58: 291.64 | E58: 2*62 | F58: Каша молочная жидкая геркулесовая с маслом | G58: =IFERROR(VLOOKUP(F58,[1]Реестр!A:K,2,0),"") | H58: 250 | I58: 41.59 | J58: горячее
A59: =IFERROR(VLOOKUP(F59,[1]Реестр!A:K,3,0)*H59/G59,"") -> 0.2 | B59: =IFERROR(VLOOKUP(F59,[1]Реестр!A:K,4,0)*H59/G59,"") -> 0.12 | C59: =IFERROR(VLOOKUP(F59,[1]Реестр!A:K,5,0)*H59/G59,"") -> 11.44 | D59: =IFERROR(VLOOKUP(F59,[1]Реестр!A:K,6,0)*H59/G59,"") -> 46.4 | E59: =IFERROR(VLOOKUP(F59,[1]Реестр!A:K,11,0),"") -> 12*2 | F59: Соус из малины | G59: =IFERROR(VLOOKUP(F59,[1]Реестр!A:K,2,0),"") -> 100 | H59: 40 | I59: 23.41 | J59: соус/повидло
A60: =IFERROR(VLOOKUP(F60,[1]Реестр!A:K,3,0)*H60/G60,"") -> 3.6 | B60: =IFERROR(VLOOKUP(F60,[1]Реестр!A:K,4,0)*H60/G60,"") -> 2.7 | C60: =IFERROR(VLOOKUP(F60,[1]Реестр!A:K,5,0)*H60/G60,"") -> 22.9 | D60: =IFERROR(VLOOKUP(F60,[1]Реестр!A:K,6,0)*H60/G60,"") -> 127 | E60: =IFERROR(VLOOKUP(F60,[1]Реестр!A:K,11,0),"") -> 11*51 | F60: Какао с молоком | G60: =IFERROR(VLOOKUP(F60,[1]Реестр!A:K,2,0),"") -> 200 | H60: 200 | I60: 24.16 | J60: чай
A61: =IFERROR(VLOOKUP(F61,[1]Реестр!A:K,3,0)*H61/G61,"") -> 2.64 | B61: =IFERROR(VLOOKUP(F61,[1]Реестр!A:K,4,0)*H61/G61,"") -> 0.48 | C61: =IFERROR(VLOOKUP(F61,[1]Реестр!A:K,5,0)*H61/G61,"") -> 13.36 | D61: =IFERROR(VLOOKUP(F61,[1]Реестр!A:K,6,0)*H61/G61,"") -> 77.2 | E61: =IFERROR(VLOOKUP(F61,[1]Реестр!A:K,11,0),"") -> - | F61: Хлеб вит. ржаной | G61: =IFERROR(VLOOKUP(F61,[1]Реестр!A:K,2,0),"") -> 100 | H61: 40 | I61: 3.6 | J61: любая позиция
A62: Обед | J62: =IFERROR(VLOOKUP(O62,Реестр!#REF!,3,0)*Q62/P62,"")
A63: 14.01 | B63: 6.208 | C63: 12.072 | D63: 117.68389 | E63: 7*14 | F63: Салат из квашеной капусты с зеленью и раст.маслом | G63: =IFERROR(VLOOKUP(F63,[2]Реестр!A:K,2,0),"") | H63: 100 | I63: 27.91 | J63: салат
A64: 8.9166667 | B64: 7.75 | C64: 19.5 | D64: 185 | E64: 6*57 | F64: Суп картофельный с бобовыми | G64: =IFERROR(VLOOKUP(F64,[2]Реестр!A:K,2,0),"") -> 300 | H64: 250 | I64: 42 | J64: суп
A65: 21.7125 | B65: 11.3175 | C65: 38.48625 | D65: 342.6525 | E65: 9*17 | F65: Плов из птицы (бедро куриное) с куркумой | G65: =IFERROR(VLOOKUP(F65,[2]Реестр!A:K,2,0),"") | H65: 250 | I65: 109.55 | J65: горячее
A66: 0.2 | B66: 0 | C66: 13.7 | D66: 53 | E66: 11*56 | F66: Чай "Каркаде" с сахаром | G66: =IFERROR(VLOOKUP(F66,[2]Реестр!A:K,2,0),"") -> 200 | H66: 200 | I66: 4.38 | J66: гарнир
A67: 3.3 | B67: 0.3 | C67: 23.4 | D67: 112 | E67: - | F67: Хлеб вит. пшеничный | G67: =IFERROR(VLOOKUP(F67,[2]Реестр!A:K,2,0),"") -> 100 | H67: 50 | I67: 4.5 | J67: напиток
A68: 3.3 | B68: 0.6 | C68: 16.7 | D68: 96.5 | E68: - | F68: Хлеб вит. ржаной | G68: =IFERROR(VLOOKUP(F68,[2]Реестр!A:K,2,0),"") -> 100 | H68: 50 | I68: 4.5 | J68: хлеб белый
J69: хлеб ржаной
A70: Итого за Комплекс | I70: =SUM(I57:I61)+SUM(I63:I69) -> 321.4 | J70: 246.31 | K70: =J70-I70 -> -75.09
A71: Комплекс №5 5-11 классы
A72: 20.9 | B72: 3.6 | C72: 6.6 | D72: 114 | E72: 7*52 | F72: Горошек консервированный | G72: =IFERROR(VLOOKUP(F72,[1]Реестр!A:K,2,0),"") | H72: 30 | I72: 7.43
A73: 21.7125 | B73: 11.3175 | C73: 38.48625 | D73: 342.6525 | E73: 9*17 | F73: Плов из птицы (бедро куриное) с куркумой | G73: =IFERROR(VLOOKUP(F73,[2]Реестр!A:K,2,0),"") | H73: 250 | I73: 109.55
A74: 0.2 | B74: 0 | C74: 13.7 | D74: 53 | E74: 11*56 | F74: Чай "Каркаде" с сахаром | G74: =IFERROR(VLOOKUP(F74,[2]Реестр!A:K,2,0),"") -> 200 | H74: 200 | I74: 4.38
A75: 2.64 | B75: 0.24 | C75: 18.72 | D75: 89.6 | E75: - | F75: Хлеб вит. пшеничный | G75: =IFERROR(VLOOKUP(F75,[2]Реестр!A:K,2,0),"") -> 100 | H75: 40 | I75: 3.6
A76: 2.64 | B76: 0.48 | C76: 13.36 | D76: 77.2 | E76: - | F76: Хлеб вит. ржаной | G76: =IFERROR(VLOOKUP(F76,[2]Реестр!A:K,2,0),"") -> 100 | H76: 40 | I76: 3.6
A78: Итого за Комплекс | I78: =SUM(I72:I77) -> 128.56 | J78: 98.52 | L78: =J78-I78 -> -30.04
A79: Комплекс №6 Булочка 1-11 классы
A80: 7.7 | B80: 7.42 | C80: 32.09 | D80: 225.88 | E80: 13*10 | F80: Шаньга со сметаной | G80: =IFERROR(VLOOKUP(F80,[2]Реестр!A:K,2,0),"") | H80: 100 | I80: 42
A81: Итого за Комплекс | I81: =I80 -> 42 | J81: 29
A82: Комплекс №7 Суп 1-11 классы
A83: 8.9166667 | B83: 7.75 | C83: 19.5 | D83: 185 | E83: 6*57 | F83: Суп картофельный с бобовыми | G83: =IFERROR(VLOOKUP(F83,[2]Реестр!A:K,2,0),"") -> 300 | H83: 250 | I83: 42
A84: Итого за Комплекс | I84: =SUM(I83:I83) -> 42 | J84: 27
A85: Комплекс №9 5-11 Обед
A86: 14.01 | B86: 6.208 | C86: 12.072 | D86: 117.68389 | E86: 7*14 | F86: Салат из квашеной капусты с зеленью и раст.маслом | G86: =IFERROR(VLOOKUP(F86,[2]Реестр!A:K,2,0),"") | H86: 100 | I86: 27.91
A87: 8.9166667 | B87: 7.75 | C87: 19.5 | D87: 185 | E87: 6*57 | F87: Суп картофельный с бобовыми | G87: =IFERROR(VLOOKUP(F87,[2]Реестр!A:K,2,0),"") -> 300 | H87: 250 | I87: 42
A88: 21.7125 | B88: 11.3175 | C88: 38.48625 | D88: 342.6525 | E88: 9*17 | F88: Плов из птицы (бедро куриное) с куркумой | G88: =IFERROR(VLOOKUP(F88,[2]Реестр!A:K,2,0),"") | H88: 250 | I88: 109.55
A89: 0.2 | B89: 0 | C89: 13.7 | D89: 53 | E89: 11*56 | F89: Чай "Каркаде" с сахаром | G89: =IFERROR(VLOOKUP(F89,[2]Реестр!A:K,2,0),"") -> 200 | H89: 200 | I89: 4.38
A90: 3.3 | B90: 0.3 | C90: 23.4 | D90: 112 | E90: - | F90: Хлеб вит. пшеничный | G90: =IFERROR(VLOOKUP(F90,[2]Реестр!A:K,2,0),"") -> 100 | H90: 50 | I90: 4.5
A91: 3.3 | B91: 0.6 | C91: 16.7 | D91: 96.5 | E91: - | F91: Хлеб вит. ржаной | G91: =IFERROR(VLOOKUP(F91,[2]Реестр!A:K,2,0),"") -> 100 | H91: 50 | I91: 4.5
A93: Итого за Комплекс | I93: =SUM(I86:I92) -> 192.84 | J93: 147.79 | L93: =J93-I93 -> -45.05
A94: Комплекс №1 1-4 классы (меню для детей с сахарным диабетом)
A95: =IFERROR(VLOOKUP(F95,[1]Реестр!A:K,3,0)*H95/G95,"") -> 5.08 | B95: =IFERROR(VLOOKUP(F95,[1]Реестр!A:K,4,0)*H95/G95,"") -> 11.55 | C95: =IFERROR(VLOOKUP(F95,[1]Реестр!A:K,5,0)*H95/G95,"") -> 9.97 | D95: =IFERROR(VLOOKUP(F95,[1]Реестр!A:K,6,0)*H95/G95,"") -> 164.15 | E95: =IFERROR(VLOOKUP(F95,[1]Реестр!A:K,11,0),"") -> 1*51 | F95: Бутерброд с сыром и маслом 20/15/10 | G95: =IFERROR(VLOOKUP(F95,[1]Реестр!A:K,2,0),"") -> 45 | H95: 45 | I95: 108.64
A96: =IFERROR(VLOOKUP(F96,[1]Реестр!A:K,3,0)*H96/G96,"") -> 6.375 | B96: =IFERROR(VLOOKUP(F96,[1]Реестр!A:K,4,0)*H96/G96,"") -> 5.75 | C96: =IFERROR(VLOOKUP(F96,[1]Реестр!A:K,5,0)*H96/G96,"") -> 0.375 | D96: =IFERROR(VLOOKUP(F96,[1]Реестр!A:K,6,0)*H96/G96,"") -> 78.75 | E96: =IFERROR(VLOOKUP(F96,[1]Реестр!A:K,11,0),"") -> 4*57 | F96: Яйцо отварное 1 шт. | G96: =IFERROR(VLOOKUP(F96,[1]Реестр!A:K,2,0),"") -> 40 | H96: 50
A97: 8.2 | B97: 8.4 | C97: 36.2 | D97: 244 | E97: ="2/66 (МР 2.4.0162-19. 2.4.)" -> 2/66 (МР 2.4.0162-19. 2.4.) | F97: Каша жидкая геркулесовая с маслом без сахара | G97: =IFERROR(VLOOKUP(F97,[1]Реестр!A:K,2,0),"") -> 250 | H97: 200
A98: 4.03 | B98: 3.19 | C98: 6.87 | D98: 68.87885 | E98: ="11/72 (2014 № 11.8)" -> 11/72 (2014 № 11.8) | F98: Какао с молоком без сахара | G98: =IFERROR(VLOOKUP(F98,[1]Реестр!A:K,2,0),"") | H98: ="200" -> 200
A99: =IFERROR(VLOOKUP(F99,[1]Реестр!A:K,3,0)*H99/G99,"") -> 1.32 | B99: =IFERROR(VLOOKUP(F99,[1]Реестр!A:K,4,0)*H99/G99,"") -> 0.24 | C99: =IFERROR(VLOOKUP(F99,[1]Реестр!A:K,5,0)*H99/G99,"") -> 6.68 | D99: =IFERROR(VLOOKUP(F99,[1]Реестр!A:K,6,0)*H99/G99,"") -> 38.6 | E99: =IFERROR(VLOOKUP(F99,[1]Реестр!A:K,11,0),"") -> - | F99: Хлеб вит. ржаной | G99: =IFERROR(VLOOKUP(F99,[1]Реестр!A:K,2,0),"") -> 100 | H99: ="20" -> 20
A100: Итого за Комплекс | I100: =SUM(I95:I99) -> 108.64
A101: Комплекс №1 1-4 классы (безмолочное меню) | J101: 85.2 | L101: =J101-I101 -> 85.2
A102: =IFERROR(VLOOKUP(F102,[1]Реестр!A:K,3,0)*H102/G102,"") -> 6.375 | B102: =IFERROR(VLOOKUP(F102,[1]Реестр!A:K,4,0)*H102/G102,"") -> 5.75 | C102: =IFERROR(VLOOKUP(F102,[1]Реестр!A:K,5,0)*H102/G102,"") -> 0.375 | D102: =IFERROR(VLOOKUP(F102,[1]Реестр!A:K,6,0)*H102/G102,"") -> 78.75 | E102: =IFERROR(VLOOKUP(F102,[1]Реестр!A:K,11,0),"") -> 4*57 | F102: Яйцо отварное 1 шт. | G102: =IFERROR(VLOOKUP(F102,[1]Реестр!A:K,2,0),"") -> 40 | H102: 50 | I102: 108.64
A103: 7.23 | B103: 12.83 | C103: 34.92 | D103: 275.69061 | E103: ="2/73 (МР 2.4.0162-19 № 54-29к-2020)" -> 2/73 (МР 2.4.0162-19 № 54-29к-2020) | F103: Каша вязкая геркулесовая на воде с растительным маслом | G103: =IFERROR(VLOOKUP(F103,[1]Реестр!A:K,2,0),"") | H103: 200
A104: =IFERROR(VLOOKUP(F104,[1]Реестр!A:K,3,0)*H104/G104,"") -> 0.175 | B104: =IFERROR(VLOOKUP(F104,[1]Реестр!A:K,4,0)*H104/G104,"") -> 0.105 | C104: =IFERROR(VLOOKUP(F104,[1]Реестр!A:K,5,0)*H104/G104,"") -> 10.01 | D104: =IFERROR(VLOOKUP(F104,[1]Реестр!A:K,6,0)*H104/G104,"") -> 40.6 | E104: =IFERROR(VLOOKUP(F104,[1]Реестр!A:K,11,0),"") -> 12*2 | F104: Соус из малины | G104: =IFERROR(VLOOKUP(F104,[1]Реестр!A:K,2,0),"") -> 100 | H104: 35
...

Sheet 3
F1: ООО Столовая №41 | H1: Согласовано
F2: МАОУ лицей № 3 | H2: Директор МАОУ лицей № 3
F3: Меню на 16 мая 2025 года* | H3: Полтавец И.В.
A4: Пищевые вещества | D4: Ккал | E4: № ТТК | F4: Наименование блюд | G4: Выход по реестру, г | H4: Выход, г | I4: Цена, руб | J4: Раздел
A5: Белки | B5: Жиры | C5: Углеводы
A6: Комплекс №1 1-4 классы 1 смена
A7: =IFERROR(VLOOKUP(F7,[1]Реестр!A:K,3,0)*H7/G7,"") -> 3.8 | B7: =IFERROR(VLOOKUP(F7,[1]Реестр!A:K,4,0)*H7/G7,"") -> 6.6 | C7: =IFERROR(VLOOKUP(F7,[1]Реестр!A:K,5,0)*H7/G7,"") -> 9.7 | D7: =IFERROR(VLOOKUP(F7,[1]Реестр!A:K,6,0)*H7/G7,"") -> 116 | E7: =IFERROR(VLOOKUP(F7,[1]Реестр!A:K,11,0),"") -> 1*58 | F7: Бутерброд с сыром и маслом 20/10/5 | G7: =IFERROR(VLOOKUP(F7,[1]Реестр!A:K,2,0),"") -> 35 | H7: 35 | I7: 26.85 | J7: =IFERROR(VLOOKUP(O7,Реестр!#REF!,3,0)*Q7/P7,"")
A8: 9.75 | B8: 12.14 | C8: 36.06 | D8: 291.64 | E8: 2*62 | F8: Каша молочная жидкая геркулесовая с маслом | G8: =IFERROR(VLOOKUP(F8,[1]Реестр!A:K,2,0),"") | H8: 230 | I8: 38.27 | J8: =IFERROR(VLOOKUP(O8,Реестр!#REF!,3,0)*Q8/P8,"")
A9: =IFERROR(VLOOKUP(F9,[1]Реестр!A:K,3,0)*H9/G9,"") -> 0.15 | B9: =IFERROR(VLOOKUP(F9,[1]Реестр!A:K,4,0)*H9/G9,"") -> 0.09 | C9: =IFERROR(VLOOKUP(F9,[1]Реестр!A:K,5,0)*H9/G9,"") -> 8.58 | D9: =IFERROR(VLOOKUP(F9,[1]Реестр!A:K,6,0)*H9/G9,"") -> 34.8 | E9: =IFERROR(VLOOKUP(F9,[1]Реестр!A:K,11,0),"") -> 12*2 | F9: Соус из малины | G9: =IFERROR(VLOOKUP(F9,[1]Реестр!A:K,2,0),"") -> 100 | H9: 30 | I9: 17.56 | J9: =IFERROR(VLOOKUP(O9,Реестр!#REF!,3,0)*Q9/P9,"")
A10: =IFERROR(VLOOKUP(F10,[1]Реестр!A:K,3,0)*H10/G10,"") -> 3.6 | B10: =IFERROR(VLOOKUP(F10,[1]Реестр!A:K,4,0)*H10/G10,"") -> 2.7 | C10: =IFERROR(VLOOKUP(F10,[1]Реестр!A:K,5,0)*H10/G10,"") -> 22.9 | D10: =IFERROR(VLOOKUP(F10,[1]Реестр!A:K,6,0)*H10/G10,"") -> 127 | E10: =IFERROR(VLOOKUP(F10,[1]Реестр!A:K,11,0),"") -> 11*51 | F10: Какао с молоком | G10: =IFERROR(VLOOKUP(F10,[1]Реестр!A:K,2,0),"") -> 200 | H10: 200 | I10: 24.16 | J10: =IFERROR(VLOOKUP(O10,Реестр!#REF!,3,0)*Q10/P10,"")
A11: =IFERROR(VLOOKUP(F11,[1]Реестр!A:K,3,0)*H11/G11,"") -> 1.32 | B11: =IFERROR(VLOOKUP(F11,[1]Реестр!A:K,4,0)*H11/G11,"") -> 0.24 | C11: =IFERROR(VLOOKUP(F11,[1]Реестр!A:K,5,0)*H11/G11,"") -> 6.68 | D11: =IFERROR(VLOOKUP(F11,[1]Реестр!A:K,6,0)*H11/G11,"") -> 38.6 | E11: =IFERROR(VLOOKUP(F11,[1]Реестр!A:K,11,0),"") -> - | F11: Хлеб вит. ржаной | G11: =IFERROR(VLOOKUP(F11,[1]Реестр!A:K,2,0),"") -> 100 | H11: 20 | I11: 1.8
A12: Итого за Комплекс | I12: =SUM(I7:I11) -> 108.64 | J12: 85.2 | K12: =I12-J12 -> 23.44
A13: Комплекс №1 1-4 классы 2 смена
A14: 14.01 | B14: 6.208 | C14: 12.072 | D14: 117.68389 | E14: 7*14 | F14: Салат из квашеной капусты с зеленью и раст.маслом | G14: =IFERROR(VLOOKUP(F14,[2]Реестр!A:K,2,0),"") | H14: 80 | I14: 21.73 | J14: =IFERROR(VLOOKUP(O14,Реестр!#REF!,3,0)*Q14/P14,"")
A15: 8.9166667 | B15: 7.75 | C15: 19.5 | D15: 185 | E15: 6*57 | F15: Суп картофельный с бобовыми | G15: =IFERROR(VLOOKUP(F15,[2]Реестр!A:K,2,0),"") -> 300 | H15: 250 | I15: 42 | J15: =IFERROR(VLOOKUP(O15,Реестр!#REF!,3,0)*Q15/P15,"")
A16: 17.37 | B16: 9.054 | C16: 30.789 | D16: 274.122 | E16: 9*17 | F16: Плов из птицы (бедро куриное) с куркумой | G16: =IFERROR(VLOOKUP(F16,[2]Реестр!A:K,2,0),"") | H16: 200 | I16: 87.64 | J16: =IFERROR(VLOOKUP(O16,Реестр!#REF!,3,0)*Q16/P16,"")
A17: 0.2 | B17: 0 | C17: 13.7 | D17: 53 | E17: 11*56 | F17: Чай "Каркаде" с сахаром | G17: =IFERROR(VLOOKUP(F17,[2]Реестр!A:K,2,0),"") -> 200 | H17: 200 | I17: 4.38
A18: 2.64 | B18: 0.24 | C18: 18.72 | D18: 89.6 | E18: - | F18: Хлеб вит. пшеничный | G18: =IFERROR(VLOOKUP(F18,[2]Реестр!A:K,2,0),"") -> 100 | H18: 40 | I18: 3.6 | J18: =IFERROR(VLOOKUP(O18,Реестр!#REF!,3,0)*Q18/P18,"")
A19: 2.64 | B19: 0.48 | C19: 13.36 | D19: 77.2 | E19: - | F19: Хлеб вит. ржаной | G19: =IFERROR(VLOOKUP(F19,[2]Реестр!A:K,2,0),"") -> 100 | H19: 40 | I19: 3.6 | J19: =IFERROR(VLOOKUP(O19,Реестр!#REF!,3,0)*Q19/P19,"")
A21: Итого за Комплекс | I21: =SUM(I14:I20) -> 162.95 | J21: 127.79 | K21: =J21-I21 -> -35.16
A22: Комплекс №2 5-11 классы 1 смена
A23: 20.9 | B23: 3.6 | C23: 6.6 | D23: 114 | E23: 7*52 | F23: Горошек консервированный | G23: =IFERROR(VLOOKUP(F23,[1]Реестр!A:K,2,0),"") | H23: 30 | I23: 7.43
A24: 21.7125 | B24: 11.3175 | C24: 38.48625 | D24: 342.6525 | E24: 9*17 | F24: Плов из птицы (бедро куриное) с куркумой | G24: =IFERROR(VLOOKUP(F24,[2]Реестр!A:K,2,0),"") | H24: 250 | I24: 109.55 | J24: =IFERROR(VLOOKUP(O24,Реестр!#REF!,3,0)*Q24/P24,"")
A25: 0.2 | B25: 0 | C25: 13.7 | D25: 53 | E25: 11*56 | F25: Чай "Каркаде" с сахаром | G25: =IFERROR(VLOOKUP(F25,[2]Реестр!A:K,2,0),"") -> 200 | H25: 200 | I25: 4.38
A26: 2.64 | B26: 0.24 | C26: 18.72 | D26: 89.6 | E26: - | F26: Хлеб вит. пшеничный | G26: =IFERROR(VLOOKUP(F26,[2]Реестр!A:K,2,0),"") -> 100 | H26: 40 | I26: 3.6 | J26: =IFERROR(VLOOKUP(O26,Реестр!#REF!,3,0)*Q26/P26,"")
A27: 2.64 | B27: 0.48 | C27: 13.36 | D27: 77.2 | E27: - | F27: Хлеб вит. ржаной | G27: =IFERROR(VLOOKUP(F27,[2]Реестр!A:K,2,0),"") -> 100 | H27: 40 | I27: 3.6
J28: =IFERROR(VLOOKUP(O28,Реестр!#REF!,3,0)*Q28/P28,"")
A29: Итого за Комплекс | I29: =SUM(I23:I28) -> 128.56 | J29: 98.52 | K29: =I29-J29 -> 30.04
A30: Комплекс №2 5-11 классы 2 смена
A31: 14.01 | B31: 6.208 | C31: 12.072 | D31: 117.68389 | E31: 7*14 | F31: Салат из квашеной капусты с зеленью и раст.маслом | G31: =IFERROR(VLOOKUP(F31,[2]Реестр!A:K,2,0),"") | H31: 100 | I31: 27.91
A32: 8.9166667 | B32: 7.75 | C32: 19.5 | D32: 185 | E32: 6*57 | F32: Суп картофельный с бобовыми | G32: =IFERROR(VLOOKUP(F32,[2]Реестр!A:K,2,0),"") -> 300 | H32: 250 | I32: 42 | K32: =I38-J32 -> 192.84
A33: 21.7125 | B33: 11.3175 | C33: 38.48625 | D33: 342.6525 | E33: 9*17 | F33: Плов из птицы (бедро куриное) с куркумой | G33: =IFERROR(VLOOKUP(F33,[2]Реестр!A:K,2,0),"") | H33: 250 | I33: 109.55
A34: 0.2 | B34: 0 | C34: 13.7 | D34: 53 | E34: 11*56 | F34: Чай "Каркаде" с сахаром | G34: =IFERROR(VLOOKUP(F34,[2]Реестр!A:K,2,0),"") -> 200 | H34: 200 | I34: 4.38
A35: 3.3 | B35: 0.3 | C35: 23.4 | D35: 112 | E35: - | F35: Хлеб вит. пшеничный | G35: =IFERROR(VLOOKUP(F35,[2]Реестр!A:K,2,0),"") -> 100 | H35: 50 | I35: 4.5
A36: 3.3 | B36: 0.6 | C36: 16.7 | D36: 96.5 | E36: - | F36: Хлеб вит. ржаной | G36: =IFERROR(VLOOKUP(F36,[2]Реестр!A:K,2,0),"") -> 100 | H36: 50 | I36: 4.5
A38: Итого за Комплекс | I38: =SUM(I31:I37) -> 192.84 | J38: 147.79 | K38: =I38-J38 -> 45.05
A39: Комплекс №3 Двухразовое питание 1-4 классы
A40: Завтрак
A41: =IFERROR(VLOOKUP(F41,[1]Реестр!A:K,3,0)*H41/G41,"") -> 3.8 | B41: =IFERROR(VLOOKUP(F41,[1]Реестр!A:K,4,0)*H41/G41,"") -> 6.6 | C41: =IFERROR(VLOOKUP(F41,[1]Реестр!A:K,5,0)*H41/G41,"") -> 9.7 | D41: =IFERROR(VLOOKUP(F41,[1]Реестр!A:K,6,0)*H41/G41,"") -> 116 | E41: =IFERROR(VLOOKUP(F41,[1]Реестр!A:K,11,0),"") -> 1*58 | F41: Бутерброд с сыром и маслом 20/10/5 | G41: =IFERROR(VLOOKUP(F41,[1]Реестр!A:K,2,0),"") -> 35 | H41: 35 | I41: 26.85 | J41: бутер
A42: 9.75 | B42: 12.14 | C42: 36.06 | D42: 291.64 | E42: 2*62 | F42: Каша молочная жидкая геркулесовая с маслом | G42: =IFERROR(VLOOKUP(F42,[1]Реестр!A:K,2,0),"") | H42: 230 | I42: 38.27 | J42: горячее
A43: =IFERROR(VLOOKUP(F43,[1]Реестр!A:K,3,0)*H43/G43,"") -> 0.15 | B43: =IFERROR(VLOOKUP(F43,[1]Реестр!A:K,4,0)*H43/G43,"") -> 0.09 | C43: =IFERROR(VLOOKUP(F43,[1]Реестр!A:K,5,0)*H43/G43,"") -> 8.58 | D43: =IFERROR(VLOOKUP(F43,[1]Реестр!A:K,6,0)*H43/G43,"") -> 34.8 | E43: =IFERROR(VLOOKUP(F43,[1]Реестр!A:K,11,0),"") -> 12*2 | F43: Соус из малины | G43: =IFERROR(VLOOKUP(F43,[1]Реестр!A:K,2,0),"") -> 100 | H43: 30 | I43: 17.56 | J43: соус/повидло
A44: =IFERROR(VLOOKUP(F44,[1]Реестр!A:K,3,0)*H44/G44,"") -> 3.6 | B44: =IFERROR(VLOOKUP(F44,[1]Реестр!A:K,4,0)*H44/G44,"") -> 2.7 | C44: =IFERROR(VLOOKUP(F44,[1]Реестр!A:K,5,0)*H44/G44,"") -> 22.9 | D44: =IFERROR(VLOOKUP(F44,[1]Реестр!A:K,6,0)*H44/G44,"") -> 127 | E44: =IFERROR(VLOOKUP(F44,[1]Реестр!A:K,11,0),"") -> 11*51 | F44: Какао с молоком | G44: =IFERROR(VLOOKUP(F44,[1]Реестр!A:K,2,0),"") -> 200 | H44: 200 | I44: 24.16 | J44: напиток
A45: =IFERROR(VLOOKUP(F45,[1]Реестр!A:K,3,0)*H45/G45,"") -> 1.32 | B45: =IFERROR(VLOOKUP(F45,[1]Реестр!A:K,4,0)*H45/G45,"") -> 0.24 | C45: =IFERROR(VLOOKUP(F45,[1]Реестр!A:K,5,0)*H45/G45,"") -> 6.68 | D45: =IFERROR(VLOOKUP(F45,[1]Реестр!A:K,6,0)*H45/G45,"") -> 38.6 | E45: =IFERROR(VLOOKUP(F45,[1]Реестр!A:K,11,0),"") -> - | F45: Хлеб вит. ржаной | G45: =IFERROR(VLOOKUP(F45,[1]Реестр!A:K,2,0),"") -> 100 | H45: 20 | I45: 1.8 | J45: любая позиция
A46: Обед
A47: 14.01 | B47: 6.208 | C47: 12.072 | D47: 117.68389 | E47: 7*14 | F47: Салат из квашеной капусты с зеленью и раст.маслом | G47: =IFERROR(VLOOKUP(F47,[2]Реестр!A:K,2,0),"") | H47: 80 | I47: 21.73 | J47: салат
A48: 8.9166667 | B48: 7.75 | C48: 19.5 | D48: 185 | E48: 6*57 | F48: Суп картофельный с бобовыми | G48: =IFERROR(VLOOKUP(F48,[2]Реестр!A:K,2,0),"") -> 300 | H48: 250 | I48: 42 | J48: суп
A49: 17.37 | B49: 9.054 | C49: 30.789 | D49: 274.122 | E49: 9*17 | F49: Плов из птицы (бедро куриное) с куркумой | G49: =IFERROR(VLOOKUP(F49,[2]Реестр!A:K,2,0),"") | H49: 200 | I49: 87.64 | J49: горячее
A50: 0.2 | B50: 0 | C50: 13.7 | D50: 53 | E50: 11*56 | F50: Чай "Каркаде" с сахаром | G50: =IFERROR(VLOOKUP(F50,[2]Реестр!A:K,2,0),"") -> 200 | H50: 200 | I50: 4.38 | J50: гарнир
A51: 2.64 | B51: 0.24 | C51: 18.72 | D51: 89.6 | E51: - | F51: Хлеб вит. пшеничный | G51: =IFERROR(VLOOKUP(F51,[2]Реестр!A:K,2,0),"") -> 100 | H51: 40 | I51: 3.6 | J51: напиток
A52: 2.64 | B52: 0.48 | C52: 13.36 | D52: 77.2 | E52: - | F52: Хлеб вит. ржаной | G52: =IFERROR(VLOOKUP(F52,[2]Реестр!A:K,2,0),"") -> 100 | H52: 40 | I52: 3.6 | J52: хлеб пшеничный
J53: хлеб ржаной
A54: Итого за Комплекс | I54: =SUM(I41:I45,I47:I53) -> 271.59 | J54: 212.99 | K54: =I54-J54 -> 58.6
A55: Комплекс №4 Двухразовое питание 5-11 классы
A56: Завтрак
A57: =IFERROR(VLOOKUP(F57,[1]Реестр!A:K,3,0)*H57/G57,"") -> 5.08 | B57: =IFERROR(VLOOKUP(F57,[1]Реестр!A:K,4,0)*H57/G57,"") -> 11.55 | C57: =IFERROR(VLOOKUP(F57,[1]Реестр!A:K,5,0)*H57/G57,"") -> 9.97 | D57: =IFERROR(VLOOKUP(F57,[1]Реестр!A:K,6,0)*H57/G57,"") -> 164.15 | E57: =IFERROR(VLOOKUP(F57,[1]Реестр!A:K,11,0),"") -> 1*51 | F57: Бутерброд с сыром и маслом 20/15/10 | G57: =IFERROR(VLOOKUP(F57,[1]Реестр!A:K,2,0),"") -> 45 | H57: 45 | I57: 35.8 | J57: бутер
A58: 9.75 | B58: 12.14 | C58: 36.06 | D58: 291.64 | E58: 2*62 | F58: Каша молочная жидкая геркулесовая с маслом | G58: =IFERROR(VLOOKUP(F58,[1]Реестр!A:K,2,0),"") | H58: 250 | I58: 41.59 | J58: горячее
A59: =IFERROR(VLOOKUP(F59,[1]Реестр!A:K,3,0)*H59/G59,"") -> 0.2 | B59: =IFERROR(VLOOKUP(F59,[1]Реестр!A:K,4,0)*H59/G59,"") -> 0.12 | C59: =IFERROR(VLOOKUP(F59,[1]Реестр!A:K,5,0)*H59/G59,"") -> 11.44 | D59: =IFERROR(VLOOKUP(F59,[1]Реестр!A:K,6,0)*H59/G59,"") -> 46.4 | E59: =IFERROR(VLOOKUP(F59,[1]Реестр!A:K,11,0),"") -> 12*2 | F59: Соус из малины | G59: =IFERROR(VLOOKUP(F59,[1]Реестр!A:K,2,0),"") -> 100 | H59: 40 | I59: 23.41 | J59: соус/повидло
A60: =IFERROR(VLOOKUP(F60,[1]Реестр!A:K,3,0)*H60/G60,"") -> 3.6 | B60: =IFERROR(VLOOKUP(F60,[1]Реестр!A:K,4,0)*H60/G60,"") -> 2.7 | C60: =IFERROR(VLOOKUP(F60,[1]Реестр!A:K,5,0)*H60/G60,"") -> 22.9 | D60: =IFERROR(VLOOKUP(F60,[1]Реестр!A:K,6,0)*H60/G60,"") -> 127 | E60: =IFERROR(VLOOKUP(F60,[1]Реестр!A:K,11,0),"") -> 11*51 | F60: Какао с молоком | G60: =IFERROR(VLOOKUP(F60,[1]Реестр!A:K,2,0),"") -> 200 | H60: 200 | I60: 24.16 | J60: чай
A61: =IFERROR(VLOOKUP(F61,[1]Реестр!A:K,3,0)*H61/G61,"") -> 2.64 | B61: =IFERROR(VLOOKUP(F61,[1]Реестр!A:K,4,0)*H61/G61,"") -> 0.48 | C61: =IFERROR(VLOOKUP(F61,[1]Реестр!A:K,5,0)*H61/G61,"") -> 13.36 | D61: =IFERROR(VLOOKUP(F61,[1]Реестр!A:K,6,0)*H61/G61,"") -> 77.2 | E61: =IFERROR(VLOOKUP(F61,[1]Реестр!A:K,11,0),"") -> - | F61: Хлеб вит. ржаной | G61: =IFERROR(VLOOKUP(F61,[1]Реестр!A:K,2,0),"") -> 100 | H61: 40 | I61: 3.6 | J61: любая позиция
A62: Обед | J62: =IFERROR(VLOOKUP(O62,Реестр!#REF!,3,0)*Q62/P62,"")
A63: 14.01 | B63: 6.208 | C63: 12.072 | D63: 117.68389 | E63: 7*14 | F63: Салат из квашеной капусты с зеленью и раст.маслом | G63: =IFERROR(VLOOKUP(F63,[2]Реестр!A:K,2,0),"") | H63: 100 | I63: 27.91 | J63: салат
A64: 8.9166667 | B64: 7.75 | C64: 19.5 | D64: 185 | E64: 6*57 | F64: Суп картофельный с бобовыми | G64: =IFERROR(VLOOKUP(F64,[2]Реестр!A:K,2,0),"") -> 300 | H64: 250 | I64: 42 | J64: суп
A65: 21.7125 | B65: 11.3175 | C65: 38.48625 | D65: 342.6525 | E65: 9*17 | F65: Плов из птицы (бедро куриное) с куркумой | G65: =IFERROR(VLOOKUP(F65,[2]Реестр!A:K,2,0),"") | H65: 250 | I65: 109.55 | J65: горячее
A66: 0.2 | B66: 0 | C66: 13.7 | D66: 53 | E66: 11*56 | F66: Чай "Каркаде" с сахаром | G66: =IFERROR(VLOOKUP(F66,[2]Реестр!A:K,2,0),"") -> 200 | H66: 200 | I66: 4.38 | J66: гарнир
A67: 3.3 | B67: 0.3 | C67: 23.4 | D67: 112 | E67: - | F67: Хлеб вит. пшеничный | G67: =IFERROR(VLOOKUP(F67,[2]Реестр!A:K,2,0),"") -> 100 | H67: 50 | I67: 4.5 | J67: напиток
A68: 3.3 | B68: 0.6 | C68: 16.7 | D68: 96.5 | E68: - | F68: Хлеб вит. ржаной | G68: =IFERROR(VLOOKUP(F68,[2]Реестр!A:K,2,0),"") -> 100 | H68: 50 | I68: 4.5 | J68: хлеб белый
J69: хлеб ржаной
A70: Итого за Комплекс | I70: =SUM(I57:I61)+SUM(I63:I69) -> 321.4 | J70: 246.31 | K70: =J70-I70 -> -75.09
A71: Комплекс №5 5-11 классы
A72: 20.9 | B72: 3.6 | C72: 6.6 | D72: 114 | E72: 7*52 | F72: Горошек консервированный | G72: =IFERROR(VLOOKUP(F72,[1]Реестр!A:K,2,0),"") | H72: 30 | I72: 7.43
A73: 21.7125 | B73: 11.3175 | C73: 38.48625 | D73: 342.6525 | E73: 9*17 | F73: Плов из птицы (бедро куриное) с куркумой | G73: =IFERROR(VLOOKUP(F73,[2]Реестр!A:K,2,0),"") | H73: 250 | I73: 109.55
A74: 0.2 | B74: 0 | C74: 13.7 | D74: 53 | E74: 11*56 | F74: Чай "Каркаде" с сахаром | G74: =IFERROR(VLOOKUP(F74,[2]Реестр!A:K,2,0),"") -> 200 | H74: 200 | I74: 4.38
A75: 2.64 | B75: 0.24 | C75: 18.72 | D75: 89.6 | E75: - | F75: Хлеб вит. пшеничный | G75: =IFERROR(VLOOKUP(F75,[2]Реестр!A:K,2,0),"") -> 100 | H75: 40 | I75: 3.6
A76: 2.64 | B76: 0.48 | C76: 13.36 | D76: 77.2 | E76: - | F76: Хлеб вит. ржаной | G76: =IFERROR(VLOOKUP(F76,[2]Реестр!A:K,2,0),"") -> 100 | H76: 40 | I76: 3.6
A78: Итого за Комплекс | I78: =SUM(I72:I77) -> 128.56 | J78: 98.52 | L78: =J78-I78 -> -30.04
A79: Комплекс №6 Булочка 1-11 классы
A80: 7.7 | B80: 7.42 | C80: 32.09 | D80: 225.88 | E80: 13*10 | F80: Шаньга со сметаной | G80: =IFERROR(VLOOKUP(F80,[2]Реестр!A:K,2,0),"") | H80: 100 | I80: 42
A81: Итого за Комплекс | I81: =I80 -> 42 | J81: 29
A82: Комплекс №7 Суп 1-11 классы
A83: 8.9166667 | B83: 7.75 | C83: 19.5 | D83: 185 | E83: 6*57 | F83: Суп картофельный с бобовыми | G83: =IFERROR(VLOOKUP(F83,[2]Реестр!A:K,2,0),"") -> 300 | H83: 250 | I83: 42
A84: Итого за Комплекс | I84: =SUM(I83:I83) -> 42 | J84: 27
A85: Комплекс №9 5-11 Обед
A86: 14.01 | B86: 6.208 | C86: 12.072 | D86: 117.68389 | E86: 7*14 | F86: Салат из квашеной капусты с зеленью и раст.маслом | G86: =IFERROR(VLOOKUP(F86,[2]Реестр!A:K,2,0),"") | H86: 100 | I86: 27.91
A87: 8.9166667 | B87: 7.75 | C87: 19.5 | D87: 185 | E87: 6*57 | F87: Суп картофельный с бобовыми | G87: =IFERROR(VLOOKUP(F87,[2]Реестр!A:K,2,0),"") -> 300 | H87: 250 | I87: 42
A88: 21.7125 | B88: 11.3175 | C88: 38.48625 | D88: 342.6525 | E88: 9*17 | F88: Плов из птицы (бедро куриное) с куркумой | G88: =IFERROR(VLOOKUP(F88,[2]Реестр!A:K,2,0),"") | H88: 250 | I88: 109.55
A89: 0.2 | B89: 0 | C89: 13.7 | D89: 53 | E89: 11*56 | F89: Чай "Каркаде" с сахаром | G89: =IFERROR(VLOOKUP(F89,[2]Реестр!A:K,2,0),"") -> 200 | H89: 200 | I89: 4.38
A90: 3.3 | B90: 0.3 | C90: 23.4 | D90: 112 | E90: - | F90: Хлеб вит. пшеничный | G90: =IFERROR(VLOOKUP(F90,[2]Реестр!A:K,2,0),"") -> 100 | H90: 50 | I90: 4.5
A91: 3.3 | B91: 0.6 | C91: 16.7 | D91: 96.5 | E91: - | F91: Хлеб вит. ржаной | G91: =IFERROR(VLOOKUP(F91,[2]Реестр!A:K,2,0),"") -> 100 | H91: 50 | I91: 4.5
A93: Итого за Комплекс | I93: =SUM(I86:I92) -> 192.84 | J93: 147.79 | L93: =J93-I93 -> -45.05
A94: Комплекс №1 1-4 классы (меню для детей с сахарным диабетом)
A95: =IFERROR(VLOOKUP(F95,[1]Реестр!A:K,3,0)*H95/G95,"") -> 5.08 | B95: =IFERROR(VLOOKUP(F95,[1]Реестр!A:K,4,0)*H95/G95,"") -> 11.55 | C95: =IFERROR(VLOOKUP(F95,[1]Реестр!A:K,5,0)*H95/G95,"") -> 9.97 | D95: =IFERROR(VLOOKUP(F95,[1]Реестр!A:K,6,0)*H95/G95,"") -> 164.15 | E95: =IFERROR(VLOOKUP(F95,[1]Реестр!A:K,11,0),"") -> 1*51 | F95: Бутерброд с сыром и маслом 20/15/10 | G95: =IFERROR(VLOOKUP(F95,[1]Реестр!A:K,2,0),"") -> 45 | H95: 45 | I95: 108.64
A96: =IFERROR(VLOOKUP(F96,[1]Реестр!A:K,3,0)*H96/G96,"") -> 6.375 | B96: =IFERROR(VLOOKUP(F96,[1]Реестр!A:K,4,0)*H96/G96,"") -> 5.75 | C96: =IFERROR(VLOOKUP(F96,[1]Реестр!A:K,5,0)*H96/G96,"") -> 0.375 | D96: =IFERROR(VLOOKUP(F96,[1]Реестр!A:K,6,0)*H96/G96,"") -> 78.75 | E96: =IFERROR(VLOOKUP(F96,[1]Реестр!A:K,11,0),"") -> 4*57 | F96: Яйцо отварное 1 шт. | G96: =IFERROR(VLOOKUP(F96,[1]Реестр!A:K,2,0),"") -> 40 | H96: 50
A97: 8.2 | B97: 8.4 | C97: 36.2 | D97: 244 | E97: ="2/66 (МР 2.4.0162-19. 2.4.)" -> 2/66 (МР 2.4.0162-19. 2.4.) | F97: Каша жидкая геркулесовая с маслом без сахара | G97: =IFERROR(VLOOKUP(F97,[1]Реестр!A:K,2,0),"") -> 250 | H97: 200
A98: 4.03 | B98: 3.19 | C98: 6.87 | D98: 68.87885 | E98: ="11/72 (2014 № 11.8)" -> 11/72 (2014 № 11.8) | F98: Какао с молоком без сахара | G98: =IFERROR(VLOOKUP(F98,[1]Реестр!A:K,2,0),"") | H98: ="200" -> 200
A99: =IFERROR(VLOOKUP(F99,[1]Реестр!A:K,3,0)*H99/G99,"") -> 1.32 | B99: =IFERROR(VLOOKUP(F99,[1]Реестр!A:K,4,0)*H99/G99,"") -> 0.24 | C99: =IFERROR(VLOOKUP(F99,[1]Реестр!A:K,5,0)*H99/G99,"") -> 6.68 | D99: =IFERROR(VLOOKUP(F99,[1]Реестр!A:K,6,0)*H99/G99,"") -> 38.6 | E99: =IFERROR(VLOOKUP(F99,[1]Реестр!A:K,11,0),"") -> - | F99: Хлеб вит. ржаной | G99: =IFERROR(VLOOKUP(F99,[1]Реестр!A:K,2,0),"") -> 100 | H99: ="20" -> 20
A100: Итого за Комплекс | I100: =SUM(I95:I99) -> 108.64
A101: Комплекс №1 1-4 классы (безмолочное меню) | J101: 85.2 | L101: =J101-I101 -> 85.2
A102: =IFERROR(VLOOKUP(F102,[1]Реестр!A:K,3,0)*H102/G102,"") -> 6.375 | B102: =IFERROR(VLOOKUP(F102,[1]Реестр!A:K,4,0)*H102/G102,"") -> 5.75 | C102: =IFERROR(VLOOKUP(F102,[1]Реестр!A:K,5,0)*H102/G102,"") -> 0.375 | D102: =IFERROR(VLOOKUP(F102,[1]Реестр!A:K,6,0)*H102/G102,"") -> 78.75 | E102: =IFERROR(VLOOKUP(F102,[1]Реестр!A:K,11,0),"") -> 4*57 | F102: Яйцо отварное 1 шт. | G102: =IFERROR(VLOOKUP(F102,[1]Реестр!A:K,2,0),"") -> 40 | H102: 50 | I102: 108.64
A103: 7.23 | B103: 12.83 | C103: 34.92 | D103: 275.69061 | E103: ="2/73 (МР 2.4.0162-19 № 54-29к-2020)" -> 2/73 (МР 2.4.0162-19 № 54-29к-2020) | F103: Каша вязкая геркулесовая на воде с растительным маслом | G103: =IFERROR(VLOOKUP(F103,[1]Реестр!A:K,2,0),"") | H103: 200
A104: =IFERROR(VLOOKUP(F104,[1]Реестр!A:K,3,0)*H104/G104,"") -> 0.175 | B104: =IFERROR(VLOOKUP(F104,[1]Реестр!A:K,4,0)*H104/G104,"") -> 0.105 | C104: =IFERROR(VLOOKUP(F104,[1]Реестр!A:K,5,0)*H104/G104,"") -> 10.01 | D104: =IFERROR(VLOOKUP(F104,[1]Реестр!A:K,6,0)*H104/G104,"") -> 40.6 | E104: =IFERROR(VLOOKUP(F104,[1]Реестр!A:K,11,0),"") -> 12*2 | F104: Соус из малины | G104: =IFERROR(VLOOKUP(F104,[1]Реестр!A:K,2,0),"") -> 100 | H104: 35
...

Sheet 24
A1: Согласовано | F1: ООО "Комфорт" | H1: Согласовано
